Workbook
Name DKCO: #REF!
Name DKCO: #REF!
Name DKNO: #REF!
Name DKNO: #REF!
Name Donvi: #REF!
Name Donvi: #REF!
Name LM: #REF!
Name LM: #REF!
Name LN: #REF!
Name LN: #REF!
Name Taikhoan: #REF!
Name Taikhoan: #REF!
Name Taikhoan: #REF!
Name TaxTV: 10%
Name TaxXL: 5%
Name TK_BS: #REF!
Name TK_BS: #REF!
Name TK_PL: #REF!
Name TK_PL: #REF!
Name TK_TB: #REF!
Name TK_TB: #REF!
Name TKBS: #REF!
Name TKBS: #REF!
Name Ý_kiến: #REF!
Name Ý_kiến: #REF!
Name YKien: #REF!
Name YKien: #REF!
Name ZYX: #REF!
Name ZYX: #REF!
Name ZZZ: #REF!
Name ZZZ: #REF!

Sheet Tong quat
A1: Kỳ báo cáo: | C1: Tại ngày 31 tháng 12 năm 2022/As at 31 December 2022
C2: Từ ngày 01 tháng 01 năm 2022 tới ngày 31 tháng 12 năm 2022 / From 01 January 2022 to 31 December 2022
A4: Thông tin chung:
C5: Tên Quỹ: | D5: Quỹ Đầu tư cân bằng Bản Việt
C6: Fund name: | D6: Viet Capital Balanced Fund (VCAMBF)
C7: Tên Công ty quản lý quỹ: | D7: Công ty Cổ phần Quản lý Quỹ Đầu tư chứng khoán Bản Việt
C8: Fund Management Company: | D8: Viet Capital Asset Management Joint Stock Company
C9: Tên ngân hàng giám sát: | D9: Ngân hàng TMCP Đầu tư và Phát triển Việt Nam CN Nam Kỳ Khởi Nghĩa
C10: Supervising bank: | D10: Bank for Investment and Development of VietNam JSC - Nam Ky Khoi Nghia Branch
C11: Ngày lập báo cáo: | D11: Ngày 30 tháng 01 năm 2023
C12: Reporting Date: | D12: 44956
A14: Người ký báo cáo:
C16: Đại diện có thẩm quyền của Ngân hàng giám sát | F16: Đại diện có thẩm quyền của Công ty quản lý Quỹ
C17: Authorised Representative of Supervisory Bank | F17: Authorised Representative of Fund Management Company
C19: NH TMCP ĐT & PT Việt Nam CN Nam Kỳ Khởi Nghĩa | F19: Công ty CP Quản lý Quỹ Đầu tư chứng khoán Bản Việt
C20: Hoàng Văn Sơn | F20: Trương Thị Thanh Ngọc
C21: Phó giám đốc Chi nhánh | F21: Giám đốc quỹ
B34: STT | C34: Nội dung | E34: Tên sheet
B35: A | C35: BÁO CÁO CHUNG VỀ HOẠT ĐỘNG ĐẦU TƯ CỦA QUỸ
B36: 1 | C36: Báo cáo thu nhập | E36: BCThuNhap_06203
B37: 2 | C37: Báo cáo tình hình tài chính | E37: BCTinhHinhTaiChinh_06105
B38: 3 | C38: Báo cáo lưu chuyển tiền tệ | E38: BCLCGT_06262
B39: 4 | C39: Báo cáo tài sản | E39: BCTaiSan_06027
B40: 5 | C40: Baó cáo Kết quả hoạt động | E40: BCKetQuaHoatDong_06028
B41: 6 | C41: Baáo cáo Danh mục đầu tư | E41: BCDanhmucdautu_06029
B42: 7 | C42: Giá trị tài sản ròng | E42: GiaTriTaiSanRong_06129
B43: 8 | C43: Báo cáo hoạt động vay | E43: Bchoatdongvay_06026
B44: 9 | C44: Báo cáo chỉ tiêu khác | E44: Khac_06030
B45: 10 | C45: Thống kê phí giao dịch
B46: B | C46: BÁO CÁO TÌNH HÌNH TỰ DOANH ĐẦU TƯ GIÁN TIẾP RA NƯỚC NGOÀI CỦA QUỸ | E46: Không có
B49: Thống kê các Thuyết minh BCTC
D51: Có trình bày Y/N/O | E51: Nguyên nhân không trình bày
B52: 1/ | C52: Tiền gửi Ngân hàng | D52: Y
B53: 2/ | C53: Các khoản đầu tư | D53: Y
B54: 3/ | C54: Các khoản dự phòng | D54: O | E54: Chỉ có VF1 trình bày, các Quỹ khác không có khoản mục này không phải trình bày
B55: 4/ | C55: Vay ngắn hạn | D55: N | E55: Không có số dư không trình bày
B56: 5/ | C56: Phải trả mua các khoản đầu tư | D56: N | E56: Không có số dư không trình bày
B57: 6/ | C57: Phải trả các Đại lý phân phối, Công ty Quản lý quỹ về phí phát hành và mua lại Chứng chỉ quỹ | D57: N | E57: Trên báo cáo chính đã chi tiết theo từng khoản mục
B58: 7/ | C58: Thuế và các khoản phải nộp Nhà nước | D58: N | E58: Không bắt buộc, Quỹ chỉ có khoản mục thuế từ hoạt động mua bán CCQ và Thù lao BDD
B59: 8/ | C59: Phải trả thu nhập cho Nhà đầu tư | D59: N | E59: Quỹ nào có chia cổ tức mới trình bày
...

Sheet BCThuNhap_06203
A1: Mẫu số B01g - QM. Báo cáo thu nhập Template B01g - QM. Statement of Comprehensive Income
A2: (Ban hành kèm theo Thông tư 198/2012/TT-BTC ngày 15 tháng 11 năm 2012 về chế độ kế toán áp dụng đối với quỹ mở) (Issued in association with Circular 198/2012/TT-BTC dated 15 Nov 2012 on the Accounting Policies for Open-Ended Fund)
A3: BÁO CÁO THU NHẬP STATEMENT OF COMPREHENSIVE INCOME
A5: Năm 2022/ Year 2022
A7: Tên Quỹ: | B7: Quỹ Đầu tư cân bằng Bản Việt
A8: Fund name: | B8: Viet Capital Balanced Fund (VCAMBF)
A9: Tên Công ty quản lý quỹ: | B9: Công ty Cổ phần Quản lý Quỹ Đầu tư chứng khoán Bản Việt
A10: Fund Management Company: | B10: Viet Capital Asset Management Joint Stock Company
A11: Tên ngân hàng giám sát: | B11: Ngân hàng TMCP Đầu tư và Phát triển Việt Nam Chi nhánh Nam Kỳ Khởi Nghĩa
A12: Supervising bank: | B12: Bank for Investment and Development of VietNam JSC - Nam Ky Khoi Nghia Branch
A13: Ngày lập báo cáo: | B13: Ngày 30 tháng 01 năm 2023
A14: Reporting Date: | B14: 44956
A16: Chỉ tiêu Indicator | B16: Mã số Code | C16: Thuyết minh Note | D16: Năm 2022 Year 2022 | E16: Năm 2021 Year 2021
A17: I. THU NHẬP, DOANH THU HOẠT ĐỘNG ĐẦU TƯ Investment income | B17: 01 | D17: -19093606999 | E17: 30315204423
A18: 1.1. Cổ tức, trái tức được chia Dividend, bond interest received | B18: 02 | D18: 1754103945 | E18: 1744027794
A19: Cổ tức được nhận Dividend received | B19: 02.1 | D19: 1209829972 | E19: 1404720528
A20: Trái tức được nhận Coupon received | B20: 02.2 | D20: 544273973 | E20: 339307266
A21: 1.2. Tiền lãi được nhận Interest income | B21: 03 | D21: 1593692656 | E21: 1074305829
A22: Tiền lãi tiền gửi được nhận Bank Deposit Interest received | B22: 03.1 | D22: 1467117314 | E22: 1074305829
A23: Lãi chứng chỉ tiền gửi Interest income from Certificate of Deposit | B23: 03.2 | D23: 126575342 | E23: 0
A24: 1.3. Lãi (lỗ) bán các khoản đầu tư Realized gain (losses) from disposal investments | B24: 04 | D24: 2118817045 | E24: 16082336009
A25: 1.4. Chênh lệch tăng, giảm đánh giá lại các khoản đầu tư chưa thực hiện Unrealized gain (losses) from investment revaluation | B25: 05 | D25: -24560220645 | E25: 11414534791
A26: 1.5. Doanh thu khác Other income | B26: 06 | D26: 0 | E26: 0
A27: 1.6. Chênh lệch lãi, lỗ tỷ giá hối đoái đã và chưa thực hiện Realized and unrealized gain (losses) from foreign exchange | B27: 07 | D27: 0 | E27: 0
A28: 1.7. Doanh thu khác về đầu tư Other investment income | B28: 08 | D28: 0 | E28: 0
... A31: 2.1. Chi phí giao dịch mua, bán các khoản đầu tư Expense for purchasing and selling investments | B31: 11 | D31: 272536710 | E31: 324576718
A32: Phí môi giới Brokerage fee | B32: 11.1 | D32: 272536710 | E32: 324576718
A33: Chi phí thanh toán bù trừ Clearing settlement fee | B33: 11.2 | D33: 0 | E33: 0
A34: 2.2. Chi phí dự phòng nợ phải thu khó đòi và xử lý tổn thất phải thu khó đòi Provision expense | B34: 12 | D34: 0 | E34: 0
A35: 2.3. Chi phí lãi vay Borrowing interest expense | B35: 13 | D35: 0 | E35: 0
A36: 2.4. Chi phí dự phòng giảm giá tài sản nhận thế chấp và xử lý tổn thất các khoản đầu tư cho vay có tài sản nhận thế chấp Impairment expense for devaluation of assets received as pledge | B36: 14 | D36: 0 | E36: 0
A37: 2.5. Chi phí đầu tư khác Other investments expense | B37: 15 | D37: 0 | E37: 0
A38: III. CHI PHÍ HOẠT ĐỘNG CỦA QUỸ OPERATING EXPENSE | B38: 20 | D38: 2098116471 | E38: 1841530987
A39: 3.1. Phí quản lý Quỹ mở Management fee | B39: 20.1 | D39: 1161009255 | E39: 906572973
A40: 3.2. Phí dịch vụ lưu ký tài sản Quỹ mở Custodian fee | B40: 20.2 | D40: 304506991 | E40: 317043180
A41: Phí dịch vụ lưu ký - bảo quản tài sản Custodian service - Custody Fee | B41: 20.2.1 | D41: 240000000 | E41: 240000000
A42: Phí dịch vụ lưu ký - giao dịch chứng khoán Custodian service - Transaction fee | B42: 20.2.2 | D42: 58731589 | E42: 71348450
A43: Phí dịch vụ lưu ký - phí VSD Custodian service - VSD fee | B43: 20.2.3 | D43: 5775402 | E43: 5694730
A44: 3.3. Phí dịch vụ giám sát Supervising fee | B44: 20.3 | D44: 66000000 | E44: 66000000
A45: 3.4. Phí dịch vụ quản trị Quỹ mở Fund administrative fee | B45: 20.4 | D45: 198000000 | E45: 198000000
...

Sheet BCTinhHinhTaiChinh_06105
A1: Mẫu số B02g - QM. Báo cáo tình hình tài chính Template B02g - QM. Statement of Financial Position
A2: (Ban hành kèm theo Thông tư 198/2012/TT-BTC ngày 15 tháng 11 năm 2012 về chế độ kế toán áp dụng đối với quỹ mở) (Issued in association with Circular 198/2012/TT-BTC dated 15 Nov 2012 on the Accounting Policies for Open-Ended Fund)
A3: BÁO CÁO TÌNH HÌNH TÀI CHÍNH STATEMENT OF FINANCIAL POSITION
A5: Tại 31 tháng 12 năm 2022/As at 31 December 2022
A7: Tên Quỹ: | B7: Quỹ Đầu tư cân bằng Bản Việt
A8: Fund name: | B8: Viet Capital Balanced Fund (VCAMBF)
A9: Tên Công ty quản lý quỹ: | B9: Công ty Cổ phần Quản lý Quỹ Đầu tư chứng khoán Bản Việt
A10: Fund Management Company: | B10: Viet Capital Asset Management Joint Stock Company
A11: Tên ngân hàng giám sát: | B11: Ngân hàng TMCP Đầu tư và Phát triển Việt Nam Chi nhánh Nam Kỳ Khởi Nghĩa
A12: Supervising bank: | B12: Bank for Investment and Development of VietNam JSC - Nam Ky Khoi Nghia Branch
A13: Ngày lập báo cáo: | B13: =BCThuNhap_06203!B13 -> Ngày 30 tháng 01 năm 2023
A14: Reporting Date: | B14: =BCThuNhap_06203!B14 -> 44956
A16: Chỉ tiêu Indicator | B16: Mã số Code | C16: Thuyết minh Note | D16: Ngày 31 tháng 12 năm 2022 As at 31 December 2022 | E16: Ngày 31 tháng 12 năm 2021 As at 31 December 2021 | I16: Ngày 28 tháng 02 năm 2019 As at 28 February 2019
A17: I. TÀI SẢN ASSETS
A18: 1.Tiền gửi ngân hàng và tương đương tiền Cash at bank and cash equivalent | B18: 110 | D18: 16164663074 | E18: 22891611972 | I18: 29799258648 | J18: 729768413
A19: 1.1. Tiền gửi ngân hàng cho hoạt động của Quỹ mở Cash at bank for Fund's operation | B19: 111 | D19: 16164663074 | E19: 5656890237 | I19: 9361428215 | J19: 611101479
A20: Tiền gửi của nhà đầu tư cho hoạt động mua chứng chỉ quỹ Cash at bank for Fund's subscription | B20: 111.1 | D20: 0 | E20: 4000000
A21: Tiền phải trả cho Nhà đầu tư về mua lại chứng chỉ quỹ Cash at bank for Fund's redemption | B21: 111.2 | D21: 0 | E21: 0
A22: Tiền gửi ngân hàng cho hoạt động của Quỹ Cash at bank for Fund's operation | B22: 111.3 | D22: 16164663074 | E22: 5652890237
A23: 1.2. Tiền gửi có kỳ hạn dưới 3 tháng Term deposit less than 3 months | B23: 112 | D23: 0 | E23: 17234721735 | I23: 20437830433 | J23: 118666934
A24: 2. Các khoản đầu tư thuần Investment | B24: 120 | D24: 76447860698 | E24: 92688070600 | I24: 46113652000 | J24: -267466000
A25: 2.1. Các khoản đầu tư Investments | B25: 121 | D25: 76447860698 | E25: 92688070600 | I25: 46113652000 | J25: -267466000
A26: Cổ phiếu niêm yết Listed shares | B26: 121.1 | D26: 51879766700 | E26: 71084739100 | I26: 43113652000 | J26: -267466000
A27: Cổ phiếu chưa niêm yết Unlisted shares | B27: 121.2 | D27: 0 | E27: 0 | I27: 0
A28: Trái phiếu Bonds | B28: 121.3 | D28: 0 | E28: 7000000000 | I28: 0 | J28: 0
A29: Hợp đồng tiền gửi có kỳ hạn trên ba (03) tháng Deposit with term over three (03) months | B29: 121.4 | D29: 17568093998 | E29: 14603331500 | I29: 3000000000 | J29: 0
A30: Chứng chỉ tiền gửi ghi danh Registered Deposit Certificate | B30: 121.5 | D30: 7000000000 | E30: 0 | I30: 0 | J30: 0
A31: Quyền mua chứng khoán Investments - Rights | B31: 121.6 | D31: 0 | E31: 0 | I31: 0 | J31: 0
A32: 2.2. Dự phòng giảm giá tài sản nhận thế chấp Impairment of devaluation of assets as pledge | B32: 122 | D32: 0 | E32: 0 | I32: 0 | J32: 0
A33: 3. Các khoản phải thu Receivables | B33: 130 | D33: 1364855818 | E33: 3163830187 | I33: 473787186 | J33: -61449754
A34: 3.1 Phải thu về bán các khoản đầu tư Receivables from investments sold but not yet settled | B34: 131 | D34: 804791000 | E34: 2501342350 | I34: 285571000 | J34: -58238511
A35: 3.2. Phải thu và dự thu cổ tức, tiền lãi các khoản đầu tư Dividend and interest receivables | B35: 133 | D35: 560064818 | E35: 662487837 | I35: 188216186 | J35: -3211243
A36: Phải thu cổ tức, tiền lãi đến ngày nhận Dividend and interest receivables | B36: 134 | D36: 0 | E36: 0 | I36: 0 | J36: 0
A37: Trong đó: Phải thu khó đòi về cổ tức, tiền lãi đến ngày nhận nhưng chưa nhận được In which: Overdue receivables from dividend, interest income | B37: 135 | D37: 0 | E37: 0 | J37: 0
A38: Dự thu cổ tức, tiền lãi chưa đến ngày nhận Accrual dividend, interest income | B38: 136 | D38: 560064818 | E38: 662487837 | I38: 188216186 | J38: -3211243
A39: Phải thu cổ tức Dividend receivable | B39: 136.1 | D39: 204000000 | E39: 81068800 | I39: 0 | J39: 0
A40: Phải thu lãi tiền gửi có kỳ hạn Interest receivable from term deposit | B40: 136.2 | D40: 229489476 | E40: 283391640 | I40: 188216186 | J40: -3211243
A41: Phải thu lãi chứng chỉ tiền gửi ghi danh Interest receivable from registered Deposit Certificate | B41: 136.3 | D41: 126575342 | E41: 0 | I41: 0 | J41: 0
A42: Phải thu trái tức Coupond receivable | B42: 136.4 | D42: 0 | E42: 298027397 | I42: 0 | J42: 0
A43: Phải thu lãi hợp đồng mua lại đảo ngược Interest receivable from reverse repo contract | B43: 136.5 | D43: 0 | E43: 0 | I43: 0 | J43: 0
...

Sheet BCLCGT_06262
A1: Mẫu số B02g - QM. Báo cáo tình hình tài chính Template B02g - QM. Statement of Financial Position
A2: (Ban hành kèm theo Thông tư 198/2012/TT-BTC ngày 15 tháng 11 năm 2012 về chế độ kế toán áp dụng đối với quỹ mở) (Issued in association with Circular 198/2012/TT-BTC dated 15 Nov 2012 on the Accounting Policies for Open-Ended Fund)
A3: BÁO CÁO LƯU CHUYỂN TIỀN TỆ CASH FLOW (INDIRECT)
A5: =BCThuNhap_06203!A5 -> Năm 2022/ Year 2022
A7: Tên Quỹ: | B7: Quỹ Đầu tư cân bằng Bản Việt
A8: Fund name: | B8: Viet Capital Balanced Fund (VCAMBF)
A9: Tên ngân hàng giám sát: | B9: NH TMCP ĐT và PT Việt Nam CN Nam Kỳ Khởi Nghĩa
A10: Supervising bank: | B10: Bank for Investment and Development of VietNam JSC - Nam Ky Khoi Nghia Branch
A11: Tên Công ty quản lý quỹ: | B11: Công ty Cổ phần Quản lý Quỹ Đầu tư chứng khoán Bản Việt
A12: Fund Management Company: | B12: Viet Capital Asset Management Joint Stock Company
A13: Ngày lập báo cáo: | B13: =BCThuNhap_06203!B13 -> Ngày 30 tháng 01 năm 2023
A14: Reporting Date: | B14: =BCThuNhap_06203!B14 -> 44956
A16: Chỉ tiêu Indicator | B16: Mã số Code | C16: Thuyết minh Note | D16: Năm 2022 Year 2022 | E16: Năm 2021 Year 2021
A17: I. Lưu chuyển tiền từ hoạt động đầu tư Cash flow from investing activities | B17: I
A18: 1. Lợi nhuận trước Thuế thu nhập doanh nghiệp Profit before income tax | B18: 01 | D18: =BCThuNhap_06203!D71 -> -21464260180 | E18: 28149096718
A19: 2. Điều chỉnh cho các khoản tăng giá trị tài sản ròng từ các hoạt động đầu tư Adjustment for NAV increase from investing activities | B19: 02 | D19: =D20+D21 -> 24560220645 | E19: -11414534791
A20: (- lãi) hoặc (+ lỗ) chênh lệch tỷ giá hối đoái/ đánh giá lại các khoản đầu tư chưa thực hiện Unreliased Gain or (Loss) from FX valuation/Investment revaluation | B20: 03 | D20: =+IF(BCThuNhap_06203!D69>0,-BCThuNhap_06203!D69,-BCThuNhap_06203!D69) -> 24560220645 | E20: -11414534791
A21: (+) chi phí trích trước Increase of Accrued Expenses | B21: 04 | D21: 0 | E21: 0
A22: 3. Lợi nhuận từ hoạt động đầu tư trước thay đổi vốn lưu động Profit from investing activities before changes in working capital | B22: 05 | D22: =+D18+D19 -> 3095960465 | E22: 16734561927
A23: (-) Tăng (+) giảm đầu tư (Increase), Decrease Investments | B23: 20 | D23: =+IF((BCTaiSan_06027!D26-BCTaiSan_06027!E26+BCLCGT_06262!D20)>0,-(BCTaiSan_06027!D26-BCTaiSan_06027!E26+BCLCGT_06262!D20),-(BCTaiSan_06027!D26-BCTaiSan_06027!E26+BCLCGT_06262!D20)) -> -8320010743 | E23: -16639547896
A24: (-) Tăng, (+) giảm phải thu bán chứng khoán đầu tư (Increase), Decrease in Receivables from investments sold but not yet settled | B24: 06 | D24: =+IF((BCTaiSan_06027!D39-BCTaiSan_06027!E39)>0,-(BCTaiSan_06027!D39-BCTaiSan_06027!E39),-(BCTaiSan_06027!D39-BCTaiSan_06027!E39)) -> 1696551350 | E24: 1437524474
A25: (-) Tăng, (+) giảm dự thu phải thu tiền lãi các khoản đầu tư (Increase), Decrease in Dividend and interest receivables | B25: 07 | D25: =-(BCTaiSan_06027!D33+BCTaiSan_06027!D36-BCTaiSan_06027!E33-BCTaiSan_06027!E36) -> 102423019 | E25: -455986901
A26: (-) Tăng, (+) giảm các khoản phải thu khác (Increase), Decrease in other receivables | B26: 08 | D26: 0 | E26: 0
A27: (+) Tăng, (-) giảm vay ngắn hạn Increase, (Decrease) in Short term Loans | B27: 09 | D27: 0 | E27: 0
A28: (+) Tăng, (-) giảm phải trả cho người bán (Decrease), Increase in payables for securities purchased but not yet settled | B28: 10 | D28: =+BCTaiSan_06027!D44-BCTaiSan_06027!E44 -> -649132240 | E28: -3311660050
A29: (+) Tăng, (-) giảm phải trả các Đại lý phân phối Chứng chỉ quỹ, Công ty Quản lý Quỹ (Decrease)/increase in subscription and redemption fee payable to distributors and Fund Management Company | B29: 11 | D29: =+BCTaiSan_06027!D49-BCTaiSan_06027!E49 -> -9125500 | E29: 10015716
A30: (+) Tăng, (-) giảm phải trả thu nhập cho Nhà đầu tư Increase, (Decrease) profit distribution payables | B30: 12 | D30: =+BCTaiSan_06027!D50-BCTaiSan_06027!E50 -> 0 | E30: 81978
A31: (+) Tăng, (-) giảm Thuế và các khoản phải nộp Nhà nước Increase, (Decrease) Tax payables and obligations to the State Budget | B31: 13 | D31: =+BCTaiSan_06027!D48-BCTaiSan_06027!E48 -> -583117 | E31: 611892
A32: (+) Tăng, (-) giảm phải trả cho Nhà đầu tư về mua Chứng chỉ quỹ Increase, (Decrease) Subscription Suspense Payable | B32: 14 | D32: =+BCTaiSan_06027!D47-BCTaiSan_06027!E47 -> -4000000 | E32: 4000000
A33: (+) Tăng, (-) giảm phải trả cho Nhà đầu tư về mua lại Chứng chỉ quỹ Increase, (Decrease) Redemption payable | B33: 15 | D33: =+BCTaiSan_06027!D46-BCTaiSan_06027!E46 -> 15575328027 | E33: 617248553
A34: (+) Tăng, (-) giảm phải trả, phải nộp khác Increase, (Decrease) Other payables | B34: 16 | D34: =+BCTinhHinhTaiChinh_06105!D53-BCTinhHinhTaiChinh_06105!E53 -> 7000000 | E34: 10000000
A35: (+) Tăng, (-) giảm Phải trả dịch vụ quản lý Quỹ mở Increase, (Decrease) Fund management related service expense payable | B35: 17 | D35: =+BCTinhHinhTaiChinh_06105!D63-BCTinhHinhTaiChinh_06105!E63 -> 5134648 | E35: 25844196
A36: (+) Tăng, (-) giảm Thuế Thu nhập doanh nghiệp đã nộp Increase, (Decrease) Income Tax Payment | B36: 18 | D36: 0 | E36: 0
A37: Lưu chuyển tiền thuần từ hoạt động đầu tư (1+2+3) Net Cash flow from Investing activities | B37: 19 | D37: =+D22+D23+D24+D25+D28+D29+D30+D31+D34+D35+D33+D32 -> 11499545909 | E37: -1567306111
A38: II. Lưu chuyển tiền từ hoạt động tài chính Cash flow from financing activities | B38: II
A39: 1. Tiền thu từ phát hành Chứng chỉ quỹ mở Receipts from subscriptions | B39: 31 | D39: =BCKetQuaHoatDong_06028!D64 -> 1588839857 | E39: 26301224524
A40: 2. Tiền chi mua lại Chứng chỉ quỹ mở Payments for redemptions | B40: 32 | D40: =BCKetQuaHoatDong_06028!D65 -> -19815334664 | E40: -17453274802
A41: 3. Tiền vay gốc Principal of Loans | B41: 33 | D41: 0 | E41: 0
A42: 4. Tiền chi trả nợ gốc vay Payment of Principal loans | B42: 34 | D42: 0 | E42: 0
A43: 5. Tiền chi trả cổ tức, tiền lãi cho nhà đầu tư Dividend, profit distribution payment | B43: 35 | D43: 0 | E43: -3349604890
...

Sheet BCTaiSan_06027
A1: Phụ lục XXVI. Mẫu báo cáo về hoạt động của Quỹ Appendix XXVI. Report on Fund's Operation | H1: ok
A2: (Ban hành kèm theo Thông tư số 98/2020/TT-BTC ngày 16 tháng 11 năm 2020 của Bộ trưởng Bộ Tài Chính về hướng dẫn hoạt động và quản lý quỹ đầu tư chứng khoán (Issued in association with Circular 98/2020/TT-BTC dated 16 November 2020 of the Minister of Finance on guiding the operation and management of the securities investment funds
A3: BÁO CÁO HOẠT ĐỘNG ĐẦU TƯ CỦA QUỸ MỞ REPORT ON FUND'S INVESTMENT ACTIVITIES
A5: =BCTinhHinhTaiChinh_06105!A5 -> Tại 31 tháng 12 năm 2022/As at 31 December 2022
A7: Tên Quỹ: | C7: Quỹ Đầu tư cân bằng Bản Việt
A8: Fund name: | C8: Viet Capital Balanced Fund (VCAMBF)
A9: Tên Công ty quản lý quỹ: | C9: Công ty Cổ phần Quản lý Quỹ Đầu tư chứng khoán Bản Việt
A10: Fund Management Company: | C10: Viet Capital Asset Management Joint Stock Company
A11: Tên ngân hàng giám sát: | C11: Ngân hàng TMCP Đầu tư và Phát triển Việt Nam CN Nam Kỳ Khởi Nghĩa
A12: Supervising bank: | C12: Bank for Investment and Development of VietNam JSC - Nam Ky Khoi Nghia Branch
A13: Ngày lập báo cáo: | C13: =BCThuNhap_06203!B13 -> Ngày 30 tháng 01 năm 2023
A14: Reporting Date: | C14: =BCThuNhap_06203!B14 -> 44956
A15: A. | B15: BÁO CÁO CHUNG VỀ HOẠT ĐỘNG ĐẦU TƯ CỦA QUỸ/GENERAL INFORMATION ON FUND'S INVESTMENT ACTIVITIES
A16: I | B16: BÁO CÁO TÀI SẢN CỦA QUỸ / ASSET REPORT
A17: STT No | B17: Nội dung Indicator | C17: Mã chỉ tiêu Code | D17: Ngày 31 tháng 12 năm 2022 As at 31 December 2022 | E17: Ngày 31 tháng 12 năm 2021 As at 31 December 2021 | F17: %/cùng kỳ năm trước %/against last year | K17: Ngày 30 tháng 04 năm 2018 As at 30 Apr 2018
A18: I | B18: TÀI SẢN ASSETS | C18: 2200 | E18: 0 | K18: 0
A19: I.1 | B19: Tiền và các khoản tương đương tiền Cash and Cash Equivalents | C19: 2201 | D19: 16164663074 | E19: 22891611972 | F19: 70.613913 | K19: 18924296298
B20: Tiền Cash | C20: 2202 | D20: 0 | E20: 0 | F20: 0 | K20: 0
B21: Tiền gửi ngân hàng Cash at Bank | C21: 2203 | D21: 16164663074 | E21: 5656890237 | F21: 285.75175 | K21: 10834088082
B22: Tiền gửi của nhà đầu tư cho hoạt động mua chứng chỉ quỹ Cash at bank for Fund's subscription | C22: 2203.1 | D22: 0 | E22: 4000000 | F22: 0
B23: Tiền phải trả cho Nhà đầu tư về mua lại chứng chỉ quỹ Cash at bank for Fund's redemption | C23: 2203.2 | D23: 0 | E23: 0 | F23: 0
B24: Tiền gửi ngân hàng cho hoạt động của Quỹ Cash at bank for Fund's operation | C24: 2203.3 | D24: 16164663074 | E24: 5652890237 | F24: 291.32132
B25: Các khoản tương đương tiền Cash Equivalents | C25: 2204 | D25: 0 | E25: 17234721735 | F25: 0 | K25: 8090208216
A26: I.2 | B26: Các khoản đầu tư (kê chi tiết) Investments | C26: 2205 | D26: 76447860698 | E26: 92688070600 | F26: 82.478641 | K26: 54380270000
B27: Cổ phiếu niêm yết Listed shares | C27: 2205.01 | D27: 51879766700 | E27: 71084739100 | F27: 72.982988 | K27: 54104270000
B28: Cổ phiếu chưa niêm yết Unlisted shares | C28: 2205.02 | D28: 0 | E28: 0 | F28: 0 | K28: 0
B29: Trái phiếu Bonds | C29: 2205.03 | D29: 0 | E29: 7000000000 | F29: 0 | K29: 0
B30: Hợp đồng tiền gửi có kỳ hạn quá ba (03) tháng Deposit with term over three (03) months | C30: 2205.04 | D30: 17568093998 | E30: 14603331500 | F30: 120.30196 | K30: 0
B31: Chứng chỉ tiền gửi ghi danh Registered Deposit Certificate | C31: 2205.05 | D31: 7000000000 | E31: 0 | F31: 0 | K31: 0
B32: Quyền mua chứng khoán Investments - Rights | C32: 2205.06 | D32: 0 | E32: 0 | F32: 0 | K32: 276000000
A33: I.3 | B33: Cổ tức, trái tức được nhận Dividend, Coupon Receivables | C33: 2206 | D33: 204000000 | E33: 379096197 | F33: 53.812199 | K33: 182000000
B34: Cổ tức được nhận Dividend receivables | C34: 2206.1 | D34: 204000000 | E34: 81068800 | F34: 251.63811
B35: Trái tức được nhận Coupon Receivables | C35: 2206.2 | D35: 0 | E35: 298027397 | F35: 0
A36: I.4 | B36: Lãi được nhận Interest Receivables | C36: 2207 | D36: 356064818 | E36: 283391640 | F36: 125.64408 | K36: 31954902
B37: Phải thu lãi tiền gửi có kỳ hạn Interest receivable from term deposit | C37: 2207.1 | D37: 229489476 | E37: 283391640 | F37: 80.979621 | K37: 31954902
B38: Phải thu lãi chứng chỉ tiền gửi ghi danh Interest receivable from registered Deposit Certificate | C38: 2207.2 | D38: 126575342 | E38: 0 | F38: 0 | K38: 0
A39: I.5 | B39: Tiền bán chứng khoán chờ thu Securities Trading Receivables | C39: 2208 | D39: 804791000 | E39: 2501342350 | F39: 32.174364 | K39: 838678093
A40: I.6 | B40: Các khoản phải thu khác Other Receivables | C40: 2210 | D40: 0 | E40: 0 | F40: 0 | K40: 0
A41: I.7 | B41: Các tài sản khác Other Assets | C41: 2211 | D41: 0 | E41: 0 | F41: 0 | H41: checking | K41: 0
A42: I.8 | B42: TỔNG TÀI SẢN TOTAL ASSETS | C42: 2212 | D42: 93977379590 | E42: 118743512759 | F42: 79.14317 | H42: 77161857907 | I42: 76787550493 | K42: 74357199293
...

Sheet BCKetQuaHoatDong_06028
A1: Phụ lục XXVI. Mẫu báo cáo về hoạt động của Quỹ Appendix XXVI. Report on Fund's Operation
A2: (Ban hành kèm theo Thông tư số 98/2020/TT-BTC ngày 16 tháng 11 năm 2020 của Bộ trưởng Bộ Tài Chính về hướng dẫn hoạt động và quản lý quỹ đầu tư chứng khoán (Issued in association with Circular 98/2020/TT-BTC dated 16 November 2020 of the Minister of Finance on guiding the operation and management of the securities investment funds
A3: BÁO CÁO HOẠT ĐỘNG ĐẦU TƯ CỦA QuỸ MỞ REPORT ON FUND'S INVESTMENT ACTIVITIES
A5: =BCThuNhap_06203!A5 -> Năm 2022/ Year 2022
A7: Tên Quỹ: | C7: Quỹ Đầu tư cân bằng Bản Việt
A8: Fund name: | C8: Viet Capital Balanced Fund (VCAMBF)
A9: Tên Công ty quản lý quỹ: | C9: Công ty Cổ phần Quản lý Quỹ Đầu tư chứng khoán Bản Việt
A10: Fund Management Company: | C10: Viet Capital Asset Management Joint Stock Company
A11: Tên ngân hàng giám sát: | C11: Ngân hàng TMCP Đầu tư và Phát triển Việt Nam Chi nhánh Nam Kỳ Khởi Nghĩa
A12: Supervising bank: | C12: Bank for Investment and Development of VietNam JSC - Nam Ky Khoi Nghia Branch
A13: Ngày lập báo cáo: | C13: =BCThuNhap_06203!B13 -> Ngày 30 tháng 01 năm 2023
A14: Reporting Date: | C14: =BCThuNhap_06203!B14 -> 44956
A15: A. | B15: BÁO CÁO CHUNG VỀ HOẠT ĐỘNG ĐẦU TƯ CỦA QUỸ/GENERAL INFORMATION ON FUND'S INVESTMENT ACTIVITIES
A16: II | B16: BÁO CÁO KẾT QUẢ HOẠT ĐỘNG / PROFIT AND LOSS REPORT
A17: STT No | B17: Chỉ tiêu Indicator | C17: Mã chỉ tiêu Code | D17: Năm 2022 Year 2022 | E17: Năm 2021 Year 2021 | F17: Lũy kế từ đầu năm Accumulated from beginning of year
A18: I | B18: Thu nhập từ hoạt động đầu tư Income from Investment Activities | C18: 2220 | D18: 3347796601 | E18: 2818333623 | F18: 3347796601 | P18: 2220
A19: 1 | B19: Cổ tức, trái tức được nhận Dividend, Coupon received | C19: 2221 | D19: 1754103945 | E19: 1744027794 | F19: 1754103945 | P19: 2221
B20: Cổ tức được nhận Dividend received | C20: 2221.1 | D20: 1209829972 | E20: 1404720528 | F20: 1209829972
B21: Trái tức được nhận Coupon received | C21: 2221.2 | D21: 544273973 | E21: 339307266 | F21: 544273973
A22: 2 | B22: Lãi được nhận Income from Interest | C22: 2222 | D22: 1593692656 | E22: 1074305829 | F22: 1593692656 | P22: 2222
A23: 3 | B23: Các khoản thu nhập khác Other income | C23: 2223 | D23: 0 | E23: 0 | F23: 0 | P23: 2223
A24: II | B24: Chi phí Expense | C24: 2224 | D24: 2370653181 | E24: 2166107705 | F24: 2370653181 | P24: 2224
A25: 1 | B25: Chi phí quản lý trả cho Công ty quản lý quỹ Management Fee paid to Fund Management Company | C25: 2225 | D25: 1161009255 | E25: 906572973 | F25: 1161009255 | P25: 2225
A26: 2 | B26: Chi phí lưu ký, giám sát trả cho Ngân hàng Giám sát/VSD Custody fee, Supervising fee paid to Supervising Bank/VSD | C26: 2226 | D26: 370506991 | E26: 383043180 | F26: 370506991 | P26: 2226
B27: Phí dịch vụ lưu ký - bảo quản tài sản Custodian service - Custody Fee | C27: 2226.1 | D27: 240000000 | E27: 240000000 | F27: 240000000 | P27: 2226.1
B28: Phí dịch vụ lưu ký - giao dịch chứng khoán Custodian service - Transaction fee | C28: 2226.2 | D28: 58731589 | E28: 71348450 | F28: 58731589 | P28: 2226.2
B29: Phí dịch vụ lưu ký tại VSD Custodian fee at VSD | C29: 2226.3 | D29: 5775402 | E29: 5694730 | F29: 5775402 | P29: 2226.3
B30: Phí giám sát Supervisory fee | C30: 2226.4 | D30: 66000000 | E30: 66000000 | F30: 66000000 | P30: 2226.4
A31: 3 | B31: Chi phí dịch vụ quản trị quỹ, chi phí dịch vụ đại lý chuyển nhượng và các chi phí khác mà công ty quản lý quỹ trả cho tổ chức cung cấp dịch vụ có liên quan Fund Administration Fee, Transfer Agency Fee, and other fee paid to relevant Fund's service providers | C31: 2227 | D31: 330000000 | E31: 331100000 | F31: 330000000 | P31: 2227
B32: Chi phí dịch vụ quản trị Quỹ Fund Administration Fee | C32: 2227.1 | D32: 198000000 | E32: 198000000 | F32: 198000000 | P32: 2227.1
B33: Chi phí dịch vụ Đại lý Chuyển nhượng Transfer Agency Fee | C33: 2227.2 | D33: 132000000 | E33: 133100000 | F33: 132000000 | P33: 2227.2
A34: 4 | B34: Chi phí kiểm toán trả cho tổ chức kiểm toán Audit fee | C34: 2228 | D34: 147000000 | E34: 135000000 | F34: 147000000 | P34: 2228
A35: 5 | B35: Chi phí dịch vụ tư vấn pháp lý, dịch vụ báo giá và các dịch vụ hợp lý khác, thù lao trả cho ban đại diện quỹ Legal consultancy expenses, price quotation fee, other valid expenses, remuneration payable to fund representative board | C35: 2229 | D35: 72000000 | E35: 72000000 | F35: 72000000 | P35: 2229
B36: Thù lao ban đại diện Quỹ Remuneration of Fund's Board of Representatives | C36: 2229.1 | D36: 72000000 | E36: 72000000 | F36: 72000000 | P36: 2229.1
B37: Chi phí cung cấp báo giá chứng khoán Price feed fee Expenses | C37: 2229.2 | D37: 0 | E37: 0 | F37: 0 | P37: 2229.2
A38: 6 | B38: Chi phí dự thảo, in ấn, gửi bản cáo bạch, bản cáo bạch tóm tắt, báo cáo tài chính, xác nhận giao dịch, sao kê tài khoản và các tài liệu khác cho nhà đầu tư; chi phí công bố thông tin của quỹ; chi phí tổ chức họp đại hội nhà đầu tư, ban đại diện quỹ Fee for drafting, printing, distribution of prospectus, summarised propectus, financial statements, transaction confirmations, account statements and other documents to investors; information disclosure fee; fee for organising annual general meeting, board of representatives meeting | C38: 2230 | D38: 0 | E38: 0 | F38: 0 | P38: 2230
B39: Chi phí họp Đại hội Quỹ Meeting expense | C39: 2230.1 | D39: 0 | E39: 0 | F39: 0 | P39: 2230.1
B40: Phí báo cáo thường niên Annual report expense | C40: 2230.2 | D40: 0 | E40: 0 | F40: 0 | P40: 2230.2
B41: Chi phí họp, công tác của ban đại diện Fund's Board of Representatives meeting, travelling expense | C41: 2230.3 | D41: 0 | E41: 0 | F41: 0 | P41: 2230.3
B42: Chi phí công bố thông tin của Quỹ Expenses for information disclosure of the Fund | C42: 2230.4 | D42: 0 | E42: 0 | F42: 0 | P42: 2230.4
...

Sheet BCDanhMucDauTu_06029
A1: Phụ lục XXVI. Mẫu báo cáo về hoạt động của Quỹ Appendix XXVI. Report on Fund's Operation
A2: (Ban hành kèm theo Thông tư số 98/2020/TT-BTC ngày 16 tháng 11 năm 2020 của Bộ trưởng Bộ Tài Chính về hướng dẫn hoạt động và quản lý quỹ đầu tư chứng khoán (Issued in association with Circular 98/2020/TT-BTC dated 16 November 2020 of the Minister of Finance on guiding the operation and management of the securities investment funds)
A3: BÁO CÁO HOẠT ĐỘNG ĐẦU TƯ CỦA QUỸ MỞ REPORT ON FUND'S INVESTMENT ACTIVITIES
A5: =BCTinhHinhTaiChinh_06105!A5 -> Tại 31 tháng 12 năm 2022/As at 31 December 2022
A7: Tên Quỹ: | C7: Quỹ Đầu tư cân bằng Bản Việt
A8: Fund name: | C8: Viet Capital Balanced Fund (VCAMBF)
A9: Tên Công ty quản lý quỹ: | C9: Công ty Cổ phần Quản lý Quỹ Đầu tư chứng khoán Bản Việt
A10: Fund Management Company: | C10: Viet Capital Asset Management Joint Stock Company
A11: Tên ngân hàng giám sát: | C11: Ngân hàng TMCP Đầu tư và Phát triển Việt Nam Chi nhánh Nam Kỳ Khởi Nghĩa
A12: Supervising bank: | C12: Bank for Investment and Development of VietNam JSC - Nam Ky Khoi Nghia Branch
A13: Ngày lập báo cáo: | C13: =BCThuNhap_06203!B13 -> Ngày 30 tháng 01 năm 2023
A14: Reporting Date: | C14: =BCThuNhap_06203!B14 -> 44956
A15: A. | B15: BÁO CÁO CHUNG VỀ HOẠT ĐỘNG ĐẦU TƯ CỦA QUỸ/GENERAL INFORMATION ON FUND'S INVESTMENT ACTIVITIES
A16: III | B16: BÁO CÁO VỀ TÌNH HÌNH DANH MỤC ĐẦU TƯ CỦA QUỸ / INVESTMENT PORTFOLIO REPORT
A17: STT/No. | B17: Loại Category | C17: Mã chỉ tiêu Code | D17: Số Lượng Quantity | E17: Giá thị trường hoặc giá trị hợp lý tại ngày báo cáo Market price | F17: Tổng giá trị (Đồng) Value (VND) | G17: Tỷ lệ % Tổng giá trị tài sản của Quỹ % of total asset
A18: I | B18: CỔ PHIẾU NIÊM YẾT LISTED EQUITY | C18: 2246
A19: 1 | B19: ADS | C19: 2246.1 | D19: 63250 | E19: 9410 | F19: 595182500 | G19: 0.0063332528
A20: 2 | B20: BMI | C20: 2246.2 | D20: 90000 | E20: 21500 | F20: 1935000000 | G20: 0.020590061
A21: 3 | B21: BSR | C21: 2246.3 | D21: 50100 | E21: 13300 | F21: 6.6633e+08 | G21: 0.0070903233
A22: 4 | B22: BVH | C22: 2246.4 | D22: 48000 | E22: 46600 | F22: 2236800000 | G22: 0.023801472
A23: 5 | B23: CTG | C23: 2246.5 | D23: 170336 | E23: 27250 | F23: 4641656000 | G23: 0.049391205
A24: 6 | B24: DGC | C24: 2246.6 | D24: 25000 | E24: 58900 | F24: 1472500000 | G24: 0.015668664
A25: 7 | B25: FPT | C25: 2246.7 | D25: 141114 | E25: 76900 | F25: 1.0851667e+10 | G25: 0.11547105
A26: 8 | B26: GMD | C26: 2246.8 | D26: 35000 | E26: 45400 | F26: 1589000000 | G26: 0.016908324
A27: 9 | B27: HCM | C27: 2246.9 | D27: 65000 | E27: 20000 | F27: 1300000000 | G27: 0.013833116
A28: 10 | B28: HPG | C28: 2246.10 | D28: 230000 | E28: 18000 | F28: 4140000000 | G28: 0.044053154
A29: 11 | B29: ILB | C29: 2246.11 | D29: 40000 | E29: 24950 | F29: 998000000 | G29: 0.010619577
A30: 12 | B30: MBB | C30: 2246.12 | D30: 208296 | E30: 17100 | F30: 3561861600 | G30: 0.037901265
A31: 13 | B31: MML | C31: 2246.13 | D31: 13000 | E31: 36300 | F31: 471900000 | G31: 0.0050214211
A32: 14 | B32: NAF | C32: 2246.14 | D32: 150000 | E32: 9500 | F32: 1425000000 | G32: 0.015163223
A33: 15 | B33: PC1 | C33: 2246.15 | D33: 84500 | E33: 20200 | F33: 1706900000 | G33: 0.018162881
A34: 16 | B34: PHR | C34: 2246.16 | D34: 30000 | E34: 39400 | F34: 1182000000 | G34: 0.012577495
A35: 17 | B35: STB | C35: 2246.17 | D35: 140000 | E35: 22500 | F35: 3150000000 | G35: 0.033518704
A36: 18 | B36: STK | C36: 2246.18 | D36: 39600 | E36: 27500 | F36: 1089000000 | G36: 0.011587895
A37: 19 | B37: VAB | C37: 2246.19 | D37: 175200 | E37: 8600 | F37: 1506720000 | G37: 0.016032794
A38: 20 | B38: VNM | C38: 2246.20 | D38: 35000 | E38: 76100 | F38: 2663500000 | G38: 0.028341927
A39: 21 | B39: VPB | C39: 2246.21 | D39: 137500 | E39: 17900 | F39: 2.46125e+09 | G39: 0.026189813
A40: 22 | B40: VRE | C40: 2246.22 | D40: 85000 | E40: 26300 | F40: 2235500000 | G40: 0.023787639
B41: TỔNG TOTAL | C41: 2247 | D41: 2055896 | F41: 51879766700 | G41: 0.55204526
A42: II | B42: CỔ PHIẾU CHƯA NIÊM YẾT UNLISTED EQUITY | C42: 2248
...

Sheet BCHoatDongVay_06026
A1: Phụ lục XXVI. Mẫu báo cáo về hoạt động của Quỹ Appendix XXVI. Report on Fund's Operation
A2: (Ban hành kèm theo Thông tư số 98/2020/TT-BTC ngày 16 tháng 11 năm 2020 của Bộ trưởng Bộ Tài Chính về hướng dẫn hoạt động và quản lý quỹ đầu tư chứng khoán (Issued in association with Circular 98/2020/TT-BTC dated 16 November 2020 of the Minister of Finance on guiding the operation and management of the securities investment funds)
A3: BÁO CÁO HOẠT ĐỘNG ĐẦU TƯ CỦA QUỸ MỞ REPORT ON FUND'S INVESTMENT ACTIVITIES
A4: =BCThuNhap_06203!A5 -> Năm 2022/ Year 2022
A6: Tên Quỹ: | G6: Quỹ Đầu tư cân bằng Bản Việt
A7: Fund name: | G7: Viet Capital Balanced Fund (VCAMBF)
A8: Tên Công ty quản lý quỹ: | G8: Công ty Cổ phần Quản lý Quỹ Đầu tư chứng khoán Bản Việt
A9: Fund Management Company: | G9: Viet Capital Asset Management Joint Stock Company
A10: Tên ngân hàng giám sát: | G10: Ngân hàng TMCP Đầu tư và Phát triển Việt Nam Chi nhánh Nam Kỳ Khởi Nghĩa
A11: Supervising bank: | G11: Bank for Investment and Development of VietNam JSC - Nam Ky Khoi Nghia Branch
A12: Ngày lập báo cáo: | G12: =BCThuNhap_06203!B13 -> Ngày 30 tháng 01 năm 2023
A13: Reporting Date: | G13: =BCThuNhap_06203!B14 -> 44956
A14: A. | B14: BÁO CÁO CHUNG VỀ HOẠT ĐỘNG ĐẦU TƯ CỦA QUỸ/GENERAL INFORMATION ON FUND'S INVESTMENT ACTIVITIES
A15: IV | B15: BÁO CÁO HOẠT ĐỘNG VAY, GIAO DỊCH MUA BÁN LẠI / REPORT ON BORROWING OPERATION, REPO/REVERSE REPO TRANSACTIONS
A16: STT No. | B16: Nội dung hoạt động (nêu chi tiết theo mục tiêu và đối tác) Description | C16: Mã chỉ tiêu Code | D16: Đối tác Counterparty | E16: Mục tiêu/Tài sản đảm bảo Collateral | F16: Kỳ hạn Term | G16: Giá trị khoản vay hoặc khoản cho vay Amount | H16: Thời điểm giao dịch As at transaction date | J16: Thời điểm báo cáo As at reporting date
H17: Ngày tháng năm Date | I17: Tỷ lệ giá trị hợp đồng/giá trị tài sản ròng của quỹ Balance/NAV | J17: Ngày tháng năm Date | K17: Tỷ lệ giá trị hợp đồng/giá trị tài sản ròng của quỹ Balance/NAV
A18: 1 | B18: Các khoản vay tiền (nêu chi tiết từng hợp đồng) Borrowings (detail by each contract) | C18: 2287
A19: I | B19: Tổng giá trị các khoản vay tiền/giá trị tài sản ròng Borrowings/NAV | C19: 2288
A20: 2 | B20: Hợp đồng Repo (nêu chi tiết từng hợp đồng) Repo contract (detail by each contract) | C20: 2289
A21: II | B21: Tổng giá trị các hợp đồng Repo/giá trị tài sản ròng Total value of Repo contracts/NAV | C21: 2290
A22: A | B22: Tổng giá trị các khoản vay/giá trị tài sản ròng (=I+II) Total Borrowings, Repo/NAV (=I+II) | C22: 2291
A23: 3 | B23: Cho vay chứng khoán (nêu chi tiết từng hợp đồng) Securities lending (detail by each contract) | C23: 2292
A24: III | B24: Tổng giá trị các hợp đồng/giá trị tài sản ròng Total contract value/NAV | C24: 2293
A25: 4 | B25: Hợp đồng Reverse Repo (nêu chi tiết từng hợp đồng) Reverse Repo contract (Detail by each contract) | C25: 2295
A26: IV | B26: Tổng giá trị các hợp đồng/giá trị tài sản ròng Total contract value/NAV | C26: 2296
A27: B | B27: Tổng giá trị các khoản cho vay/giá trị tài sản ròng (=III + IV) Total Loans/NAV (=III + IV) | C27: 2297
A30: * Ghi chú: kỳ báo cáo không phát sinh
A32: Đại diện có thẩm quyền của Ngân hàng giám sát | I32: Đại diện có thẩm quyền của Công ty quản lý Quỹ
A33: Authorised Representative of Supervisory Bank | I33: Authorised Representative of Fund Management Company
A44: Ngân hàng TMCP Đầu tư và Phát triển Việt Nam Chi nhánh Nam Kỳ Khởi Nghĩa | I44: Công ty CP Quản lý Quỹ Đầu tư chứng khoán Bản Việt
A45: Hoàng Văn Sơn | I45: Trương Thị Thanh Ngọc
A46: Phó giám đốc chi nhánh | I46: Giám đốc quỹ

Sheet Khac_06030
A1: Phụ lục XXVI. Mẫu báo cáo về hoạt động của Quỹ Appendix XXVI. Report on Fund's Operation
A2: (Ban hành kèm theo Thông tư số 98/2020/TT-BTC ngày 16 tháng 11 năm 2020 của Bộ trưởng Bộ Tài Chính về hướng dẫn hoạt động và quản lý quỹ đầu tư chứng khoán (Issued in association with Circular 98/2020/TT-BTC dated 16 November 2020 of the Minister of Finance on guiding the operation and management of the securities investment funds)
A3: BÁO CÁO HOẠT ĐỘNG ĐẦU TƯ CỦA QUỸ MỞ REPORT ON FUND'S INVESTMENT ACTIVITIES
A5: =BCThuNhap_06203!A5 -> Năm 2022/ Year 2022
A7: Tên Quỹ: | C7: Quỹ Đầu tư cân bằng Bản Việt
A8: Fund name: | C8: Viet Capital Balanced Fund (VCAMBF)
A9: Tên Công ty quản lý quỹ: | C9: Công ty Cổ phần Quản lý Quỹ Đầu tư chứng khoán Bản Việt
A10: Fund Management Company | C10: Viet Capital Asset Management Joint Stock Company
A11: Tên ngân hàng giám sát: | C11: Ngân hàng TMCP Đầu tư và Phát triển Việt Nam Chi nhánh Nam Kỳ Khởi Nghĩa
A12: Supervising bank: | C12: Bank for Investment and Development of VietNam JSC - Nam Ky Khoi Nghia Branch
A13: Ngày lập báo cáo: | C13: =BCThuNhap_06203!B13 -> Ngày 30 tháng 01 năm 2023
A14: Reporting Date: | C14: =BCThuNhap_06203!B14 -> 44956
A15: A. | B15: BÁO CÁO CHUNG VỀ HOẠT ĐỘNG ĐẦU TƯ CỦA QUỸ/GENERAL INFORMATION ON FUND'S INVESTMENT ACTIVITIES
A16: V | B16: MỘT SỐ CHỈ TIÊU KHÁC / OTHER INDICATORS
A17: STT/No. | B17: Chỉ tiêu/Indicators | C17: Mã chỉ tiêu/Code | D17: Năm 2022 Year 2022 | E17: Năm 2021 Year 2021
A18: I | B18: CÁC CHỈ TIÊU VỀ HIỆU QUẢ HOẠT ĐỘNG INVESTMENT PERFORMANCE INDICATORS | C18: 2264 | F18: 1.0490878e+11
A19: 1 | B19: Tỷ lệ giá dịch vụ quản lý quỹ trả cho công ty quản lý quỹ/Giá trị tài sản ròng trung bình trong kỳ (%) Management fee paid to the fund management company/Average NAV (%) | C19: 2265 | D19: =+BCKetQuaHoatDong_06028!D25/Khac_06030!F18 -> 0.011066846 | E19: 0.0089832504
A20: 2 | B20: Tỷ lệ giá dịch vụ lưu ký, giám sát trả cho Ngân hàng Giám sát/Giá trị tài sản ròng trung bình trong kỳ (%) Custody and supervising fees paid to the Supervisory Bank/Average NAV (%) | C20: 2266 | D20: =+BCKetQuaHoatDong_06028!D26/Khac_06030!F18 -> 0.0035317062 | E20: 0.0037955828
A21: 3 | B21: Tỷ lệ chi phí dịch vụ quản trị quỹ, và các chi phí khác mà công ty quản lý quỹ trả cho tổ chức cung cấp dịch vụ có liên quan/Giá trị tài sản ròng của quỹ trung bình trong kỳ (%) Fund admin fee, and other fees paid to relating services providers by the fund management company/Average NAV (%) | C21: 22661 | D21: =+(BCKetQuaHoatDong_06028!D32+BCKetQuaHoatDong_06028!D33)/Khac_06030!F18 -> 0.0031455899 | E21: 0.0032808768
A22: 4 | B22: Chi phí kiểm toán trả cho tổ chức kiểm toán (nếu phát sinh) / Giá trị tài sản ròng trung bình trong kỳ (%) Audit fee expense over average NAV ratio (%) | C22: 2267 | D22: =+BCKetQuaHoatDong_06028!D34/Khac_06030!F18 -> 0.0014012173 | E22: 0.0013377178
A23: 5 | B23: Chi phí dịch vụ tư vấn pháp lý, dịch vụ báo giá và các dịch vụ hợp lý khác, thù lao trả cho ban đại diện quỹ / Giá trị tài sản ròng trung bình trong kỳ (%) Legal consultancy, OTC price quotation and other valid service fees; Board of Representatives' remuneration expense over average NAV ratio (%) | C23: 2268 | D23: =+BCKetQuaHoatDong_06028!D35/Khac_06030!F18 -> 0.00068631053 | E23: 0.00071344949
A24: 6 | B24: Tỷ lệ chi phí /Giá trị tài sản ròng trung bình trong kỳ (%) Expense/Average NAV (%) | C24: 2269 | D24: =+(BCKetQuaHoatDong_06028!D24-BCKetQuaHoatDong_06028!D43)/Khac_06030!F18 -> 0.019999437 | E24: 0.018247769
A25: 7 | B25: Tốc độ vòng quay danh mục trong kỳ (%) = (Tổng giá trị mua vào + tổng giá trị bán ra) x 100%/ (2 x Giá trị tài sản ròng trung bình trong kỳ) Portfolio turnover rate (%) = (Total value of purchase transactions + total value of sales transactions) x 100%/ (2 x Average NAV) (**) | C25: 2270 | D25: =F25/F18 -> 0.93298735 | E25: 1.1345898 | F25: 97878564400
A26: II | B26: CÁC CHỈ TIÊU KHÁC OTHER INDICATORS | C26: 2272
A27: 1 | B27: Quy mô quỹ đầu kỳ (tính theo mệnh giá chứng chỉ quỹ) Fund scale at the beginning of the period (based on par value of fund certificate) | C27: 2273 | D27: 7.0711518e+10 | E27: 6.5129553e+10
B28: Tổng giá trị chứng chỉ quỹ đang lưu hành đầu kỳ Total value of outstanding Fund Certificate at the beginning of period | C28: 2274 | D28: 7.0711518e+10 | E28: 6.5129553e+10
B29: Tổng số lượng đơn vị quỹ đang lưu hành đầu kỳ Total number of outstanding Fund Certificate at the beginning of period | C29: 2275 | D29: 7071151.7 | E29: 6512955.3
A30: 2 | B30: Thay đổi quy mô quỹ trong kỳ (tính theo mệnh giá chứng chỉ quỹ) Change of Fund scale during the period (based on par value of fund certificate) | C30: 2276 | D30: =+D31*10000 -> -13340691900 | E30: 5.5819641e+09
B31: Thay đổi số lượng chứng chỉ quỹ trong kỳ Change of Number of Fund Certificates during the period | C31: 2276.1 | D31: =+D33+D35 -> -1334069.2 | E31: 558196.41
B32: Thay đổi giá trị vốn trong kỳ (theo mệnh giá) Change in capital amount during the period (based on par value) | C32: 2276.2 | D32: =+D34+D36 -> -13340691900 | E32: 5.5819641e+09
B33: Số lượng đơn vị quỹ phát hành thêm trong kỳ Number of Fund Certificates subscribed during the period | C33: 2277 | D33: 103436.25 | E33: 1623477.9
B34: Giá trị vốn huy động thêm trong kỳ (theo mệnh giá) Net subscription amount in period (based on par value) | C34: 2278 | D34: =+D33*10000 -> 1034362500 | E34: 1.6234779e+10
B35: Số lượng đơn vị quỹ mua lại trong kỳ Number of Fund Certificates redeemed during the period | C35: 22781 | D35: =-1437505.44 -> -1437505.4 | E35: -1065281.5
B36: Giá trị vốn phải thanh toán trong kỳ khi đáp ứng lệnh của nhà đầu tư (theo mệnh giá) Net redemption amount in period (based on par value) | C36: 22782 | D36: =+D35*10000 -> -14375054400 | E36: -10652814700
A37: 3 | B37: Quy mô quỹ cuối kỳ (tính theo mệnh giá chứng chỉ quỹ) Fund scale at the end of the period (based on par value of fund unit) | C37: 2279 | D37: 5.7370826e+10 | E37: 7.0711518e+10
B38: Tổng giá trị chứng chỉ quỹ đang lưu hành cuối kỳ Total value of outstanding Fund Certificate at the end of the period | C38: 2280 | D38: 5.7370826e+10 | E38: 7.0711518e+10
B39: Tổng số lượng đơn vị quỹ đang lưu hành cuối kỳ Total number of outstanding Fund Certificate at the end of the period | C39: 2281 | D39: 5737082.6 | E39: 7071151.7
A40: 4 | B40: Tỷ lệ nắm giữ chứng chỉ quỹ của công ty quản lý quỹ và người có liên quan cuối kỳ Fund Management Company and related parties' ownership ratio at the end of the period | C40: 2282 | D40: 0.90790194 | E40: 0.906
A41: 5 | B41: Tỷ lệ nắm giữ chứng chỉ quỹ của 10 nhà đầu tư lớn nhất cuối kỳ Top 10 investors' ownership ratio at the end of the period | C41: 2283 | D41: 0.95397041 | E41: 0.9603
A42: 6 | B42: Tỷ lệ nắm giữ chứng chỉ quỹ của nhà đầu tư nước ngoài cuối kỳ Foreign investors' ownership ratio at the end of the period | C42: 2284 | D42: 0.0017124209 | E42: 0.0013893493
...

Sheet Thong ke phi GD
A1: Phụ lục XXVI. Mẫu báo cáo về hoạt động của Quỹ Appendix XXVI. Report on Fund's Operation
A2: (Ban hành kèm theo Thông tư số 98/2020/TT-BTC ngày 16 tháng 11 năm 2020 của Bộ trưởng Bộ Tài Chính về hướng dẫn hoạt động và quản lý quỹ đầu tư chứng khoán (Issued in association with Circular 98/2020/TT-BTC dated 16 November 2020 of the Minister of Finance on guiding the operation and management of the securities investment funds)
A3: BÁO CÁO HOẠT ĐỘNG ĐẦU TƯ CỦA QUỸ MỞ REPORT ON FUND'S INVESTMENT ACTIVITIES
A5: =BCThuNhap_06203!A5 -> Năm 2022/ Year 2022
A7: Tên Quỹ: | C7: Quỹ Đầu tư cân bằng Bản Việt
A8: Fund name: | C8: Viet Capital Balanced Fund (VCAMBF)
A9: Tên Công ty quản lý quỹ: | C9: Công ty Cổ phần Quản lý Quỹ Đầu tư chứng khoán Bản Việt
A10: Fund Management Company: | C10: Viet Capital Asset Management
A11: Tên ngân hàng giám sát: | C11: Ngân hàng TMCP Đầu tư và Phát triển Việt Nam Chi nhánh Nam Kỳ Khởi Nghĩa
A12: Supervising bank: | C12: Bank for Investment and Development of VietNam JSC - Nam Ky Khoi Nghia Branch
A13: Ngày lập báo cáo: | C13: =BCThuNhap_06203!B13 -> Ngày 30 tháng 01 năm 2023
A14: Reporting Date: | C14: =BCThuNhap_06203!B14 -> 44956
A16: A. | B16: BÁO CÁO CHUNG VỀ HOẠT ĐỘNG ĐẦU TƯ CỦA QUỸ/GENERAL INFORMATION ON FUND'S INVESTMENT ACTIVITIES
A17: VI | B17: THỐNG KÊ GIÁ DỊCH VỤ GIAO DỊCH /REPORT ON BROKER FEE
A18: Số thứ tự No. | B18: Tên (mã) các công ty chứng khoán (có giá trị giao dịch vượt quá 5% tổng giá trị giao dịch kỳ báo cáo) Name (code) of securities companies (with transaction value exceeding 5% of the Fund’s total transaction value for the year) | C18: Quan hệ với công ty quản lý quỹ Relationship with the Fund Management Company | D18: Tỷ lệ giao dịch của quỹ qua từng công ty chứng khoán Percentage of transactions value at securities companies | G18: Phí giao dịch bình quân Average transaction fee rate | H18: Phí giao dịch bình quân trên thị trường Market average transaction fee rate
D19: Giá trị giao dịch trong kỳ báo cáo của quỹ Fund’s transaction value for the year with each securities company | E19: Tổng giá trị giao dịch trong kỳ báo cáo của quỹ (*) Fund’s total transaction value for the year (*) | F19: Tỷ lệ giao dịch của quỹ qua công ty chứng khoán trong kỳ báo cáo Percentage of the Fund’s total transaction value for the year
A20: (1) | B20: (2) | C20: (3) | D20: (4) | E20: (5) | F20: (6) = (4)/(5) | G20: (7) | H20: (8)
A21: 1 | B21: Công ty Cổ phần Chứng Khoán Rồng Việt | C21: Không có liên quan | D21: 75239251800 | E21: =$D$25 -> 181691128800 | F21: =+D21/E21 -> 0.41410526 | G21: 0.0015 | H21: 0.15% - 0.50% | I21: =+D23*G23 -> 53931116
A22: 2 | B22: Công ty Cổ phần Chứng Khoán SSI | C22: Không có liên quan | D22: 21755625000 | E22: =$D$25 -> 181691128800 | F22: =+D22/E22 -> 0.11973961 | G22: 0.0015 | H22: 0.15% - 0.50%
A23: 3 | B23: Công ty Cổ phần Chứng khoán Bản Việt | C23: Bên liên quan | D23: 35954077000 | E23: =$D$25 -> 181691128800 | F23: =+D23/E23 -> 0.1978857 | G23: 0.0015 | H23: 0.15% - 0.50%
A24: 4 | B24: Công ty Cổ phần Chứng khoán Thành Công | C24: Không có liên quan | D24: 48742175000 | E24: =$D$25 -> 181691128800 | F24: =+D24/E24 -> 0.26826943 | G24: 0.0015 | H24: 0.15% - 0.50%
A25: Tổng | D25: =SUM(D21:D24) -> 181691128800 | F25: =SUM(F21:F24) -> 1
A28: Đại diện có thẩm quyền của Ngân hàng giám sát | F28: Đại diện có thẩm quyền của Công ty quản lý Quỹ
A29: Authorised Representative of Supervisory Bank | F29: Authorised Representative of Fund Management Company
A35: Ngân hàng TMCP Đầu tư và Phát triển Việt Nam Chi nhánh Nam Kỳ Khởi Nghĩa | F35: Công ty CP Quản lý Quỹ Đầu tư chứng khoán Bản Việt
A36: Hoàng Văn Sơn | F36: Trương Thị Thanh Ngọc
A37: Phó giám đốc chi nhánh | F37: Giám đốc quỹ

Sheet THU NHAP
A1: Chỉ tiêu | B1: Mã số | C1: Thuyết minh | D1: Năm N | E1: Năm N-1
A2: I. THU NHẬP, DOANH THU HOẠT ĐỘNG ĐẦU TƯ | B2: 01 | D2: =BCThuNhap_06203!D17 -> -19093606999 | E2: =BCThuNhap_06203!E17 -> 30315204423
A3: 1.1. Cổ tức được chia | B3: 02 | D3: =BCThuNhap_06203!D18 -> 1754103945 | E3: =BCThuNhap_06203!E18 -> 1744027794
A4: 1.2. Tiền lãi được nhận | B4: 03 | D4: =BCThuNhap_06203!D21 -> 1593692656 | E4: =BCThuNhap_06203!E21 -> 1074305829
A5: 1.3. Lãi, lỗ bán các khoản đầu tư | B5: 04 | D5: =BCThuNhap_06203!D24 -> 2118817045 | E5: =BCThuNhap_06203!E24 -> 16082336009
A6: 1.4. Chênh lệch tăng, giảm đánh giá lại các khoản đầu tư chưa thực hiện | B6: 05 | D6: =VLOOKUP(B6,BCThuNhap_06203!$B17:$E71,3,0) -> -24560220645 | E6: =VLOOKUP(B6,BCThuNhap_06203!$B17:$E71,4,0) -> 11414534791
A7: 1.5. Doanh thu khác | B7: 06 | D7: =VLOOKUP(B7,BCThuNhap_06203!$B18:$E72,3,0) -> 0 | E7: =VLOOKUP(B7,BCThuNhap_06203!$B18:$E72,4,0) -> 0
A8: 1.6. Chênh lệch lãi, lỗ tỷ giá hối đoái đã và chưa thực hiện | B8: 07 | D8: =VLOOKUP(B8,BCThuNhap_06203!$B19:$E73,3,0) -> 0 | E8: =VLOOKUP(B8,BCThuNhap_06203!$B19:$E73,4,0) -> 0
A9: 1.7. Doanh thu khác về đầu tư | B9: 08 | D9: =VLOOKUP(B9,BCThuNhap_06203!$B20:$E74,3,0) -> 0 | E9: =VLOOKUP(B9,BCThuNhap_06203!$B20:$E74,4,0) -> 0
A10: 1.8. Dự phòng nợ phải thu và dự thu khó đòi về cổ tức, tiền lãi và xử lý tổn thất nợ phải thu khó đòi về cổ tức, tiền lãi | B10: 09 | D10: =VLOOKUP(B10,BCThuNhap_06203!$B21:$E75,3,0) -> 0 | E10: =VLOOKUP(B10,BCThuNhap_06203!$B21:$E75,4,0) -> 0
A11: II. CHI PHÍ ĐẦU TƯ | B11: 10 | D11: =VLOOKUP(B11,BCThuNhap_06203!$B22:$E76,3,0) -> 272536710 | E11: =VLOOKUP(B11,BCThuNhap_06203!$B22:$E76,4,0) -> 324576718
A12: 2.1. Chi phí giao dịch mua, bán các khoản đầu tư | B12: 11 | D12: =VLOOKUP(B12,BCThuNhap_06203!$B23:$E77,3,0) -> 272536710 | E12: =VLOOKUP(B12,BCThuNhap_06203!$B23:$E77,4,0) -> 324576718
A13: 2.2.Chi phí dự phòng nợ phải thu khó đòi và xử lý tổn thất phải thu khó đòi | B13: 12 | D13: =VLOOKUP(B13,BCThuNhap_06203!$B24:$E78,3,0) -> 0 | E13: =VLOOKUP(B13,BCThuNhap_06203!$B24:$E78,4,0) -> 0
A14: 2.3. Chi phí lãi vay | B14: 13 | D14: =VLOOKUP(B14,BCThuNhap_06203!$B25:$E79,3,0) -> 0 | E14: =VLOOKUP(B14,BCThuNhap_06203!$B25:$E79,4,0) -> 0
A15: 2.4. Chi phí dự phòng giảm giá tài sản nhận thế chấp và xử lý tổn thất các khoản đầu tư cho vay có tài sản nhận thế chấp | B15: 14 | D15: =VLOOKUP(B15,BCThuNhap_06203!$B26:$E80,3,0) -> 0 | E15: =VLOOKUP(B15,BCThuNhap_06203!$B26:$E80,4,0) -> 0
A16: 2.5.Chi phí đầu tư khác | B16: 15 | D16: =VLOOKUP(B16,BCThuNhap_06203!$B27:$E81,3,0) -> 0 | E16: =VLOOKUP(B16,BCThuNhap_06203!$B27:$E81,4,0) -> 0
A17: III. CHI PHÍ HOẠT ĐỘNG QUỸ MỞ | B17: 20 | D17: =VLOOKUP(B17,BCThuNhap_06203!$B28:$E82,3,0) -> 2098116471 | E17: =VLOOKUP(B17,BCThuNhap_06203!$B28:$E82,4,0) -> 1841530987
... A26: 3.9. Chi phí thanh lý tài sản Quỹ mở | B26: 20.9 | D26: =VLOOKUP(B26,BCThuNhap_06203!$B37:$E91,3,0) -> 0 | E26: =VLOOKUP(B26,BCThuNhap_06203!$B37:$E91,4,0) -> 0
A27: 3.10. Chi phí hoạt động khác | B27: 20.10 | D27: =BCThuNhap_06203!D51 -> 89600225 | E27: =BCThuNhap_06203!E51 -> 85814834
A28: IV. KẾT QUẢ HOẠT ĐỘNG ĐẦU TƯ (23=01-10-20) | B28: 23 | D28: =VLOOKUP(B28,BCThuNhap_06203!$B39:$E93,3,0) -> -21464260180 | E28: =VLOOKUP(B28,BCThuNhap_06203!$B39:$E93,4,0) -> 28149096718
A29: V. KẾT QUẢ THU NHẬP VÀ CHI PHÍ KHÁC | B29: 24 | D29: =VLOOKUP(B29,BCThuNhap_06203!$B40:$E94,3,0) -> 0 | E29: =VLOOKUP(B29,BCThuNhap_06203!$B40:$E94,4,0) -> 0
A30: 5.1. Thu nhập khác | B30: 24.1 | D30: =VLOOKUP(B30,BCThuNhap_06203!$B41:$E95,3,0) -> 0 | E30: =VLOOKUP(B30,BCThuNhap_06203!$B41:$E95,4,0) -> 0
A31: 5.2. Chi phí khác | B31: 24.2 | D31: =VLOOKUP(B31,BCThuNhap_06203!$B42:$E96,3,0) -> 0 | E31: =VLOOKUP(B31,BCThuNhap_06203!$B42:$E96,4,0) -> 0
A32: VI. TỔNG LỢI NHUẬN KẾ TOÁN TRƯỚC THUẾ (30=23 + 24) | B32: 30 | D32: =VLOOKUP(B32,BCThuNhap_06203!$B43:$E97,3,0) -> -21464260180 | E32: =VLOOKUP(B32,BCThuNhap_06203!$B43:$E97,4,0) -> 28149096718
A33: 6.1. Lợi nhuận đã thực hiện | B33: 31 | D33: =VLOOKUP(B33,BCThuNhap_06203!$B44:$E98,3,0) -> 3095960465 | E33: =VLOOKUP(B33,BCThuNhap_06203!$B44:$E98,4,0) -> 16734561927
A34: 6.2. Lợi nhuận chưa thực hiện | B34: 32 | D34: =VLOOKUP(B34,BCThuNhap_06203!$B45:$E99,3,0) -> -24560220645 | E34: =VLOOKUP(B34,BCThuNhap_06203!$B45:$E99,4,0) -> 11414534791
A35: VII. CHI PHÍ THUẾ TNDN | B35: 40 | D35: =VLOOKUP(B35,BCThuNhap_06203!$B46:$E100,3,0) -> 0 | E35: =VLOOKUP(B35,BCThuNhap_06203!$B46:$E100,4,0) -> 0
A36: VIII. LỢI NHUẬN KẾ TOÁN SAU THUẾ TNDN (41 = 30 - 40) | B36: 41 | D36: =VLOOKUP(B36,BCThuNhap_06203!$B47:$E101,3,0) -> -21464260180 | E36: =VLOOKUP(B36,BCThuNhap_06203!$B47:$E101,4,0) -> 28149096718

Sheet TAI CHINH
A1: Chỉ tiêu | B1: Mã số | C1: Thuyết minh | D1: Năm N | E1: Năm N-1
A2: I. TÀI SẢN | B2: I
A3: 1.Tiền gửi ngân hàng và tương đương tiền | B3: 110 | D3: =VLOOKUP(B3,BCTinhHinhTaiChinh_06105!$B18:$E87,3,0) -> 16164663074 | E3: =VLOOKUP(B3,BCTinhHinhTaiChinh_06105!$B18:$E87,4,0) -> 22891611972
A4: 1.1. Tiền gửi ngân hàng cho hoạt động của Quỹ mở | B4: 111 | D4: =VLOOKUP(B4,BCTinhHinhTaiChinh_06105!$B19:$E88,3,0) -> 16164663074 | E4: =VLOOKUP(B4,BCTinhHinhTaiChinh_06105!$B19:$E88,4,0) -> 5656890237
A5: 1.2. Tiền gửi có kỳ hạn dưới 3 tháng | B5: 112 | D5: =VLOOKUP(B5,BCTinhHinhTaiChinh_06105!$B20:$E89,3,0) -> 0 | E5: =VLOOKUP(B5,BCTinhHinhTaiChinh_06105!$B20:$E89,4,0) -> 17234721735
A6: 2. Các khoản đầu tư thuần | B6: 120 | D6: =VLOOKUP(B6,BCTinhHinhTaiChinh_06105!$B21:$E90,3,0) -> 76447860698 | E6: =VLOOKUP(B6,BCTinhHinhTaiChinh_06105!$B21:$E90,4,0) -> 92688070600
A7: 2.1. Các khoản đầu tư | B7: 121 | D7: =VLOOKUP(B7,BCTinhHinhTaiChinh_06105!$B22:$E91,3,0) -> 76447860698 | E7: =VLOOKUP(B7,BCTinhHinhTaiChinh_06105!$B22:$E91,4,0) -> 92688070600
A8: 2.2. Dự phòng giảm giá tài sản nhận thế chấp | B8: 122 | D8: =VLOOKUP(B8,BCTinhHinhTaiChinh_06105!$B23:$E92,3,0) -> 0 | E8: =VLOOKUP(B8,BCTinhHinhTaiChinh_06105!$B23:$E92,4,0) -> 0
A9: 3. Các khoản phải thu | B9: 130 | D9: =VLOOKUP(B9,BCTinhHinhTaiChinh_06105!$B24:$E93,3,0) -> 1364855818 | E9: =VLOOKUP(B9,BCTinhHinhTaiChinh_06105!$B24:$E93,4,0) -> 3163830187
A10: 3.1 Phải thu về bán các khoản đầu tư | B10: 131 | D10: =VLOOKUP(B10,BCTinhHinhTaiChinh_06105!$B25:$E94,3,0) -> 804791000 | E10: =VLOOKUP(B10,BCTinhHinhTaiChinh_06105!$B25:$E94,4,0) -> 2501342350
A11: Trong đó: Phải thu khó đòi về bán các khoản đầu tư | B11: 132 | D11: 0 | E11: 0
A12: 3.2. Phải thu và dự thu cổ tức, tiền lãi các khoản đầu tư | B12: 133 | D12: =VLOOKUP(B12,BCTinhHinhTaiChinh_06105!$B27:$E96,3,0) -> 560064818 | E12: =VLOOKUP(B12,BCTinhHinhTaiChinh_06105!$B27:$E96,4,0) -> 662487837
A13: 3.2.1. Phải thu cổ tức, tiền lãi đến ngày nhận | B13: 134 | D13: =VLOOKUP(B13,BCTinhHinhTaiChinh_06105!$B28:$E97,3,0) -> 0 | E13: =VLOOKUP(B13,BCTinhHinhTaiChinh_06105!$B28:$E97,4,0) -> 0
A14: Trong đó: Phải thu khó đòi về cổ tức, tiền lãi đến ngày nhận nhưng chưa nhận được | B14: 135 | D14: 0 | E14: 0
A15: 3.2.2 Dự thu cổ tức, tiền lãi chưa đến ngày nhận | B15: 136 | D15: =VLOOKUP(B15,BCTinhHinhTaiChinh_06105!$B30:$E99,3,0) -> 560064818 | E15: =VLOOKUP(B15,BCTinhHinhTaiChinh_06105!$B30:$E99,4,0) -> 662487837
A16: 3.3. Các khoản phải thu khác | B16: 137 | D16: =VLOOKUP(B16,BCTinhHinhTaiChinh_06105!$B31:$E100,3,0) -> 0 | E16: =VLOOKUP(B16,BCTinhHinhTaiChinh_06105!$B31:$E100,4,0) -> 0
A17: 3.4. Dự phòng nợ phải thu khó đòi (*) | B17: 138 | D17: =VLOOKUP(B17,BCTinhHinhTaiChinh_06105!$B32:$E101,3,0) -> 0 | E17: =VLOOKUP(B17,BCTinhHinhTaiChinh_06105!$B32:$E101,4,0) -> 0
A18: TỔNG TÀI SẢN | B18: 100 | D18: =VLOOKUP(B18,BCTinhHinhTaiChinh_06105!$B33:$E102,3,0) -> 93977379590 | E18: =VLOOKUP(B18,BCTinhHinhTaiChinh_06105!$B33:$E102,4,0) -> 118743512759
A19: II. NỢ PHẢI TRẢ | B19: II | D19: =VLOOKUP(B19,BCTinhHinhTaiChinh_06105!$B34:$E103,3,0) -> 0 | E19: =VLOOKUP(B19,BCTinhHinhTaiChinh_06105!$B34:$E103,4,0) -> 0
A20: 1. Vay ngắn hạn | B20: 311 | D20: =VLOOKUP(B20,BCTinhHinhTaiChinh_06105!$B35:$E104,3,0) -> 0 | E20: =VLOOKUP(B20,BCTinhHinhTaiChinh_06105!$B35:$E104,4,0) -> 0
A21: 2. Phải trả về mua các khoản đầu tư | B21: 312 | D21: =VLOOKUP(B21,BCTinhHinhTaiChinh_06105!$B36:$E105,3,0) -> 741110 | E21: =VLOOKUP(B21,BCTinhHinhTaiChinh_06105!$B36:$E105,4,0) -> 649873350
A22: 3. Phải trả cho các Đại lý phân phối Chứng chỉ quỹ | B22: 313 | D22: =VLOOKUP(B22,BCTinhHinhTaiChinh_06105!$B37:$E106,3,0) -> 1183070 | E22: =VLOOKUP(B22,BCTinhHinhTaiChinh_06105!$B37:$E106,4,0) -> 10308570
A23: 4. Thuế và các khoản phải nộp Nhà nước | B23: 314 | D23: =VLOOKUP(B23,BCTinhHinhTaiChinh_06105!$B38:$E107,3,0) -> 687346 | E23: =VLOOKUP(B23,BCTinhHinhTaiChinh_06105!$B38:$E107,4,0) -> 1270463
A24: 5.Phải trả thu nhập cho Nhà đầu tư | B24: 315 | D24: =VLOOKUP(B24,BCTinhHinhTaiChinh_06105!$B39:$E108,3,0) -> 407334 | E24: =VLOOKUP(B24,BCTinhHinhTaiChinh_06105!$B39:$E108,4,0) -> 407334
A25: 6. Chi phí phải trả | B25: 316 | D25: =VLOOKUP(B25,BCTinhHinhTaiChinh_06105!$B40:$E109,3,0) -> 103200000 | E25: =VLOOKUP(B25,BCTinhHinhTaiChinh_06105!$B40:$E109,4,0) -> 96200000
A26: 7. Phải trả cho Nhà đầu tư về mua Chứng chỉ quỹ | B26: 317 | D26: =VLOOKUP(B26,BCTinhHinhTaiChinh_06105!$B41:$E110,3,0) -> 0 | E26: =VLOOKUP(B26,BCTinhHinhTaiChinh_06105!$B41:$E110,4,0) -> 4000000
... A37: IV. GIÁ TRỊ TÀI SẢN RÒNG QUỸ MỞ TRÊN 1 ĐƠN VỊ CHỨNG CHỈ QUỸ (IV=(I-II)/III) | B37: 430 | D37: =VLOOKUP(B37,BCTinhHinhTaiChinh_06105!$B52:$E121,3,0) -> 13513.83 | E37: =VLOOKUP(B37,BCTinhHinhTaiChinh_06105!$B52:$E121,4,0) -> 16577.32
A38: V. LỢI NHUẬN ĐÃ PHÂN PHỐI CHO NHÀ ĐẦU TƯ | B38: 440
A39: 1. Lợi nhuận/Tài sản đã phân phối cho Nhà đầu tư trong năm | B39: 441 | D39: =VLOOKUP(B39,BCTinhHinhTaiChinh_06105!$B54:$E123,3,0) -> 0 | E39: =VLOOKUP(B39,BCTinhHinhTaiChinh_06105!$B54:$E123,4,0) -> 3349604890
A40: 2. Lợi nhuận đã phân phối cho Nhà đầu tư lũy kế từ khi thành lập Quỹ mở đến kỳ lập báo cáo này | B40: 442 | D40: =VLOOKUP(B40,BCTinhHinhTaiChinh_06105!$B55:$E124,3,0) -> 21452073549 | E40: =VLOOKUP(B40,BCTinhHinhTaiChinh_06105!$B55:$E124,4,0) -> 21452073549
A41: VI. CÁC CHỈ TIÊU NGOÀI BÁO CÁO TÌNH HÌNH TÀI CHÍNH | B41: VI | D41: =VLOOKUP(B41,BCTinhHinhTaiChinh_06105!$B56:$E125,3,0) -> 0 | E41: =VLOOKUP(B41,BCTinhHinhTaiChinh_06105!$B56:$E125,4,0) -> 0
A42: 1. Tài sản nhận thế chấp | B42: 001 | D42: =VLOOKUP(B42,BCTinhHinhTaiChinh_06105!$B57:$E126,3,0) -> 0 | E42: =VLOOKUP(B42,BCTinhHinhTaiChinh_06105!$B57:$E126,4,0) -> 0
A43: 2. Nợ khó đòi đã xử lý | B43: 002 | D43: =VLOOKUP(B43,BCTinhHinhTaiChinh_06105!$B58:$E127,3,0) -> 0 | E43: =VLOOKUP(B43,BCTinhHinhTaiChinh_06105!$B58:$E127,4,0) -> 0
A44: 3. Ngoại tệ các loại | B44: 003 | D44: =VLOOKUP(B44,BCTinhHinhTaiChinh_06105!$B59:$E128,3,0) -> 0 | E44: =VLOOKUP(B44,BCTinhHinhTaiChinh_06105!$B59:$E128,4,0) -> 0
A45: 4. Số lượng Chứng chỉ quỹ đang lưu hành | B45: 004 | D45: =VLOOKUP(B45,BCTinhHinhTaiChinh_06105!$B60:$E129,3,0) -> 5737082.6 | E45: =VLOOKUP(B45,BCTinhHinhTaiChinh_06105!$B60:$E129,4,0) -> 7071151.8

Sheet Sheet6
A1: STT | B1: Chỉ tiêu | C1: Mã chỉ tiêu | D1: Kỳ báo cáo | E1: Kỳ trước
A2: I | B2: Các chỉ tiêu về hiệu quả hoạt động | C2: 2264
A3: 1 | B3: Tỷ lệ giá dịch vụ quản lý trả cho công ty quản lý quỹ/Giá trị tài sản ròng trung bình trong kỳ (%) | C3: 2265 | D3: =Khac_06030!D19 -> 0.011066846 | E3: =Khac_06030!E19 -> 0.0089832504
A4: 2 | B4: Tỷ lệ giá dịch vụ lưu ký, giám sát trả cho ngân hàng giám sát/Giá trị tài sản ròng trung bình trong kỳ (%) | C4: 2266 | D4: =Khac_06030!D20 -> 0.0035317062 | E4: =Khac_06030!E20 -> 0.0037955828
A5: 3 | B5: Tỷ tệ chi phí dịch vụ quản trị quỹ và các chi phí khác mà công ty quản lý quỹ trả cho tổ chức cung cấp dịch vụ có liên quan/Giá trị tài sản ròng trung bình trong kỳ (%) (nếu có) | C5: 22661 | D5: =Khac_06030!D21 -> 0.0031455899 | E5: =Khac_06030!E21 -> 0.0032808768
A6: 4 | B6: Chi phí kiểm toán trả cho tổ chức kiểm toán (nếu phát sinh)/Giá trị tài sản ròng trung bình trong kỳ (%) | C6: 2267 | D6: =Khac_06030!D22 -> 0.0014012173 | E6: =Khac_06030!E22 -> 0.0013377178
A7: 5 | B7: Chi phí trả cho tổ chức quản lý bất động sản/ Giá trị tài sản ròng trung bình trong kỳ (%) | C7: 2286
A8: 6 | B8: Chi phí trả cho doanh nghiệp thẩm định giá bất động sản/Giá trị tài sản ròng trung bình trong kỳ (%) | C8: 2287
