Workbook
Name DKCO: #REF!
Name DKNO: #REF!
Name Donvi: #REF!
Name LM: #REF!
Name LN: #REF!
Name Taikhoan: #REF!
Name TaxTV: 10%
Name TaxXL: 5%
Name TK_BS: #REF!
Name TK_PL: #REF!
Name TK_TB: #REF!
Name TKBS: #REF!
Name Ý_kiến: #REF!
Name YKien: #REF!
Name ZYX: #REF!
Name ZZZ: #REF!

Sheet Tong quat
A1: Kỳ báo cáo: | C1: Tại ngày 31 tháng 12 năm 2025/As at 31 December 2025
C2: Từ ngày 01 tháng 12 năm 2025 tới ngày 31 tháng 12 năm 2025/ From 01 December 2025 to 31 December 2025
A4: Thông tin chung:
C5: Tên Quỹ: | D5: QUỸ ĐẦU TƯ TRÁI PHIẾU BẢN VIỆT (VCAMFI)
C6: Fund name: | D6: Viet Capital Fixed Income Fund
C7: Tên Công ty quản lý quỹ: | D7: Công ty Cổ phần Quản lý Quỹ Đầu tư chứng khoán Bản Việt
C8: Fund Management Company: | D8: Viet Capital Asset Management Joint Stock Company
C9: Tên ngân hàng giám sát: | D9: Ngân hàng TMCP Đầu tư và Phát triển Việt Nam CN Nam Kỳ Khởi Nghĩa
C10: Supervising bank: | D10: Bank for Investment and Development of VietNam JSC - Nam Ky Khoi Nghia Branch
C11: Ngày lập báo cáo: | D11: Ngày 06 tháng 01 năm 2026
C12: Reporting Date: | D12: 46028
A14: Người ký báo cáo:
C16: Đại diện có thẩm quyền của Ngân hàng giám sát | F16: Đại diện có thẩm quyền của Công ty quản lý Quỹ
C17: Authorised Representative of Supervisory Bank | F17: Authorised Representative of Fund Management Company
C19: NH TMCP ĐT & PT Việt Nam CN Nam Kỳ Khởi Nghĩa | F19: Công ty CP Quản lý Quỹ Đầu tư chứng khoán Bản Việt
C20: Nguyễn Thị Minh Châu | F20: Ông Pham Pho Hop
C21: Phó giám đốc Chi nhánh | F21: Tổng Giám Đốc
B34: STT | C34: Nội dung | E34: Tên sheet
B35: A | C35: BÁO CÁO CHUNG VỀ HOẠT ĐỘNG ĐẦU TƯ CỦA QUỸ
B36: 1 | C36: Báo cáo thu nhập | E36: BCThuNhap_06203
B37: 2 | C37: Báo cáo tình hình tài chính | E37: BCTinhHinhTaiChinh_06105
B38: 3 | C38: Báo cáo lưu chuyển tiền tệ | E38: BCLCGT_06262
B39: 4 | C39: Báo cáo tài sản | E39: BCTaiSan_06027
B40: 5 | C40: Baó cáo Kết quả hoạt động | E40: BCKetQuaHoatDong_06028
B41: 6 | C41: Baáo cáo Danh mục đầu tư | E41: BCDanhmucdautu_06029
B42: 7 | C42: Giá trị tài sản ròng | E42: GiaTriTaiSanRong_06129
B43: 8 | C43: Báo cáo hoạt động vay | E43: Bchoatdongvay_06026
B44: 9 | C44: Báo cáo chỉ tiêu khác | E44: Khac_06030
B45: 10 | C45: Thống kê phí giao dịch
B46: B | C46: BÁO CÁO TÌNH HÌNH TỰ DOANH ĐẦU TƯ GIÁN TIẾP RA NƯỚC NGOÀI CỦA QUỸ | E46: Không có
B49: Thống kê các Thuyết minh BCTC
D51: Có trình bày Y/N/O | E51: Nguyên nhân không trình bày
B52: 1/ | C52: Tiền gửi Ngân hàng | D52: Y
B53: 2/ | C53: Các khoản đầu tư | D53: Y
B54: 3/ | C54: Các khoản dự phòng | D54: O | E54: Chỉ có VF1 trình bày, các Quỹ khác không có khoản mục này không phải trình bày
B55: 4/ | C55: Vay ngắn hạn | D55: N | E55: Không có số dư không trình bày
B56: 5/ | C56: Phải trả mua các khoản đầu tư | D56: N | E56: Không có số dư không trình bày
B57: 6/ | C57: Phải trả các Đại lý phân phối, Công ty Quản lý quỹ về phí phát hành và mua lại Chứng chỉ quỹ | D57: N | E57: Trên báo cáo chính đã chi tiết theo từng khoản mục
B58: 7/ | C58: Thuế và các khoản phải nộp Nhà nước | D58: N | E58: Không bắt buộc, Quỹ chỉ có khoản mục thuế từ hoạt động mua bán CCQ và Thù lao BDD
B59: 8/ | C59: Phải trả thu nhập cho Nhà đầu tư | D59: N | E59: Quỹ nào có chia cổ tức mới trình bày
...

Sheet BCThuNhap_06203
A1: Mẫu số B01g - QM. Báo cáo thu nhập Template B01g - QM. Statement of Comprehensive Income
A2: (Ban hành kèm theo Thông tư 198/2012/TT-BTC ngày 15 tháng 11 năm 2012 về chế độ kế toán áp dụng đối với quỹ mở) (Issued in association with Circular 198/2012/TT-BTC dated 15 Nov 2012 on the Accounting Policies for Open-Ended Fund)
A3: BÁO CÁO THU NHẬP STATEMENT OF COMPREHENSIVE INCOME
A5: Tháng 12 năm 2025/ December 2025
A7: Tên Quỹ: | B7: Quỹ Đầu Tư Trái Phiếu Bản Việt (VCAMFI)
A8: Fund name: | B8: Viet Capital Fixed Income Fund
A9: Tên Công ty quản lý quỹ: | B9: Công ty Cổ phần Quản lý Quỹ Đầu tư chứng khoán Bản Việt
A10: Fund Management Company: | B10: Viet Capital Asset Management Joint Stock Company
A11: Tên ngân hàng giám sát: | B11: Ngân hàng TMCP Đầu tư và Phát triển Việt Nam Chi nhánh Nam Kỳ Khởi Nghĩa
A12: Supervising bank: | B12: Bank for Investment and Development of VietNam JSC - Nam Ky Khoi Nghia Branch
A13: Ngày lập báo cáo: | B13: Ngày 06 tháng 01 năm 2026
A14: Reporting Date: | B14: 46028
A16: Chỉ tiêu Indicator | B16: Mã số Code | C16: Thuyết minh Note | D16: Năm 2025 Year 2025 | F16: Năm 2024 Year 2024
D17: Tháng 12 năm 2025 Dec 2025 | E17: Số lũy kế Year-to-date | F17: Tháng 12 năm 2024 Dec 2024 | G17: Số lũy kế Year-to-date
A18: I. THU NHẬP, DOANH THU HOẠT ĐỘNG ĐẦU TƯ Investment income | B18: 01 | D18: -377824693 | E18: =D18+I18 -> 4926710360 | F18: =F19+F22+F25+F26+F27+F28+F29+F30 -> 515445020 | G18: =G19+G22+G25+G26+G27+G28+G29+G30 -> 11652562757 | I18: 5304535053
A19: 1.1. Cổ tức, trái tức được chia Dividend, bond interest received | B19: 02 | D19: 326151830 | E19: =D19+I19 -> 4673456772 | F19: =F21+F20 -> 530166244 | G19: =G21+G20 -> 10635342366 | I19: 4347304942
A20: Cổ tức được nhận Dividend received | B20: 02.1 | D20: 0 | E20: =D20+I20 -> 0 | F20: 0 | G20: 0 | I20: 0
A21: Trái tức được nhận Coupon received | B21: 02.2 | D21: 326151830 | E21: =D21+I21 -> 4673456772 | F21: 530166244 | G21: 10635342366 | I21: 4347304942
A22: 1.2. Tiền lãi được nhận Interest income | B22: 03 | D22: 999021 | E22: =D22+I22 -> 48001942 | F22: =F23+F24 -> 8431069 | G22: =G23+G24 -> 1241738660 | I22: 47002921
A23: Tiền lãi tiền gửi được nhận Bank Deposit Interest received | B23: 03.1 | D23: 999021 | E23: =D23+I23 -> 48001942 | F23: 8431069 | G23: 1241738660 | I23: 47002921
A24: Lãi chứng chỉ tiền gửi Interest income from Certificate of Deposit | B24: 03.2 | D24: 0 | E24: =D24+I24 -> 0 | F24: 0 | G24: 0 | I24: 0
A25: 1.3. Lãi (lỗ) bán các khoản đầu tư Realized gain (losses) from disposal investments | B25: 04 | D25: 53350765 | E25: =D25+I25 -> 179097365 | F25: -40943316 | G25: -308628377 | I25: 125746600
A26: 1.4. Chênh lệch tăng, giảm đánh giá lại các khoản đầu tư chưa thực hiện Unrealized gain (losses) from investment revaluation | B26: 05 | D26: -758326309 | E26: =D26+I26 -> 26154281 | F26: 17791023 | G26: 84055313 | I26: 784480590
A27: 1.5. Doanh thu khác Other income | B27: 06 | D27: 0 | E27: =D27+I27 -> 0 | G27: 0 | I27: 0
A28: 1.6. Chênh lệch lãi, lỗ tỷ giá hối đoái đã và chưa thực hiện Realized and unrealized gain (losses) from foreign exchange | B28: 07 | D28: 0 | E28: =D28+I28 -> 0 | G28: 0 | I28: 0
A29: 1.7. Doanh thu khác về đầu tư Other investment income | B29: 08 | D29: 0 | E29: =D29+I29 -> 0 | F29: 0 | G29: 54795 | I29: 0
A30: 1.8. Dự phòng nợ phải thu và dự thu khó đòi về cổ tức, tiền lãi và xử lý tổn thất nợ phải thu khó đòi về cổ tức, tiền lãi Provision expense for bad debts from dividends, interest income and written off bad debts from dividends, interest income | B30: 09 | D30: 0 | E30: =D30+I30 -> 0 | F30: 0 | G30: 0 | I30: 0
A31: II. CHI PHÍ ĐẦU TƯ INVESTMENT EXPENSE | B31: 10 | D31: 203446 | E31: =D31+I31 -> 10156817 | F31: =F32+F35+F36+F37+F38 -> 2228106 | G31: =SUM(G32+G35+G36+G37+G38) -> 23978063 | I31: 9953371
A32: 2.1. Chi phí giao dịch mua, bán các khoản đầu tư Expense for purchasing and selling investments | B32: 11 | D32: 203446 | E32: =D32+I32 -> 10156817 | F32: =F33+F34 -> 2228106 | G32: =G33+G34 -> 23978063 | I32: 9953371
A33: Phí môi giới Brokerage fee | B33: 11.1 | D33: 203446 | E33: =D33+I33 -> 10156817 | F33: 2228106 | G33: 23978063 | I33: 9953371
A34: Chi phí thanh toán bù trừ Clearing settlement fee | B34: 11.2 | D34: 0 | E34: =D34+I34 -> 0 | F34: 0 | G34: 0 | I34: 0
A35: 2.2. Chi phí dự phòng nợ phải thu khó đòi và xử lý tổn thất phải thu khó đòi Provision expense | B35: 12 | D35: 0 | E35: =D35+I35 -> 0 | G35: 0 | I35: 0
A36: 2.3. Chi phí lãi vay Borrowing interest expense | B36: 13 | D36: 0 | E36: =D36+I36 -> 0 | F36: 0 | G36: 0 | I36: 0
A37: 2.4. Chi phí dự phòng giảm giá tài sản nhận thế chấp và xử lý tổn thất các khoản đầu tư cho vay có tài sản nhận thế chấp Impairment expense for devaluation of assets received as pledge | B37: 14 | D37: 0 | E37: =D37+I37 -> 0 | F37: 0 | G37: 0 | I37: 0
A38: 2.5. Chi phí đầu tư khác Other investments expense | B38: 15 | D38: 0 | E38: =D38+I38 -> 0 | F38: 0 | G38: 0 | I38: 0
A39: III. CHI PHÍ HOẠT ĐỘNG CỦA QUỸ OPERATING EXPENSE | B39: 20 | D39: 132674184 | E39: =D39+I39 -> 1731467598 | F39: =SUM(F40+F41+F45+F46+F47+F48+F49+F50+F51+F52) -> 147418776 | G39: =SUM(G40+G41+G45+G46+G47+G48+G49+G50+G51+G52) -> 2445262428 | I39: 1598793414
A40: 3.1. Phí quản lý Quỹ mở Management fee | B40: 20.1 | D40: 62843316 | E40: =D40+I40 -> 873410671 | F40: 74085020 | G40: 1559805380 | I40: 810567355
A41: 3.2. Phí dịch vụ lưu ký tài sản Quỹ mở Custodian fee | B41: 20.2 | D41: 15281786 | E41: =D41+I41 -> 184421921 | F41: =F42+F43+F44 -> 16300087 | G41: =G42+G43+G44 -> 195567048 | I41: 169140135
A42: Phí dịch vụ lưu ký - bảo quản tài sản Custodian service - Custody Fee | B42: 20.2.1 | D42: 15000000 | E42: =D42+I42 -> 177774194 | F42: 15000000 | G42: 180000000 | I42: 162774194
A43: Phí dịch vụ lưu ký - giao dịch chứng khoán Custodian service - Transaction fee | B43: 20.2.2 | D43: 201723 | E43: =D43+I43 -> 5353619 | F43: 1114053 | G43: 13084145 | I43: 5151896
...

Sheet BCTinhHinhTaiChinh_06105
A1: Mẫu số B02g - QM. Báo cáo tình hình tài chính Template B02g - QM. Statement of Financial Position
A2: (Ban hành kèm theo Thông tư 198/2012/TT-BTC ngày 15 tháng 11 năm 2012 về chế độ kế toán áp dụng đối với quỹ mở) (Issued in association with Circular 198/2012/TT-BTC dated 15 Nov 2012 on the Accounting Policies for Open-Ended Fund)
A3: BÁO CÁO TÌNH HÌNH TÀI CHÍNH STATEMENT OF FINANCIAL POSITION
A5: =+'Tong quat'!C1 -> Tại ngày 31 tháng 12 năm 2025/As at 31 December 2025
A7: Tên Quỹ: | B7: Quỹ Đầu Tư Trái Phiếu Bản Việt (VCAMFI)
A8: Fund name: | B8: Viet Capital Fixed Income Fund
A9: Tên Công ty quản lý quỹ: | B9: Công ty Cổ phần Quản lý Quỹ Đầu tư chứng khoán Bản Việt
A10: Fund Management Company: | B10: Viet Capital Asset Management Joint Stock Company
A11: Tên ngân hàng giám sát: | B11: Ngân hàng TMCP Đầu tư và Phát triển Việt Nam Chi nhánh Nam Kỳ Khởi Nghĩa
A12: Supervising bank: | B12: Bank for Investment and Development of VietNam JSC - Nam Ky Khoi Nghia Branch
A13: Ngày lập báo cáo: | B13: =BCThuNhap_06203!B13 -> Ngày 06 tháng 01 năm 2026
A14: Reporting Date: | B14: =BCThuNhap_06203!B14 -> 46028
A16: Chỉ tiêu Indicator | B16: Mã số Code | C16: Thuyết minh Note | D16: Ngày 31 tháng 12 năm 2025 As at 31 Dec 2025 | E16: Ngày 30 tháng 11 năm 2025 As at 30 Nov 2025
A17: I. TÀI SẢN ASSETS
A18: 1.Tiền gửi ngân hàng và tương đương tiền Cash at bank and cash equivalent | B18: 110 | D18: 2611560762 | E18: 5599469725
A19: 1.1. Tiền gửi ngân hàng cho hoạt động của Quỹ mở Cash at bank for Fund's operation | B19: 111 | D19: 2611560762 | E19: 5599469725
A20: Tiền gửi của nhà đầu tư cho hoạt động mua chứng chỉ quỹ Cash at bank for Fund's subscription | B20: 111.1 | D20: 20000000 | E20: 10000000
A21: Tiền phải trả cho Nhà đầu tư về mua lại chứng chỉ quỹ Cash at bank for Fund's redemption | B21: 111.2 | D21: 0 | E21: 0
A22: Tiền gửi ngân hàng cho hoạt động của Quỹ Cash at bank for Fund's operation | B22: 111.3 | D22: 2591560762 | E22: 5589469725
A23: 1.2. Tiền gửi có kỳ hạn dưới 3 tháng Term deposit less than 3 months | B23: 112 | D23: 0 | E23: 0
A24: 2. Các khoản đầu tư thuần Investment | B24: 120 | D24: 43367103640 | E24: 46418880417
A25: 2.1. Các khoản đầu tư Investments | B25: 121 | D25: 43367103640 | E25: 46418880417
A26: Cổ phiếu niêm yết Listed shares | B26: 121.1 | D26: 0 | E26: 0
A27: Cổ phiếu chưa niêm yết Unlisted shares | B27: 121.2 | D27: 0 | E27: 0
A28: Trái phiếu Bonds | B28: 121.3 | D28: 43367103640 | E28: 46418880417
A29: Trái phiếu niêm yết Listed bond | B29: 121.4 | D29: 39367103640 | E29: 42418880417
A30: Trái phiếu chưa niêm yết Unlisted bond | B30: 121.5 | D30: 4000000000 | E30: 4000000000
A31: Hợp đồng tiền gửi có kỳ hạn trên ba (03) tháng Deposit with term over three (03) months | B31: 121.6 | D31: 0 | E31: 0
A32: Chứng chỉ tiền gửi ghi danh Registered Deposit Certificate | B32: 121.7 | D32: 0 | E32: 0
A33: Quyền mua chứng khoán Investments - Rights | B33: 121.8 | D33: 0 | E33: 0
A34: 2.2. Dự phòng giảm giá tài sản nhận thế chấp Impairment of devaluation of assets as pledge | B34: 122 | D34: 0 | E34: 0
A35: 3. Các khoản phải thu Receivables | B35: 130 | D35: 684851370 | E35: 1082552367
A36: 3.1 Phải thu về bán các khoản đầu tư Receivables from investments sold but not yet settled | B36: 131 | D36: 0 | E36: 0
A37: 3.2. Phải thu và dự thu cổ tức, tiền lãi các khoản đầu tư Dividend and interest receivables | B37: 133 | D37: 684851370 | E37: 1082552367
A38: Phải thu cổ tức, tiền lãi đến ngày nhận Dividend and interest receivables | B38: 134 | D38: 0 | E38: 0
A39: Trong đó: Phải thu khó đòi về cổ tức, tiền lãi đến ngày nhận nhưng chưa nhận được In which: Overdue receivables from dividend, interest income | B39: 135 | D39: 0 | E39: 0
A40: Dự thu cổ tức, tiền lãi chưa đến ngày nhận Accrual dividend, interest income | B40: 136 | D40: 684851370 | E40: 1082552367
A41: Phải thu cổ tức Dividend receivable | B41: 136.1 | D41: 0 | E41: 0
A42: Phải thu lãi tiền gửi có kỳ hạn Interest receivable from term deposit | B42: 136.2 | D42: 0 | E42: 0
A43: Phải thu lãi chứng chỉ tiền gửi ghi danh Interest receivable from registered Deposit Certificate | B43: 136.3 | D43: 0 | E43: 0
...

Sheet BCTaiSan_06027
A1: Phụ lục XXVI. Mẫu báo cáo về hoạt động của Quỹ Appendix XXVI. Report on Fund's Operation
A2: (Ban hành kèm theo Thông tư số 98/2020/TT-BTC ngày 16 tháng 11 năm 2020 của Bộ trưởng Bộ Tài Chính về hướng dẫn hoạt động và quản lý quỹ đầu tư chứng khoán (Issued in association with Circular 98/2020/TT-BTC dated 16 November 2020 of the Minister of Finance on guiding the operation and management of the securities investment funds
A3: BÁO CÁO HOẠT ĐỘNG ĐẦU TƯ CỦA QUỸ MỞ REPORT ON FUND'S INVESTMENT ACTIVITIES
A5: =BCTinhHinhTaiChinh_06105!A5 -> Tại ngày 31 tháng 12 năm 2025/As at 31 December 2025
A7: Tên Quỹ: | C7: Quỹ Đầu Tư Trái Phiếu Bản Việt (VCAMFI)
A8: Fund name: | C8: Viet Capital Fixed Income Fund
A9: Tên Công ty quản lý quỹ: | C9: Công ty Cổ phần Quản lý Quỹ Đầu tư chứng khoán Bản Việt
A10: Fund Management Company: | C10: Viet Capital Asset Management Joint Stock Company
A11: Tên ngân hàng giám sát: | C11: Ngân hàng TMCP Đầu tư và Phát triển Việt Nam CN Nam Kỳ Khởi Nghĩa
A12: Supervising bank: | C12: Bank for Investment and Development of VietNam JSC - Nam Ky Khoi Nghia Branch
A13: Ngày lập báo cáo: | C13: =BCThuNhap_06203!B13 -> Ngày 06 tháng 01 năm 2026
A14: Reporting Date: | C14: =BCThuNhap_06203!B14 -> 46028
A15: A. | B15: BÁO CÁO CHUNG VỀ HOẠT ĐỘNG ĐẦU TƯ CỦA QUỸ/GENERAL INFORMATION ON FUND'S INVESTMENT ACTIVITIES
A16: I | B16: BÁO CÁO TÀI SẢN CỦA QUỸ / ASSET REPORT
A17: STT No | B17: Nội dung Indicator | C17: Mã chỉ tiêu Code | D17: =BCTinhHinhTaiChinh_06105!D16 -> Ngày 31 tháng 12 năm 2025 As at 31 Dec 2025 | E17: =BCTinhHinhTaiChinh_06105!E16 -> Ngày 30 tháng 11 năm 2025 As at 30 Nov 2025 | F17: %/cùng kỳ năm trước %/against last year
A18: I | B18: TÀI SẢN ASSETS | C18: 2200
A19: I.1 | B19: Tiền và các khoản tương đương tiền Cash and Cash Equivalents | C19: 2201 | D19: 2611560762 | E19: 5599469725 | F19: =D19/G19 -> 1.6348811 | G19: 1597401026
B20: Tiền Cash | C20: 2202 | D20: 0 | E20: 0 | F20: 0 | G20: 0
B21: Tiền gửi ngân hàng Cash at Bank | C21: 2203 | D21: 2611560762 | E21: 5599469725 | F21: =D21/G21 -> 1.6348811 | G21: 1597401026
B22: Tiền gửi của nhà đầu tư cho hoạt động mua chứng chỉ quỹ Cash at bank for Fund's subscription | C22: 2203.1 | D22: 20000000 | E22: 10000000 | F22: =D22/G22 -> 1.9999298 | G22: 10000351
B23: Tiền phải trả cho Nhà đầu tư về mua lại chứng chỉ quỹ Cash at bank for Fund's redemption | C23: 2203.2 | D23: 0 | E23: 0 | F23: =D23/G23 -> 0 | G23: 31
B24: Tiền gửi ngân hàng cho hoạt động của Quỹ Cash at bank for Fund's operation | C24: 2203.3 | D24: 2591560762 | E24: 5589469725 | F24: =D24/G24 -> 1.6325814 | G24: 1587400644
B25: Các khoản tương đương tiền Cash Equivalents | C25: 2204 | D25: 0 | E25: 0 | F25: 0 | G25: 0
A26: I.2 | B26: Các khoản đầu tư (kê chi tiết) Investments | C26: 2205 | D26: 43367103640 | E26: 46418880417 | F26: =D26/G26 -> 0.63100331 | G26: 68727220373
B27: Cổ phiếu niêm yết Listed shares | C27: 2205.01 | D27: 0 | E27: 0 | F27: 0 | G27: 0
B28: Cổ phiếu chưa niêm yết Unlisted shares | C28: 2205.02 | D28: 0 | E28: 0 | F28: 0 | G28: 0
B29: Trái phiếu Bonds | C29: 2205.03 | D29: 43367103640 | E29: 46418880417 | F29: =D29/G29 -> 0.63100331 | G29: 68727220373
B30: Hợp đồng tiền gửi có kỳ hạn quá ba (03) tháng Deposit with term over three (03) months | C30: 2205.04 | D30: 0 | E30: 0 | F30: 0 | G30: 0
B31: Chứng chỉ tiền gửi ghi danh Registered Deposit Certificate | C31: 2205.05 | D31: 0 | E31: 0 | F31: 0 | G31: 0
B32: Quyền mua chứng khoán Investments - Rights | C32: 2205.06 | D32: 0 | E32: 0 | F32: 0 | G32: 0
A33: I.3 | B33: Cổ tức, trái tức được nhận Dividend, Coupon Receivables | C33: 2206 | D33: 684851370 | E33: 1082552367 | F33: =D33/G33 -> 0.50870572 | G33: 1346262384
B34: Cổ tức được nhận Dividend receivables | C34: 2206.1 | D34: 0 | E34: 0 | F34: 0 | G34: 0
B35: Trái tức được nhận Coupon Receivables | C35: 2206.2 | D35: 684851370 | E35: 1082552367 | F35: =D35/G35 -> 0.50870572 | G35: 1346262384
A36: I.4 | B36: Lãi được nhận Interest Receivables | C36: 2207 | D36: 0 | E36: 0 | F36: 0 | G36: 0
B37: Phải thu lãi tiền gửi có kỳ hạn Interest receivable from term deposit | C37: 2207.1 | D37: 0 | E37: 0 | F37: 0 | G37: 0
B38: Phải thu lãi chứng chỉ tiền gửi ghi danh Interest receivable from registered Deposit Certificate | C38: 2207.2 | D38: 0 | E38: 0 | F38: 0 | G38: 0
A39: I.5 | B39: Tiền bán chứng khoán chờ thu Securities Trading Receivables | C39: 2208 | D39: 0 | E39: 0 | F39: 0 | G39: 0
A40: I.6 | B40: Các khoản phải thu khác Other Receivables | C40: 2210 | D40: 0 | E40: 0 | F40: 0 | G40: 0
A41: I.7 | B41: Các tài sản khác Other Assets | C41: 2211 | D41: 0 | E41: 0 | F41: 0 | G41: 0
A42: I.8 | B42: TỔNG TÀI SẢN TOTAL ASSETS | C42: 2212 | D42: 46663515772 | E42: 53100902509 | F42: =D42/G42 -> 0.65108051 | G42: 71670883783
...

Sheet BCKetQuaHoatDong_06028
A1: Phụ lục XXVI. Mẫu báo cáo về hoạt động của Quỹ Appendix XXVI. Report on Fund's Operation
A2: (Ban hành kèm theo Thông tư số 98/2020/TT-BTC ngày 16 tháng 11 năm 2020 của Bộ trưởng Bộ Tài Chính về hướng dẫn hoạt động và quản lý quỹ đầu tư chứng khoán (Issued in association with Circular 98/2020/TT-BTC dated 16 November 2020 of the Minister of Finance on guiding the operation and management of the securities investment funds
A3: BÁO CÁO HOẠT ĐỘNG ĐẦU TƯ CỦA QuỸ MỞ REPORT ON FUND'S INVESTMENT ACTIVITIES
A5: =BCThuNhap_06203!A5 -> Tháng 12 năm 2025/ December 2025
A7: Tên Quỹ: | C7: Quỹ Đầu Tư Trái Phiếu Bản Việt (VCAMFI)
A8: Fund name: | C8: Viet Capital Fixed Income Fund
A9: Tên Công ty quản lý quỹ: | C9: Công ty Cổ phần Quản lý Quỹ Đầu tư chứng khoán Bản Việt
A10: Fund Management Company: | C10: Viet Capital Asset Management Joint Stock Company
A11: Tên ngân hàng giám sát: | C11: Ngân hàng TMCP Đầu tư và Phát triển Việt Nam Chi nhánh Nam Kỳ Khởi Nghĩa
A12: Supervising bank: | C12: Bank for Investment and Development of VietNam JSC - Nam Ky Khoi Nghia Branch
A13: Ngày lập báo cáo: | C13: =BCThuNhap_06203!B13 -> Ngày 06 tháng 01 năm 2026
A14: Reporting Date: | C14: =BCThuNhap_06203!B14 -> 46028
A15: A. | B15: BÁO CÁO CHUNG VỀ HOẠT ĐỘNG ĐẦU TƯ CỦA QUỸ/GENERAL INFORMATION ON FUND'S INVESTMENT ACTIVITIES
A16: II | B16: BÁO CÁO KẾT QUẢ HOẠT ĐỘNG / PROFIT AND LOSS REPORT
A17: STT No | B17: Chỉ tiêu Indicator | C17: Mã chỉ tiêu Code | D17: Tháng 12 năm 2025 December 2025 | E17: Tháng 11 năm 2025 November 2025 | F17: Lũy kế từ đầu năm Accumulated from beginning of year
A18: I | B18: Thu nhập từ hoạt động đầu tư Income from Investment Activities | C18: 2220 | D18: 327150851 | E18: 336356539 | F18: =D18+H18 -> 4721458714 | G18: 2220 | H18: 4394307863
A19: 1 | B19: Cổ tức, trái tức được nhận Dividend, Coupon received | C19: 2221 | D19: 326151830 | E19: 335980036 | F19: =D19+H19 -> 4673456772 | G19: 2221 | H19: 4347304942
B20: Cổ tức được nhận Dividend received | C20: 2221.1 | D20: 0 | E20: 0 | F20: =D20+H20 -> 0 | H20: 0
B21: Trái tức được nhận Coupon received | C21: 2221.2 | D21: 326151830 | E21: 335980036 | F21: =D21+H21 -> 4673456772 | H21: 4347304942
A22: 2 | B22: Lãi được nhận Income from Interest | C22: 2222 | D22: 999021 | E22: 376503 | F22: =D22+H22 -> 48001942 | G22: 2222 | H22: 47002921
A23: 3 | B23: Các khoản thu nhập khác Other income | C23: 2223 | D23: 0 | E23: 0 | F23: =D23+H23 -> 0 | G23: 2223 | H23: 0
A24: II | B24: Chi phí Expense | C24: 2224 | D24: 132877630 | E24: 130887981 | F24: =D24+H24 -> 1741624415 | G24: 2224 | H24: 1608746785
A25: 1 | B25: Chi phí quản lý trả cho Công ty quản lý quỹ Management Fee paid to Fund Management Company | C25: 2225 | D25: 62843316 | E25: 60609658 | F25: =D25+H25 -> 873410671 | G25: 2225 | H25: 810567355
A26: 2 | B26: Chi phí lưu ký, giám sát trả cho Ngân hàng Giám sát/VSD Custody fee, Supervising fee paid to Supervising Bank/VSD | C26: 2226 | D26: 20781786 | E26: 20886366 | F26: =D26+H26 -> 269459018 | G26: 2226 | H26: 248677232
B27: Phí dịch vụ lưu ký - bảo quản tài sản Custodian service - Custody Fee | C27: 2226.1 | D27: 15000000 | E27: 15000000 | F27: =D27+H27 -> 177774194 | G27: 2226.1 | H27: 162774194
B28: Phí dịch vụ lưu ký - giao dịch chứng khoán Custodian service - Transaction fee | C28: 2226.2 | D28: 201723 | E28: 305646 | F28: =D28+H28 -> 5353619 | G28: 2226.2 | H28: 5151896
B29: Phí dịch vụ lưu ký tại VSD Custodian fee at VSD | C29: 2226.3 | D29: 80063 | E29: 80720 | F29: =D29+H29 -> 1294108 | G29: 2226.3 | H29: 1214045
B30: Phí giám sát Supervisory fee | C30: 2226.4 | D30: 5500000 | E30: 5500000 | F30: =D30+H30 -> 85037097 | G30: 2226.4 | H30: 79537097
A31: 3 | B31: Chi phí dịch vụ quản trị quỹ, chi phí dịch vụ đại lý chuyển nhượng và các chi phí khác mà công ty quản lý quỹ trả cho tổ chức cung cấp dịch vụ có liên quan Fund Administration Fee, Transfer Agency Fee, and other fee paid to relevant Fund's service providers | C31: 2227 | D31: 29700000 | E31: 29700000 | F31: =D31+H31 -> 352408065 | G31: 2227 | H31: 322708065
B32: Chi phí dịch vụ quản trị Quỹ Fund Administration Fee | C32: 2227.1 | D32: 16500000 | E32: 16500000 | F32: =D32+H32 -> 194008065 | G32: 2227.1 | H32: 177508065
B33: Chi phí dịch vụ Đại lý Chuyển nhượng Transfer Agency Fee | C33: 2227.2 | D33: 13200000 | E33: 13200000 | F33: =D33+H33 -> 158400000 | G33: 2227.2 | H33: 145200000
A34: 4 | B34: Chi phí kiểm toán trả cho tổ chức kiểm toán Audit fee | C34: 2228 | D34: 9425927 | E34: 9121860 | F34: =D34+H34 -> 114081844 | G34: 2228 | H34: 104655917
A35: 5 | B35: Chi phí dịch vụ tư vấn pháp lý, dịch vụ báo giá và các dịch vụ hợp lý khác, thù lao trả cho ban đại diện quỹ Legal consultancy expenses, price quotation fee, other valid expenses, remuneration payable to fund representative board | C35: 2229 | D35: 9000000 | E35: 9000000 | F35: =D35+H35 -> 108000000 | G35: 2229 | H35: 99000000
B36: Thù lao ban đại diện Quỹ Remuneration of Fund's Board of Representatives | C36: 2229.1 | D36: 9000000 | E36: 9000000 | F36: =D36+H36 -> 108000000 | G36: 2229.1 | H36: 99000000
B37: Chi phí cung cấp báo giá chứng khoán Price feed fee Expenses | C37: 2229.2 | D37: 0 | E37: 0 | F37: =D37+H37 -> 0 | G37: 2229.2 | H37: 0
A38: 6 | B38: Chi phí dự thảo, in ấn, gửi bản cáo bạch, bản cáo bạch tóm tắt, báo cáo tài chính, xác nhận giao dịch, sao kê tài khoản và các tài liệu khác cho nhà đầu tư; chi phí công bố thông tin của quỹ; chi phí tổ chức họp đại hội nhà đầu tư, ban đại diện quỹ Fee for drafting, printing, distribution of prospectus, summarised propectus, financial statements, transaction confirmations, account statements and other documents to investors; information disclosure fee; fee for organising annual general meeting, board of representatives meeting | C38: 2230 | D38: 0 | E38: 0 | F38: =D38+H38 -> 0 | G38: 2230 | H38: 0
B39: Chi phí họp Đại hội Quỹ Meeting expense | C39: 2230.1 | D39: 0 | E39: 0 | F39: =D39+H39 -> 0 | G39: 2230.1 | H39: 0
B40: Phí báo cáo thường niên Annual report expense | C40: 2230.2 | D40: 0 | E40: 0 | F40: =D40+H40 -> 0 | G40: 2230.2 | H40: 0
B41: Chi phí họp, công tác của ban đại diện Fund's Board of Representatives meeting, travelling expense | C41: 2230.3 | D41: 0 | E41: 0 | F41: =D41+H41 -> 0 | G41: 2230.3 | H41: 0
B42: Chi phí công bố thông tin của Quỹ Expenses for information disclosure of the Fund | C42: 2230.4 | D42: 0 | E42: 0 | F42: =D42+H42 -> 0 | G42: 2230.4 | H42: 0
...

Sheet BCDanhMucDauTu_06029
A1: Phụ lục XXVI. Mẫu báo cáo về hoạt động của Quỹ Appendix XXVI. Report on Fund's Operation
A2: (Ban hành kèm theo Thông tư số 98/2020/TT-BTC ngày 16 tháng 11 năm 2020 của Bộ trưởng Bộ Tài Chính về hướng dẫn hoạt động và quản lý quỹ đầu tư chứng khoán (Issued in association with Circular 98/2020/TT-BTC dated 16 November 2020 of the Minister of Finance on guiding the operation and management of the securities investment funds)
A3: BÁO CÁO HOẠT ĐỘNG ĐẦU TƯ CỦA QUỸ MỞ REPORT ON FUND'S INVESTMENT ACTIVITIES
A5: =BCTinhHinhTaiChinh_06105!A5 -> Tại ngày 31 tháng 12 năm 2025/As at 31 December 2025
A7: Tên Quỹ: | C7: Quỹ Đầu Tư Trái Phiếu Bản Việt (VCAMFI)
A8: Fund name: | C8: Viet Capital Fixed Income Fund
A9: Tên Công ty quản lý quỹ: | C9: Công ty Cổ phần Quản lý Quỹ Đầu tư chứng khoán Bản Việt
A10: Fund Management Company: | C10: Viet Capital Asset Management Joint Stock Company
A11: Tên ngân hàng giám sát: | C11: Ngân hàng TMCP Đầu tư và Phát triển Việt Nam Chi nhánh Nam Kỳ Khởi Nghĩa
A12: Supervising bank: | C12: Bank for Investment and Development of VietNam JSC - Nam Ky Khoi Nghia Branch
A13: Ngày lập báo cáo: | C13: =BCThuNhap_06203!B13 -> Ngày 06 tháng 01 năm 2026
A14: Reporting Date: | C14: =BCThuNhap_06203!B14 -> 46028
A15: A. | B15: BÁO CÁO CHUNG VỀ HOẠT ĐỘNG ĐẦU TƯ CỦA QUỸ/GENERAL INFORMATION ON FUND'S INVESTMENT ACTIVITIES
A16: III | B16: BÁO CÁO VỀ TÌNH HÌNH DANH MỤC ĐẦU TƯ CỦA QUỸ / INVESTMENT PORTFOLIO REPORT
A17: STT/No. | B17: Loại Category | C17: Mã chỉ tiêu Code | D17: Số Lượng Quantity | E17: Giá thị trường hoặc giá trị hợp lý tại ngày báo cáo Market price | F17: Tổng giá trị (Đồng) Value (VND) | G17: Tỷ lệ % Tổng giá trị tài sản của Quỹ % of total asset
A18: I | B18: CỔ PHIẾU NIÊM YẾT LISTED EQUITY | C18: 2246
B19: TỔNG TOTAL | C19: 2247 | E19: 0 | G19: 0
A20: II | B20: CỔ PHIẾU CHƯA NIÊM YẾT UNLISTED EQUITY | C20: 2248 | D20: 0 | E20: 0 | F20: 0
B21: TỔNG TOTAL | C21: 2249 | D21: 0 | E21: 0 | F21: 0 | G21: =F21/$F$55 -> 0
B22: TỔNG CÁC LOẠI CỔ PHIẾU TOTAL | C22: 2250 | D22: =D19 -> 0 | E22: 0 | F22: =F19 -> 0 | G22: 0
A23: III | B23: TRÁI PHIẾU BONDS | C23: 2251
A24: 1 | B24: Trái phiếu niêm yết Listed bond | C24: 2251.1
B25: BVB124020 | C25: 2251.1.1 | D25: 80000 | E25: 100072.22 | F25: =+E25*D25 -> 8005777534 | G25: =F25/$F$55 -> 0.17156396
B26: CTG121031 | C26: 2251.1.2 | D26: 30000 | E26: 104920.54 | F26: =+E26*D26 -> 3147616158 | G26: =F26/$F$55 -> 0.067453472
B27: LPB121036 | C27: 2251.1.3 | D27: 30000 | E27: 99999.726 | F27: =+E27*D27 -> 2999991781 | G27: =F27/$F$55 -> 0.064289879
B28: MSN123008 | C28: 2251.1.4 | D28: 90000 | E28: 96999.589 | F28: =+E28*D28 -> 8729963014 | G28: =F28/$F$55 -> 0.18708327
B29: TNG122017 | C29: 2251.1.6 | D29: 85000 | E29: 100526.08 | F29: =+E29*D29 -> 8544716794 | G29: =F29/$F$55 -> 0.18311344
B30: VBA123036 | C30: 2251.1.7 | D30: 30000 | E30: 99984.787 | F30: =+E30*D30 -> 2999543604 | G30: =F30/$F$55 -> 0.064280275
B31: VHM121025 | C31: 2251.1.8 | D31: 50000 | E31: 98789.895 | F31: =+E31*D31 -> 4939494755 | G31: =F31/$F$55 -> 0.10585346
A32: 2 | B32: Trái phiếu chưa niêm yết Unlisted bond | C32: 2251.2
B33: NLG12501 | C33: 2251.2.1 | D33: 40 | E33: 100000000 | F33: =+E33*D33 -> 4000000000 | G33: =F33/$F$55 -> 0.085720073
B34: TỔNG TOTAL | C34: 2252 | D34: =SUM(D25:D33) -> 395040 | F34: =SUM(F25:F33) -> 43367103640 | G34: =F34/$F$55 -> 0.92935783
A35: IV | B35: CÁC LOẠI CHỨNG KHOÁN KHÁC OTHER SECURITIES | C35: 2253
A36: 1 | B36: Quyền mua Rights | C36: 2253.1
B37: Quyền mua Rights | C37: 2253.1.1 | F37: 0 | G37: =+F37/$F$55 -> 0
B38: TỔNG TOTAL | C38: 2254 | D38: =SUM(D37) -> 0 | F38: =SUM(F37) -> 0 | G38: =F38/$F$55 -> 0
B39: TỔNG CÁC LOẠI CHỨNG KHOÁN SECURITIES INVESTMENT TOTAL | C39: 2255 | D39: =+D38+D22+D34 -> 395040 | F39: =+F38+F22+F34 -> 43367103640 | G39: =+F39/$F$55 -> 0.92935783
A40: V | B40: CÁC TÀI SẢN KHÁC OTHER ASSETS | C40: 2256 | I40: Tach lai CD va TD
A41: 1 | B41: Cổ tức được nhận Dividend receivables | C41: 2256.1 | D41: 0 | E41: 0 | F41: =BCTaiSan_06027!D34 -> 0 | G41: =F41/$F$55 -> 0
A42: 2 | B42: Lãi trái phiếu được nhận Coupon receivables | C42: 2256.2 | D42: 0 | E42: 0 | F42: =BCTaiSan_06027!D35 -> 684851370 | G42: =F42/$F$55 -> 0.014676377
...

Sheet BCHoatDongVay_06026
A1: Phụ lục XXVI. Mẫu báo cáo về hoạt động của Quỹ Appendix XXVI. Report on Fund's Operation
A2: (Ban hành kèm theo Thông tư số 98/2020/TT-BTC ngày 16 tháng 11 năm 2020 của Bộ trưởng Bộ Tài Chính về hướng dẫn hoạt động và quản lý quỹ đầu tư chứng khoán (Issued in association with Circular 98/2020/TT-BTC dated 16 November 2020 of the Minister of Finance on guiding the operation and management of the securities investment funds)
A3: BÁO CÁO HOẠT ĐỘNG ĐẦU TƯ CỦA QUỸ MỞ REPORT ON FUND'S INVESTMENT ACTIVITIES
A4: =BCThuNhap_06203!A5 -> Tháng 12 năm 2025/ December 2025
A6: Tên Quỹ: | G6: Quỹ Đầu Tư Trái Phiếu Bản Việt (VCAMFI)
A7: Fund name: | G7: Viet Capital Fixed Income Fund
A8: Tên Công ty quản lý quỹ: | G8: Công ty Cổ phần Quản lý Quỹ Đầu tư chứng khoán Bản Việt
A9: Fund Management Company: | G9: Viet Capital Asset Management Joint Stock Company
A10: Tên ngân hàng giám sát: | G10: Ngân hàng TMCP Đầu tư và Phát triển Việt Nam Chi nhánh Nam Kỳ Khởi Nghĩa
A11: Supervising bank: | G11: Bank for Investment and Development of VietNam JSC - Nam Ky Khoi Nghia Branch
A12: Ngày lập báo cáo: | G12: =BCThuNhap_06203!B13 -> Ngày 06 tháng 01 năm 2026
A13: Reporting Date: | G13: =BCThuNhap_06203!B14 -> 46028
A14: A. | B14: BÁO CÁO CHUNG VỀ HOẠT ĐỘNG ĐẦU TƯ CỦA QUỸ/GENERAL INFORMATION ON FUND'S INVESTMENT ACTIVITIES
A15: IV | B15: BÁO CÁO HOẠT ĐỘNG VAY, GIAO DỊCH MUA BÁN LẠI / REPORT ON BORROWING OPERATION, REPO/REVERSE REPO TRANSACTIONS
A16: STT No. | B16: Nội dung hoạt động (nêu chi tiết theo mục tiêu và đối tác) Description | C16: Mã chỉ tiêu Code | D16: Đối tác Counterparty | E16: Mục tiêu/Tài sản đảm bảo Collateral | F16: Kỳ hạn Term | G16: Giá trị khoản vay hoặc khoản cho vay Amount | H16: Thời điểm giao dịch As at transaction date | J16: Thời điểm báo cáo As at reporting date
H17: Ngày tháng năm Date | I17: Tỷ lệ giá trị hợp đồng/giá trị tài sản ròng của quỹ Balance/NAV | J17: Ngày tháng năm Date | K17: Tỷ lệ giá trị hợp đồng/giá trị tài sản ròng của quỹ Balance/NAV
A18: 1 | B18: Các khoản vay tiền (nêu chi tiết từng hợp đồng) Borrowings (detail by each contract) | C18: 2287
A19: I | B19: Tổng giá trị các khoản vay tiền/giá trị tài sản ròng Borrowings/NAV | C19: 2288
A20: 2 | B20: Hợp đồng Repo (nêu chi tiết từng hợp đồng) Repo contract (detail by each contract) | C20: 2289
A21: II | B21: Tổng giá trị các hợp đồng Repo/giá trị tài sản ròng Total value of Repo contracts/NAV | C21: 2290
A22: A | B22: Tổng giá trị các khoản vay/giá trị tài sản ròng (=I+II) Total Borrowings, Repo/NAV (=I+II) | C22: 2291
A23: 3 | B23: Cho vay chứng khoán (nêu chi tiết từng hợp đồng) Securities lending (detail by each contract) | C23: 2292
A24: III | B24: Tổng giá trị các hợp đồng/giá trị tài sản ròng Total contract value/NAV | C24: 2293
A25: 4 | B25: Hợp đồng Reverse Repo (nêu chi tiết từng hợp đồng) Reverse Repo contract (Detail by each contract) | C25: 2295
A26: IV | B26: Tổng giá trị các hợp đồng/giá trị tài sản ròng Total contract value/NAV | C26: 2296
A27: B | B27: Tổng giá trị các khoản cho vay/giá trị tài sản ròng (=III + IV) Total Loans/NAV (=III + IV) | C27: 2297
A30: * Ghi chú: kỳ báo cáo không phát sinh
A32: Đại diện có thẩm quyền của Ngân hàng giám sát | I32: Đại diện có thẩm quyền của Công ty quản lý Quỹ
A33: Authorised Representative of Supervisory Bank | I33: Authorised Representative of Fund Management Company
A44: Ngân hàng TMCP Đầu tư và Phát triển Việt Nam Chi nhánh Nam Kỳ Khởi Nghĩa | I44: Công ty CP Quản lý Quỹ Đầu tư chứng khoán Bản Việt
A45: Nguyễn Thị Minh Châu | I45: Ông Pham Pho Hop
A46: Phó giám đốc Chi nhánh | I46: Tổng Giám Đốc

Sheet Khac_06030
A1: Phụ lục XXVI. Mẫu báo cáo về hoạt động của Quỹ Appendix XXVI. Report on Fund's Operation
A2: (Ban hành kèm theo Thông tư số 98/2020/TT-BTC ngày 16 tháng 11 năm 2020 của Bộ trưởng Bộ Tài Chính về hướng dẫn hoạt động và quản lý quỹ đầu tư chứng khoán (Issued in association with Circular 98/2020/TT-BTC dated 16 November 2020 of the Minister of Finance on guiding the operation and management of the securities investment funds)
A3: BÁO CÁO HOẠT ĐỘNG ĐẦU TƯ CỦA QUỸ MỞ REPORT ON FUND'S INVESTMENT ACTIVITIES
A5: =BCThuNhap_06203!A5 -> Tháng 12 năm 2025/ December 2025
A7: Tên Quỹ: | C7: Quỹ Đầu Tư Trái Phiếu Bản Việt (VCAMFI)
A8: Fund name: | C8: Viet Capital Fixed Income Fund
A9: Tên Công ty quản lý quỹ: | C9: Công ty Cổ phần Quản lý Quỹ Đầu tư chứng khoán Bản Việt
A10: Fund Management Company | C10: Viet Capital Asset Management Joint Stock Company
A11: Tên ngân hàng giám sát: | C11: Ngân hàng TMCP Đầu tư và Phát triển Việt Nam Chi nhánh Nam Kỳ Khởi Nghĩa
A12: Supervising bank: | C12: Bank for Investment and Development of VietNam JSC - Nam Ky Khoi Nghia Branch
A13: Ngày lập báo cáo: | C13: =BCThuNhap_06203!B13 -> Ngày 06 tháng 01 năm 2026
A14: Reporting Date: | C14: =BCThuNhap_06203!B14 -> 46028
A15: A. | B15: BÁO CÁO CHUNG VỀ HOẠT ĐỘNG ĐẦU TƯ CỦA QUỸ/GENERAL INFORMATION ON FUND'S INVESTMENT ACTIVITIES
A16: V | B16: MỘT SỐ CHỈ TIÊU KHÁC / OTHER INDICATORS
A17: STT/No. | B17: Chỉ tiêu/Indicators | C17: Mã chỉ tiêu/Code | D17: Tháng 12 năm 2025 December 2025 | E17: Tháng 11 năm 2025 November 2025
A18: I | B18: CÁC CHỈ TIÊU VỀ HIỆU QUẢ HOẠT ĐỘNG INVESTMENT PERFORMANCE INDICATORS | C18: 2264 | F18: 5.2744852e+10
A19: 1 | B19: Tỷ lệ giá dịch vụ quản lý quỹ trả cho công ty quản lý quỹ/Giá trị tài sản ròng trung bình trong kỳ (%) Management fee paid to the fund management company/Average NAV (%) | C19: 2265 | D19: =+BCKetQuaHoatDong_06028!D25*12/Khac_06030!F18 -> 0.014297505 | E19: 0.013806341
A20: 2 | B20: Tỷ lệ giá dịch vụ lưu ký, giám sát trả cho Ngân hàng Giám sát/Giá trị tài sản ròng trung bình trong kỳ (%) Custody and supervising fees paid to the Supervisory Bank/Average NAV (%) | C20: 2266 | D20: =+(BCKetQuaHoatDong_06028!D26-BCKetQuaHoatDong_06028!D29)*12/Khac_06030!F18 -> 0.0047098563 | E20: 0.0047393412
A21: 3 | B21: Tỷ lệ chi phí dịch vụ quản trị quỹ, và các chi phí khác mà công ty quản lý quỹ trả cho tổ chức cung cấp dịch vụ có liên quan/Giá trị tài sản ròng của quỹ trung bình trong kỳ (%) Fund admin fee, and other fees paid to relating services providers by the fund management company/Average NAV (%) | C21: 22661 | D21: =+(BCKetQuaHoatDong_06028!D32+BCKetQuaHoatDong_06028!D33)*12/Khac_06030!F18 -> 0.0067570575 | E21: 0.006765396
A22: 4 | B22: Chi phí kiểm toán trả cho tổ chức kiểm toán (nếu phát sinh) / Giá trị tài sản ròng trung bình trong kỳ (%) Audit fee expense over average NAV ratio (%) | C22: 2267 | D22: =+BCKetQuaHoatDong_06028!D34*12/Khac_06030!F18 -> 0.002144496 | E22: 0.0020778786
A23: 5 | B23: Chi phí dịch vụ tư vấn pháp lý, dịch vụ báo giá và các dịch vụ hợp lý khác, thù lao trả cho ban đại diện quỹ / Giá trị tài sản ròng trung bình trong kỳ (%) Legal consultancy, OTC price quotation and other valid service fees; Board of Representatives' remuneration expense over average NAV ratio (%) | C23: 2268 | D23: =+BCKetQuaHoatDong_06028!D35*12/Khac_06030!F18 -> 0.0020475932 | E23: 0.00205012
A24: 6 | B24: Tỷ lệ chi phí /Giá trị tài sản ròng trung bình trong kỳ (%) Expense/Average NAV (%) | C24: 2269 | D24: =+(BCKetQuaHoatDong_06028!D24)*12/Khac_06030!F18 -> 0.030231037 | E24: 0.029815119
A25: 7 | B25: Tốc độ vòng quay danh mục trong kỳ (%) = (Tổng giá trị mua vào + tổng giá trị bán ra) x 100%/ (2 x Giá trị tài sản ròng trung bình trong kỳ) Portfolio turnover rate (%) = (Total value of purchase transactions + total value of sales transactions) x 100%/ (2 x Average NAV) (**) | C25: 2270 | D25: =+F25/2*12/F18 -> 0.26696079 | E25: 0.3423984 | F25: 2346801233
A26: II | B26: CÁC CHỈ TIÊU KHÁC OTHER INDICATORS | C26: 2272
A27: 1 | B27: Quy mô quỹ đầu kỳ (tính theo mệnh giá chứng chỉ quỹ) Fund scale at the beginning of the period (based on par value of fund certificate) | C27: 2273 | D27: =D28 -> 43469378700 | E27: 43585467600
B28: Tổng giá trị chứng chỉ quỹ đang lưu hành đầu kỳ Total value of outstanding Fund Certificate at the beginning of period | C28: 2274 | D28: =E38 -> 43469378700 | E28: 43585467600
B29: Tổng số lượng đơn vị quỹ đang lưu hành đầu kỳ Total number of outstanding Fund Certificate at the beginning of period | C29: 2275 | D29: =E39 -> 4346937.9 | E29: 4358546.8
A30: 2 | B30: Thay đổi quy mô quỹ trong kỳ (tính theo mệnh giá chứng chỉ quỹ) Change of Fund scale during the period (based on par value of fund certificate) | C30: 2276 | D30: =+D31*10000 -> -4879173900 | E30: -1.160889e+08
B31: Thay đổi số lượng chứng chỉ quỹ trong kỳ Change of Number of Fund Certificates during the period | C31: 2276.1 | D31: =+D33+D35 -> -487917.39 | E31: -11608.89
B32: Thay đổi giá trị vốn trong kỳ (theo mệnh giá) Change in capital amount during the period (based on par value) | C32: 2276.2 | D32: =+D34+D36 -> -4879173900 | E32: -116088900
B33: Số lượng đơn vị quỹ phát hành thêm trong kỳ Number of Fund Certificates subscribed during the period | C33: 2277 | D33: 13328.82 | E33: 6243.49
B34: Giá trị vốn huy động thêm trong kỳ (theo mệnh giá) Net subscription amount in period (based on par value) | C34: 2278 | D34: =D33*10000 -> 133288200 | E34: 62434900
B35: Số lượng đơn vị quỹ mua lại trong kỳ Number of Fund Certificates redeemed during the period | C35: 22781 | D35: -501246.21 | E35: -17852.38
B36: Giá trị vốn phải thanh toán trong kỳ khi đáp ứng lệnh của nhà đầu tư (theo mệnh giá) Net redemption amount in period (based on par value) | C36: 22782 | D36: =D35*10000 -> -5012462100 | E36: -178523800
A37: 3 | B37: Quy mô quỹ cuối kỳ (tính theo mệnh giá chứng chỉ quỹ) Fund scale at the end of the period (based on par value of fund unit) | C37: 2279 | D37: =+D38 -> 38590204800 | E37: 43469378700
B38: Tổng giá trị chứng chỉ quỹ đang lưu hành cuối kỳ Total value of outstanding Fund Certificate at the end of the period | C38: 2280 | D38: =+D39*10000 -> 38590204800 | E38: 43469378700
B39: Tổng số lượng đơn vị quỹ đang lưu hành cuối kỳ Total number of outstanding Fund Certificate at the end of the period | C39: 2281 | D39: =D29+D31 -> 3859020.5 | E39: 4346937.9
A40: 4 | B40: Tỷ lệ nắm giữ chứng chỉ quỹ của công ty quản lý quỹ và người có liên quan cuối kỳ Fund Management Company and related parties' ownership ratio at the end of the period | C40: 2282 | D40: 0.4712 | E40: 0.5332
A41: 5 | B41: Tỷ lệ nắm giữ chứng chỉ quỹ của 10 nhà đầu tư lớn nhất cuối kỳ Top 10 investors' ownership ratio at the end of the period | C41: 2283 | D41: 0.9739 | E41: 0.9788
A42: 6 | B42: Tỷ lệ nắm giữ chứng chỉ quỹ của nhà đầu tư nước ngoài cuối kỳ Foreign investors' ownership ratio at the end of the period | C42: 2284 | D42: 0.0271 | E42: 0.0237
...
