{"text_format":"2","workbook":"xlsx","n_sheets":18,"sheets":["Tong quat","BCThuNhap_06203","BCTinhHinhTaiChinh_06105","BCLCGT_06262","BCTaiSan_06027","BCKetQuaHoatDong_06028","BCDanhMucDauTu_06029","BCHoatDongVay_06026","Khac_06030","Sheet2","Sheet1","THU NHAP","TAI CHINH","LCTT","TAI SAN","HOAT DONG","TB 30092015","KHAC"],"not_rendered":{"charts":0,"images":1,"macros":0,"external_links":1,"defined_names":95,"comments":0,"pivot_tables":0},"unopened":[],"bounds":{"document_bytes":16777216,"sheet_cells":100000,"run_cost":"one","rows_first":2000,"rows_last":500,"rows_between":2000,"halvings":0,"cell_chars":16384,"cell_head_chars":4096},"cells_cut":1,"cells_raw":0,"read":"whole","date_system":"1900"}

{"sheet":"Tong quat","index":0,"n_rows":75,"n_cols":6,"rows_kept":75,"cut":false,"hidden":false,"merged":[[4,3,4,6],[5,3,5,6],[10,3,10,8],[11,3,11,8],[6,3,6,6],[7,3,7,6],[8,3,8,8],[9,3,9,6],[44,2,44,3],[45,2,45,3],[33,2,33,3],[39,2,39,3],[40,2,40,3],[41,2,41,3],[42,2,42,3],[43,2,43,3],[34,2,34,3],[35,2,35,3],[36,2,36,3],[37,2,37,3],[38,2,38,3]]}
["Kỳ báo cáo:",null,"Tại ngày 31 tháng 07 năm 2026/As at 31 July 2026"]
[null,null,"Từ ngày 01 tháng 07 năm 2026 tới ngày 31 tháng 07 năm 2026/ From 01 July 2026 to 31 July 2026"]
[]
["Thông tin chung:"]
[null,null,"Tên Quỹ:","Quỹ Đầu Tư  Bản Việt Discovery (VCAMDF)\n"]
[null,null,"Fund name: ","Viet Capital Discovery Fund "]
[null,null,"Tên Công ty quản lý quỹ:","Công ty Cổ phần Quản lý Quỹ Đầu tư chứng khoán Bản Việt\n"]
[null,null,"Fund Management Company: ","Viet Capital Asset Management Joint Stock Company"]
[null,null,"Tên ngân hàng giám sát:","Ngân hàng  TMCP Đầu tư và Phát triển Việt Nam CN Nam Kỳ Khởi Nghĩa\n"]
[null,null,"Supervising bank: ","Bank for Investment and Development of VietNam JSC - Nam Ky Khoi Nghia Branch"]
[null,null,"Ngày lập báo cáo:","Ngày 04 tháng 08 năm 2026"]
[null,null,"Reporting Date:","2026-08-04"]
[]
["Người ký báo cáo:"]
[]
[null,null,"Đại diện có thẩm quyền của Ngân hàng giám sát",null,null,"Đại diện có thẩm quyền của Công ty quản lý Quỹ"]
[null,null,"Authorised Representative of Supervisory Bank",null,null,"Authorised Representative of Fund Management Company"]
[]
[null,null,"NH TMCP ĐT & PT Việt Nam CN Nam Kỳ Khởi Nghĩa",null,null,"Công ty CP Quản lý Quỹ Đầu tư chứng khoán Bản Việt"]
[null,null,"Nguyễn Thị Minh Châu",null,null,"Ông Pham Pho Hop"]
[null,null,"Phó giám đốc Chi nhánh",null,null,"Tổng Giám Đốc"]
{"$rows_empty":12}
[null,"STT","Nội dung",null,"Tên sheet"]
[null,"A","BÁO CÁO CHUNG VỀ HOẠT ĐỘNG ĐẦU TƯ CỦA QUỸ"]
[null,1,"Báo cáo thu nhập ",null,"BCThuNhap_06203"]
[null,2,"Báo cáo tình hình tài chính ",null,"BCTinhHinhTaiChinh_06105"]
[null,3,"Báo cáo lưu chuyển tiền tệ",null,"BCLCGT_06262"]
[null,4,"Báo cáo tài sản",null,"BCTaiSan_06027"]
[null,5,"Baó cáo Kết quả hoạt động",null,"BCKetQuaHoatDong_06028"]
[null,6,"Baáo cáo Danh mục đầu tư",null,"BCDanhmucdautu_06029"]
[null,7,"Giá trị tài sản ròng",null,"GiaTriTaiSanRong_06129"]
[null,8,"Báo cáo hoạt động vay",null,"Bchoatdongvay_06026"]
[null,9,"Báo cáo chỉ tiêu khác",null,"Khac_06030"]
[null,10,"Thống kê phí giao dịch"]
[null,"B","BÁO CÁO TÌNH HÌNH TỰ DOANH ĐẦU TƯ GIÁN TIẾP RA NƯỚC NGOÀI CỦA QUỸ ",null,"Không có"]
[]
[]
[null,"Thống kê các Thuyết minh BCTC"]
[]
[null,null,null,"Có trình bày Y/N/O","Nguyên nhân không trình bày"]
[null,"1/","Tiền gửi Ngân hàng","Y"]
[null,"2/","Các khoản đầu tư","Y"]
[null,"3/","Các khoản dự phòng","O","Chỉ có VF1 trình bày, các Quỹ khác không có khoản mục này không phải trình bày"]
[null,"4/","Vay ngắn hạn","N","Không có số dư không trình bày"]
[null,"5/","Phải trả mua các khoản đầu tư","N","Không có số dư không trình bày"]
[null,"6/","Phải trả các Đại lý phân phối, Công ty Quản lý quỹ về phí phát hành và mua lại Chứng chỉ quỹ","N","Trên báo cáo chính đã chi tiết theo từng khoản mục"]
[null,"7/","Thuế và các khoản phải nộp Nhà nước","N","Không bắt buộc, Quỹ chỉ có khoản mục thuế từ hoạt động mua bán CCQ và Thù lao BDD"]
[null,"8/","Phải trả thu nhập cho Nhà đầu tư","N","Quỹ nào có chia cổ tức mới trình bày"]
[null,"9/","Chi phí phải trả","N","Trên báo cáo chính đã chi tiết theo từng khoản mục"]
[null,"10/","Phải trả dịch vụ quản lý quỹ","N","Trên báo cáo chính đã chi tiết theo từng khoản mục"]
[null,"11/","Phải trả, phải nộp khác","Y","Chi tiết theo nature khoản mục của từng quỹ"]
[null,"12/","Tình hình biến động vốn chủ sở hữu","Y"]
[null,"13/","Lợi nhuận chưa phân phối","Y"]
[null,"14/","Lãi, lỗ bán các khoản đầu tư ","Y","Tính toán lại dựa trên Báo cáo Sale and Purchase Report, checking với cân đối"]
[null,"15/","Chênh lệch đánh giá lại các khoản đầu tư","Y","Dựa trên báo cáo Portfolio Valuation"]
[null,"16/","Doanh thu hoạt động đầu tư","Y"]
[null,"17/","Chi phí giao dịch mua các khoản đầu tư","N","Hệ thống ko support nhặt số liệu báo cáo này"]
[null,"18/","Chi phí giao dịch bán các khoản đầu tư","N","Hệ thống ko support nhặt số liệu báo cáo này"]
[null,"19/","Chi phí đầu tư","N","Trên báo cáo chính đã chi tiết theo từng khoản mục"]
[null,"20/","Chi phí quản lý Quỹ mở","N","Trên báo cáo chính đã chi tiết theo từng khoản mục"]
[null,"21/","Thuyết minh về giá trị tài sản ròng","Y","Thống kê theo từng kỳ NAV"]
[null,"22/","Thuyết minh về danh mục các khoản đầu tư","N","Báo cáo theo thông tư 183 đã có thông tin"]
[null,"23/","Thuyết minh về các Tài khoản loại 0","N","Không coó"]
[null,"24/","Những thông tin khác","N","Không bắt buộc trình bày"]

{"sheet":"BCThuNhap_06203","index":1,"n_rows":88,"n_cols":7,"rows_kept":88,"cut":false,"hidden":false,"merged":[[76,4,76,5],[86,3,86,4],[86,5,86,6],[87,3,87,4],[15,0,16,0],[15,1,16,1],[15,2,16,2],[15,3,15,4],[15,5,15,6],[74,0,74,6],[13,1,13,5],[0,0,0,6],[1,0,1,6],[2,0,3,6],[4,0,4,6],[8,1,8,5],[9,1,9,5],[10,1,10,5],[11,1,11,5],[6,1,6,5],[7,1,7,5],[12,1,12,5]]}
["Mẫu số B01g - QM. Báo cáo thu nhập\nTemplate B01g - QM. Statement of Comprehensive Income"]
["(Ban hành kèm theo Thông tư 198/2012/TT-BTC ngày 15 tháng 11 năm 2012 về chế độ kế toán áp dụng đối với quỹ mở) \n(Issued in association with Circular 198/2012/TT-BTC dated 15 Nov 2012 on the Accounting Policies for Open-Ended Fund)"]
["BÁO CÁO THU NHẬP\nSTATEMENT OF COMPREHENSIVE INCOME"]
[]
["Tháng 07 năm 2026/ July 2026"]
[]
["Tên Quỹ:","Quỹ Đầu Tư  Bản Việt Discovery (VCAMDF)\n"]
["Fund name: ","Viet Capital Discovery Fund "]
["Tên Công ty quản lý quỹ:","Công ty Cổ phần Quản lý Quỹ Đầu tư chứng khoán Bản Việt\n"]
["Fund Management Company:","Viet Capital Asset Management Joint Stock Company"]
["Tên ngân hàng giám sát:","Ngân hàng TMCP Đầu tư và Phát triển Việt Nam Chi nhánh Nam Kỳ Khởi Nghĩa\n"]
["Supervising bank: ","Bank for Investment and Development of VietNam JSC - Nam Ky Khoi Nghia Branch"]
["Ngày lập báo cáo:","Ngày 04 tháng 08 năm 2026"]
["Reporting Date:","2026-08-04"]
[]
["Chỉ tiêu\nIndicator","Mã số\nCode","Thuyết minh\nNote","Năm 2026\nYear 2026",null,"Năm 2025\nYear 2025"]
[null,null,null,"Tháng 07 năm 2026\nJuly 2026","Số lũy kế\nYear-to-date","Tháng 07 năm 2025\nJul 2025","Số lũy kế\nYear-to-date"]
["I. THU NHẬP, DOANH THU HOẠT ĐỘNG ĐẦU TƯ\nInvestment income","01",null,-2635105094,-1933689968,5013356150,8184046575]
["1.1. Cổ tức, trái tức được chia\nDividend, bond interest received","02",null,147900000,533650000,76000000,999297000]
["Cổ tức được nhận\nDividend received\n","02.1",null,147900000,533650000,76000000,999297000]
["Trái tức được nhận\nCoupon received\n","02.2",null,0,0,0,0]
["1.2. Tiền lãi được nhận\nInterest income","03",null,588206,8605432,959363,7236788]
["Tiền lãi tiền gửi được nhận\nBank Deposit Interest received","03.1",null,588206,8605432,959363,7236788]
["Lãi chứng chỉ tiền gửi\nInterest income from Certificate of Deposit\n","03.2",null,0,0,0,0]
["1.3. Lãi (lỗ) bán các khoản đầu tư\nRealized gain (losses) from disposal investments","04",null,-1240584466,-2479853548,5724714919,5627624793]
["1.4. Chênh lệch tăng, giảm đánh giá lại các khoản đầu tư chưa thực hiện\nUnrealized gain (losses) from investment revaluation","05",null,-1543008834,3908148,-788318132,1549887994]
["1.5. Doanh thu khác\nOther income","06",null,0,0,0,0]
["1.6. Chênh lệch lãi, lỗ tỷ giá hối đoái đã và chưa thực hiện\nRealized and unrealized gain (losses) from foreign exchange ","07",null,0,0,0,0]
["1.7. Doanh thu khác về đầu tư \nOther investment income","08",null,0,0,0,0]
["1.8. Dự phòng nợ phải thu và dự thu khó đòi về cổ tức, tiền lãi và xử lý tổn thất nợ phải thu khó đòi về cổ tức, tiền lãi\nProvision expense for bad debts from dividends, interest income and written off bad debts from dividends, interest income","09",null,0,0,0,0]
["II. CHI PHÍ ĐẦU TƯ\nINVESTMENT EXPENSE","10",null,27169875,328565905,89901858,371369081]
["2.1. Chi phí giao dịch mua, bán các khoản đầu tư\nExpense for purchasing and selling investments","11",null,27169875,328565905,89901858,371369081]
["Phí môi giới\nBrokerage fee",11.1,null,27169875,328565905,89901858,371369081]
["Chi phí thanh toán bù trừ\nClearing settlement fee",11.2,null,0,0,0,0]
["2.2. Chi phí dự phòng nợ phải thu khó đòi và xử lý tổn thất phải thu khó đòi\nProvision expense","12",null,0,0,0,0]
["2.3. Chi phí lãi vay \nBorrowing interest expense ","13",null,0,0,0,0]
["2.4. Chi phí dự phòng giảm giá tài sản nhận thế chấp và xử lý tổn thất các khoản đầu tư cho vay có tài sản nhận thế chấp\nImpairment expense for devaluation of assets received as pledge","14",null,0,0,0,0]
["2.5. Chi phí đầu tư khác\nOther investments expense","15",null,0,0,0,0]
["III. CHI PHÍ HOẠT ĐỘNG CỦA QUỸ\nOPERATING EXPENSE","20",null,129796592,1054235696,166080428,1025747556]
["3.1. Phí quản lý Quỹ mở\nManagement fee","20.1",null,42966738,410267243,67608664,426638699]
["3.2. Phí dịch vụ lưu ký tài sản Quỹ mở\nCustodian fee","20.2",null,20919912,181913193,39414059,194428267]
["Phí dịch vụ lưu ký - bảo quản tài sản\nCustodian service - Custody Fee","20.2.1",null,15000000,105000000,16403226,106403226]
["Phí dịch vụ lưu ký - giao dịch chứng khoán\nCustodian service - Transaction fee ","20.2.2",null,5580149,72829344,22565478,84607501]
["Phí dịch vụ lưu ký - phí VSD\nCustodian service -  VSD fee","20.2.3",null,339763,4083849,445355,3417540]
["3.3. Phí dịch vụ giám sát\nSupervising fee","20.3",null,5500000,38500000,5500000,38500000]
["3.4. Phí dịch vụ quản trị Quỹ mở\nFund administrative fee","20.4",null,16500000,115500000,16500000,115500000]
["3.5. Phí dịch vụ đại lý chuyển nhượng\nTransfer agent fee","20.5",null,13200000,92400000,13200000,92400000]
["3.6. Phí dịch vụ khác của Nhà cung cấp dịch vụ cho Quỹ mở\nOther service fees ","20.6",null,0,0,0,0]
["3.7. Chi phí họp, Đại hội Quỹ mở\nMeeting and General Meeting expense","20.7",null,0,0,0,0]
["3.8. Chi phí kiểm toán\nAudit expense","20.8",null,10191777,69698605,10951091,65951091]
["3.9. Chi phí thanh lý tài sản Quỹ mở\nAsset disposal expense","20.9",null,0,0,0,0]
["3.10. Chi phí hoạt động khác\nOther operating expense","20.10",null,20518165,145956655,12906614,92329499]
["Thù lao ban đại diện Quỹ\nRemuneration of Fund's Board of Representatives","20.10.01",null,20000000,140000000,12000000,84000000]
["Chi phí công tác, họp của ban đại diện\nFund's Board of Representatives travelling, meeting expense","20.10.02",null,0,0,0,0]
["Chi phí báo cáo thường niên\nAnnual report expense","20.10.03",null,0,0,0,0]
["Chi phí cung cấp báo giá chứng khoán \nPrice feed fee Expenses","20.10.04",null,0,0,0,0]
["Chi phí thiết lập Quỹ\nSet up Expenses","20.10.05",null,0,0,0,0]
["Phí niêm yết\nListing fee expenses","20.10.06",null,0,0,0,0]
["Phí quản lý thường niên\nAnnual fee Expenses","20.10.07",null,424665,2904155,428114,5386999]
["Phí ngân hàng\nBank charges","20.10.08",null,93500,3052500,478500,2942500]
["Chi phí công bố thông tin của Quỹ\nExpenses for information disclosure of the Fund","20.10.09",null,0,0,0,0]
["Phí thực hiện quyền trả cho VSD\nPayables to VSD for getting the list of investors","20.10.10",null,0,0,0,0]
["Chi phí khác\nOther expenses","20.10.11",null,0,0,0,0]
["IV. KẾT QUẢ HOẠT ĐỘNG ĐẦU TƯ \nGAIN (LOSSES) FROM INVESTMENT \n(23 = 01-10-20)","23",null,-2792071561,-3316491569,4757373864,6786929938]
["V. KẾT QUẢ THU NHẬP VÀ CHI PHÍ KHÁC\nOTHER INCOME AND EXPENSE ","24",null,0,0,0,0]
["5.1. Thu nhập khác\nOther income","24.1",null,0,0,0,0]
["5.2. Chi phí khác\nOther expense","24.2",null,0,0,0,0]
["VI. TỔNG LỢI NHUẬN KẾ TOÁN TRƯỚC THUẾ \nPROFIT BEFORE TAX\n(30=23+24)","30",null,-2792071561,-3316491569,4757373864,6786929938]
["6.1. Lợi nhuận/(lỗ) đã thực hiện\nRealized profit (losses)","31",null,-1249062727,-3320399717,5545691996,5237041944]
["6.2. Lợi nhận/(lỗ) chưa thực hiện\nUnrealized profit (losses)","32",null,-1543008834,3908148,-788318132,1549887994]
["VII. CHI PHÍ THUẾ TNDN\nCORPORATE INCOME TAX","40"]
["VIII. LỢI NHUẬN KẾ TOÁN SAU THUẾ TNDN \nPROFIT AFTER TAX\n(41=30-40)","41",null,-2792071561,-3316491569,4757373864,6786929938]
[]
[]
["Công ty Cổ phần Quản lý Quỹ Đầu tư Chứng khoán Bản Việt"]
[]
["Người lập",null,null,null,"Người duyệt"]
{"$rows_empty":9}
["Bà Lê Minh Thùy",null,null,"Bà Trần Đỗ Quyên",null,"Ông Pham Pho Hop"]
[" Kế toán Quỹ",null,null,"Kế toán trưởng",null,"Tổng Giám Đốc"]

{"sheet":"BCTinhHinhTaiChinh_06105","index":2,"n_rows":109,"n_cols":14,"rows_kept":109,"cut":false,"hidden":false,"merged":[[91,0,91,4],[10,1,10,4],[11,1,11,4],[6,1,6,4],[7,1,7,4],[12,1,12,4],[13,1,13,4],[9,1,9,4],[0,0,0,4],[1,0,1,4],[2,0,3,4],[4,0,4,4],[8,1,8,4]]}
["Mẫu số B02g - QM. Báo cáo tình hình tài chính\nTemplate B02g - QM. Statement of Financial Position"]
["(Ban hành kèm theo Thông tư 198/2012/TT-BTC ngày 15 tháng 11 năm 2012 về chế độ kế toán áp dụng đối với quỹ mở) \n(Issued in association with Circular 198/2012/TT-BTC dated 15 Nov 2012 on the Accounting Policies for Open-Ended Fund)"]
["BÁO  CÁO TÌNH HÌNH TÀI CHÍNH\nSTATEMENT OF FINANCIAL POSITION"]
[]
[{"$f":"+'Tong quat'!C1","v":"Tại ngày 31 tháng 07 năm 2026/As at 31 July 2026"}]
[]
["Tên Quỹ:","Quỹ Đầu Tư  Bản Việt Discovery (VCAMDF)\n"]
["Fund name: ","Viet Capital Discovery Fund "]
["Tên Công ty quản lý quỹ:","Công ty Cổ phần Quản lý Quỹ Đầu tư chứng khoán Bản Việt\n"]
["Fund Management Company:","Viet Capital Asset Management Joint Stock Company"]
["Tên ngân hàng giám sát:","Ngân hàng TMCP Đầu tư và Phát triển Việt Nam Chi nhánh Nam Kỳ Khởi Nghĩa\n"]
["Supervising bank: ","Bank for Investment and Development of VietNam JSC - Nam Ky Khoi Nghia Branch"]
["Ngày lập báo cáo:",{"$f":"BCThuNhap_06203!B13","v":"Ngày 04 tháng 08 năm 2026"}]
["Reporting Date:",{"$f":"BCThuNhap_06203!B14","v":"2026-08-04"}]
[]
["Chỉ tiêu\nIndicator","Mã số\nCode","Thuyết minh\nNote","Ngày 31 tháng 07 năm 2026\nAs at 31 July 2026","Ngày 30 tháng 06 năm 2026\nAs at 30 June 2026",null,null,null,"Ngày 28 tháng 02 năm 2019\nAs at 28 February 2019"]
["I. TÀI SẢN\nASSETS"]
["1.Tiền gửi ngân hàng và tương đương tiền\nCash at bank and cash equivalent","110",null,4149857609,4475003269,null,null,null,29799258648,729768413]
["1.1. Tiền gửi ngân hàng cho hoạt động của Quỹ mở\nCash at bank for Fund's operation ","111",null,4149857609,4475003269,null,null,null,9361428215,611101479]
["Tiền gửi của nhà đầu tư cho hoạt động mua chứng chỉ quỹ \nCash at bank for Fund's subscription",111.1,null,13800000,188400000]
["Tiền phải trả cho Nhà đầu tư về mua lại chứng chỉ quỹ\nCash at bank for Fund's redemption",111.2,null,0,0]
["Tiền gửi ngân hàng cho hoạt động của Quỹ\nCash at bank for Fund's operation",111.3,null,4136057609,4286603269]
["1.2. Tiền gửi có kỳ hạn dưới 3 tháng\nTerm deposit less than 3 months","112",null,0,0,null,null,null,20437830433,118666934]
["2. Các khoản đầu tư thuần\nInvestment","120",null,30123605000,31920113900,null,null,null,46113652000,-267466000]
["2.1. Các khoản đầu tư\nInvestments","121",null,30123605000,31920113900,null,null,null,46113652000,-267466000]
["Cổ phiếu niêm yết\nListed shares","121.1",null,30123605000,31920113900,null,null,null,43113652000,-267466000]
["Cổ phiếu chưa niêm yết\nUnlisted shares",121.2,null,0,0,null,null,null,0]
["Trái phiếu\nBonds","121.3",null,0,0,null,null,null,0,0]
["Hợp đồng tiền gửi có kỳ hạn trên ba (03) tháng\nDeposit with term over three (03) months","121.4",null,0,0,null,null,null,3000000000,0]
["Chứng chỉ tiền gửi ghi danh\nRegistered Deposit Certificate","121.5",null,0,0,null,null,null,0,0]
["Quyền mua chứng khoán\nInvestments - Rights","121.6",null,0,0,null,null,null,0,0]
["2.2. Dự phòng giảm giá tài sản nhận thế chấp \nImpairment of devaluation of assets as pledge","122",null,0,0,null,null,null,0,0]
["3. Các khoản phải thu\nReceivables","130",null,381334973,0,null,null,null,473787186,-61449754]
["3.1 Phải thu về bán các khoản đầu tư\nReceivables from investments sold but not yet settled","131",null,304234973,0,null,null,null,285571000,-58238511]
["3.2. Phải thu và dự thu cổ tức, tiền lãi các khoản đầu tư\nDividend and interest receivables","133",null,77100000,0,null,null,null,188216186,-3211243]
["Phải thu cổ tức, tiền lãi đến ngày nhận\nDividend and interest receivables","134",null,0,0,null,null,null,0,0]
["Trong đó: Phải thu khó đòi về cổ tức, tiền lãi đến ngày nhận  nhưng chưa nhận được\nIn which: Overdue receivables from dividend, interest income",135,null,0,0,{"$nulls":4},0]
["Dự thu cổ tức, tiền lãi chưa đến ngày nhận \nAccrual dividend, interest income","136",null,77100000,0,null,null,null,188216186,-3211243]
["Phải thu cổ tức\nDividend receivable",136.1,null,77100000,0,null,null,null,0,0]
["Phải thu lãi tiền gửi có kỳ hạn\nInterest receivable from term deposit",136.19999999999999,null,0,0,null,null,null,188216186,-3211243]
["Phải thu lãi chứng chỉ tiền gửi ghi danh\nInterest receivable from registered Deposit Certificate",136.30000000000001,null,0,0,null,null,null,0,0]
["Phải thu trái tức\nCoupond receivable",136.4,null,0,0,null,null,null,0,0]
["Phải thu lãi hợp đồng mua lại đảo ngược\nInterest receivable from reverse repo contract",136.5,null,0,0,null,null,null,0,0]
["3.3. Các khoản phải thu khác\nOther receivables","137",null,0,0,null,null,null,0,0]
["3.4. Dự phòng nợ phải thu khó đòi\nProvision for doubtful debt","138",null,0,0,null,null,null,0,0,null,null,"checking"]
["TỔNG TÀI SẢN\nTOTAL ASSETS","100",null,34654797582,36395117169,null,0,0,76386697834,400852659,null,null,77161857907,76787550493]
["II. NỢ PHẢI TRẢ\nTOTAL LIABILITIES","II",null,0,0,{"$nulls":4},0,null,null,0,0]
["1. Vay ngắn hạn - hợp đồng repo\nShorterm loans - Repo","311",null,0,0,null,null,null,0,0]
["2. Phải trả về mua các khoản đầu tư\nPayables for securities bought but not yet settled","312",null,2691951880,0,null,null,null,1491333650,-1427738400]
["3. Phải trả phí cho các Đại lý phân phối, Công ty quản lý quỹ về mua bán Chứng chỉ quỹ\nSubscription and Redemption fee payable to distributors and fund management company","313",null,8683640,5787014,null,null,null,0,250000]
["4. Thuế và các khoản phải nộp Nhà nước\nTax payables and obligations to the State Budget","314",null,3089276,2472728,null,null,null,0,0]
["5.Phải trả thu nhập cho Nhà đầu tư\nProfit distribution payables","315",null,0,0,null,null,null,0,0]
["6. Chi phí phải trả\nExpense Accuals","316",null,90602760,115986318,null,null,null,95797260,15591781]
["Trích trước phí môi giới\nExpense accruals - Brokerage fee",316.10000000000002,null,0,0,null,null,null,0,0]
["Trích trước phí kiểm toán\nExpense accruals- Audit fee",316.2,null,69698605,59506828,null,null,null,82780822,9342466]
["Trích trước phí họp đại hội thường niên\nExpense accruals - Annual General meeting ",316.3,null,0,0,null,null,null,0,0]
["Trích trước phí báo cáo thường niên\nExpense accruals for Annual report ",316.39999999999998,null,0,0,null,null,null,0,0]
["Trích trước thù lao ban đại diện quỹ\nExpense accruals - Remuneration Payable to Fund's Board of Representatives",316.5,null,18000000,54000000,null,null,null,11400000,5400000]
["Trích trước phí công tác, họp của ban đại diện\nExpense accruals for Fund's Board of Representatives travelling, meeting",316.60000000000002,null,0,0,null,null,null,0,0]
["Trích trước phí quản lý thường niên\nExpense accruals for Annual Fee",316.7,null,2904155,2479490,null,null,null,1616438,849315]
["7. Phải trả cho Nhà đầu tư về mua Chứng chỉ quỹ\nSubscription Suspense Payable","317",null,4700000,16400000,null,null,null,0,0]
["8. Phải trả cho Nhà đầu tư về mua lại Chứng chỉ quỹ\nRedemption payable","318",null,12739576,2918761,null,null,null,0,0]
["9. Phải trả dịch vụ quản lý Quỹ mở\nFund management related service expense payable","319",null,94064485,98173211,null,null,null,109626433,8751876]
["Trích trước phải trả phí quản lý\nExpense accruals for Management fee ",319.10000000000002,null,42966738,47973211,null,null,null,51431433,6801876]
["Trích trước phí lưu ký tài sản\nExpense accruals for Custodian fee",319.2,null,15000000,15000000,null,null,null,10750000,0]
["Trích trước phí quản trị quỹ\nExpense accruals for Fund administration fee ",319.3,null,16500000,16500000,null,null,null,11180000,0]
["Trích trước phí giám sát\nExpense accruals for Supervising fee ",319.39999999999998,null,5500000,5500000,null,null,null,19565000,0]
["Trích trước phí dịch vụ đại lý chuyển nhượng\nExpense accruals for Tranfer agency fee ",319.5,null,13200000,13200000,null,null,null,11000000,0]
["Phải trả phí giao dịch\nAccruals of Transaction Fee",319.60000000000002,null,897747,0,null,null,null,5700000,1950000]
["Phải trả phí giao dịch thanh toán bù trừ chứng khoán\nAccruals of Clearing Settlement Fee",319.7,null,0,0,null,null,null,0,0]
["10. Phải trả, phải nộp khác\nOther payables","320",null,0,0,null,null,null,0,0]
["TỔNG NỢ PHẢI TRẢ\nTOTAL LIABILITIES","300",null,2905831617,241738032,null,"Check",null,1696757343,-1403144743,null,null,190555733,293612600]
["III.\tGIÁ TRỊ TÀI SẢN RÒNG CÓ THỂ PHÂN PHỐI CHO NHÀ ĐẦU TƯ NẮM GIỮ CHỨNG CHỈ QUỸ MỞ (I-II)\nDISTRIBUTABLE NET ASSET VALUE (I-II)","400",null,31748965965,36153379137,null,0,0,74689940491,1803997402,null,null,0,0]
["1. Vốn góp của Nhà đầu tư\nPaid up capital","411",null,31414155400,32934355800,null,null,null,63515455252,41425800,null,null,76971302174,76493937893]
["1.1 Vốn góp phát hành\nCapital from subscription","412",null,74954746200,74725242700,null,0,0,67944463052,41425800,null,null,0,0]
["1.2 Vốn góp mua lại\nCapital from redeemption","413",null,-43540590800,-41790886900,null,null,null,-4429007800,0]
["2. Thặng dư vốn góp của Nhà đầu tư\nShare premium","414",null,-1061757857,-969616646,null,null,null,1028209345,8324200,null,null,76971302174,76493937893]
["3. Lợi nhuận chưa phân phối \nUndistributed earnings","420",null,1396568422,4188639983,null,null,null,10146275894,1754247402,null,null,0,0]
["IV. GIÁ TRỊ TÀI SẢN RÒNG QUỸ MỞ TRÊN 1 ĐƠN VỊ CHỨNG CHỈ QUỸ (IV=III/(VI.4))\nNET ASSET VALUE  PER FUND CERTIFICATE ","430",null,10106.57,10977.4,null,null,null,11759.33,276.18000000000029]
["V. LỢI NHUẬN ĐÃ PHÂN PHỐI CHO NHÀ ĐẦU TƯ\nDISTRIBUTED EARNINGS","440",null,0,0,{"$nulls":4},0]
["1. Lợi nhuận/Tài sản đã phân phối cho Nhà đầu tư trong năm\nDistributed earnings assets in the period","441",null,0,0,null,null,null,0,0]
["2. Lợi nhuận đã phân phối cho Nhà đầu tư lũy kế từ khi thành lập Quỹ mở đến kỳ lập báo cáo này\nAccumulated distributed profit/ assets","442",null,0,0,null,null,null,11894947459,0]
["VI. CÁC CHỈ TIÊU NGOÀI BÁO CÁO TÌNH HÌNH TÀI CHÍNH\nOFF BALANCE SHEET ITEMS","VI",null,0,0,{"$nulls":4},0]
["1. Tài sản nhận thế chấp\nAssets received as pledge","001",null,0,0,null,null,null,0,0]
["2. Nợ khó đòi đã xử lý\nWritten off bad debts","002",null,0,0,null,null,null,0,0]
["3. Ngoại tệ các loại\nForeign currencies","003",null,0,0,null,null,null,0,0]
["4. Số lượng Chứng chỉ quỹ đang lưu hành\nNumber of outstanding fund certificates","004",null,3141415.54,3293435.58,null,null,null,6351545.5199999996,4142.5800000000745]
[]
[]
[]
[]
["Công ty Cổ phần Quản lý Quỹ Đầu tư Chứng khoán Bản Việt"]
[]
["Người lập",null,null,"Người duyệt"]
{"$rows_empty":13}
["Bà Lê Minh Thùy",null,null,"Bà Trần Đỗ Quyên","Ông Pham Pho Hop"]
["Kế toán Quỹ",null,null,"Kế toán trưởng","Tổng Giám Đốc"]

{"sheet":"BCLCGT_06262","index":3,"n_rows":69,"n_cols":5,"rows_kept":69,"cut":false,"hidden":true,"merged":[[0,0,0,4],[1,0,1,4],[2,0,3,4],[4,0,4,4],[6,1,6,4],[67,3,67,4],[68,3,68,4],[10,1,10,4],[7,1,7,4],[8,1,8,4],[9,1,9,4],[11,1,11,4],[12,1,12,4],[13,1,13,4],[68,1,68,2]]}
["Mẫu số B05g - QM. Báo cáo lưu chuyển tiền tệ\nTemplate B05g - QM. Cash flow statement"]
["(Ban hành kèm theo Thông tư 198/2012/TT-BTC ngày 15 tháng 11 năm 2012 về chế độ kế toán áp dụng đối với quỹ mở) \n(Issued in association with Circular 198/2012/TT-BTC dated 15 Nov 2012 on the Accounting Policies for Open-Ended Fund)"]
["BÁO  CÁO LƯU CHUYỂN TIỀN TỆ\nCASH FLOW (INDIRECT)"]
[]
[{"$f":"BCThuNhap_06203!A5","v":"Tháng 07 năm 2026/ July 2026"}]
[]
["Tên Quỹ:","Quỹ Đầu tư cân bằng Bản Việt\n"]
["Fund name: ","Viet Capital Balanced Fund (VCAMBF)"]
["Tên ngân hàng giám sát:","NH TMCP ĐT và PT Việt Nam CN Nam Kỳ Khởi Nghĩa\n"]
["Supervising bank: ","Bank for Investment and Development of VietNam JSC - Nam Ky Khoi Nghia Branch"]
["Tên Công ty quản lý quỹ:","Công ty Cổ phần Quản lý Quỹ Đầu tư chứng khoán Bản Việt\n"]
["Fund Management Company:","Viet Capital Asset Management Joint Stock Company"]
["Ngày lập báo cáo:",{"$f":"BCThuNhap_06203!B13","v":"Ngày 04 tháng 08 năm 2026"}]
["Reporting Date:",{"$f":"BCThuNhap_06203!B14","v":"2026-08-04"}]
[]
["Chỉ tiêu\nIndicator","Mã số\nCode","Thuyết minh\nNote","Quý III năm 2023\nQuarter III 2023","Quý II năm 2023\nQuarter II 2023"]
["I. Lưu chuyển tiền từ hoạt động đầu tư\nCash flow from investing activities","I"]
["1. Lợi nhuận trước Thuế thu nhập doanh nghiệp\nProfit before income tax","01",null,{"$f":"BCThuNhap_06203!D72","v":-2792071561},5651876776]
["2. Điều chỉnh cho các khoản tăng giá trị tài sản ròng từ các hoạt động đầu tư\nAdjustment for NAV increase from investing activities","02",null,{"$f":"D20+D21","v":1543008834},-4929511450]
["(- lãi) hoặc (+ lỗ) chênh lệch tỷ giá hối đoái/ đánh giá lại các khoản đầu tư chưa thực hiện\nUnreliased Gain or (Loss) from FX valuation/Investment revaluation","03",null,{"$f":"+IF(BCThuNhap_06203!D70>0,-BCThuNhap_06203!D70,-BCThuNhap_06203!D70)","v":1543008834},-4929511450]
["(+) chi phí trích trước\nIncrease of Accrued Expenses","04",null,0,0]
["3. Lợi nhuận từ hoạt động đầu tư trước thay đổi vốn lưu động\nProfit from investing activities before changes in working capital","05",null,{"$f":"+D18+D19","v":-1249062727},722365326]
["(-) Tăng (+) giảm đầu tư\n(Increase), Decrease Investments","20",null,{"$f":"+IF((BCTaiSan_06027!D26-BCTaiSan_06027!E26+BCLCGT_06262!D20)>0,-(BCTaiSan_06027!D26-BCTaiSan_06027!E26+BCLCGT_06262!D20),-(BCTaiSan_06027!D26-BCTaiSan_06027!E26+BCLCGT_06262!D20))","v":253500066},1247325201]
["(-) Tăng, (+) giảm phải thu bán chứng khoán đầu tư\n(Increase), Decrease in Receivables from investments sold but not yet settled","06",null,{"$f":"+IF((BCTaiSan_06027!D39-BCTaiSan_06027!E39)>0,-(BCTaiSan_06027!D39-BCTaiSan_06027!E39),-(BCTaiSan_06027!D39-BCTaiSan_06027!E39))","v":-304234973},-1036692625]
["(-) Tăng, (+) giảm dự thu phải thu tiền lãi các khoản đầu tư\n(Increase), Decrease in Dividend and interest receivables","07",null,{"$f":"-(BCTaiSan_06027!D33+BCTaiSan_06027!D36-BCTaiSan_06027!E33-BCTaiSan_06027!E36)","v":-77100000},205871774]
["(-) Tăng, (+) giảm các khoản phải thu khác\n (Increase), Decrease in other receivables","08",null,0,0]
["(+) Tăng, (-) giảm vay ngắn hạn\nIncrease, (Decrease) in Short term Loans","09",null,0,0]
["(+) Tăng, (-) giảm phải trả cho người bán\n(Decrease), Increase in payables for securities purchased but not yet settled","10",null,{"$f":"+BCTaiSan_06027!D44-BCTaiSan_06027!E44","v":2691951880},-721525667]
["(+) Tăng, (-) giảm phải trả các Đại lý phân phối Chứng chỉ quỹ, Công ty Quản lý Quỹ\n(Decrease)/increase in subscription and redemption fee payable to distributors and Fund Management Company","11",null,{"$f":"+BCTaiSan_06027!D49-BCTaiSan_06027!E49","v":2896626},397107]
["(+) Tăng, (-) giảm phải trả thu nhập cho Nhà đầu tư\nIncrease, (Decrease) profit distribution payables","12",null,{"$f":"+BCTaiSan_06027!D50-BCTaiSan_06027!E50","v":0},0]
["(+) Tăng, (-) giảm Thuế và các khoản phải nộp Nhà nước\nIncrease, (Decrease) Tax payables and obligations to the State Budget","13",null,{"$f":"+BCTaiSan_06027!D48-BCTaiSan_06027!E48","v":616548},-30575]
["(+) Tăng, (-) giảm phải trả cho Nhà đầu tư về mua Chứng chỉ quỹ\nIncrease, (Decrease) Subscription Suspense Payable","14",null,{"$f":"+BCTaiSan_06027!D47-BCTaiSan_06027!E47","v":-11700000},1000000]
["(+) Tăng, (-) giảm phải trả cho Nhà đầu tư về mua lại Chứng chỉ quỹ\nIncrease, (Decrease) Redemption payable","15",null,{"$f":"+BCTaiSan_06027!D46-BCTaiSan_06027!E46","v":9820815},-4010321]
["(+) Tăng, (-) giảm phải trả, phải nộp khác\nIncrease, (Decrease) Other payables","16",null,{"$f":"+BCTinhHinhTaiChinh_06105!D53-BCTinhHinhTaiChinh_06105!E53","v":-25383558},-51328764]
["(+) Tăng, (-) giảm Phải trả dịch vụ quản lý Quỹ mở\nIncrease, (Decrease) Fund management related service expense payable","17",null,{"$f":"+BCTinhHinhTaiChinh_06105!D63-BCTinhHinhTaiChinh_06105!E63","v":-4108726},1935287]
["(+) Tăng, (-) giảm Thuế Thu nhập doanh nghiệp đã nộp\nIncrease, (Decrease) Income Tax Payment","18",null,0,0]
["Lưu chuyển tiền thuần từ hoạt động đầu tư (1+2+3)\nNet Cash flow from Investing activities","19",null,{"$f":"+D22+D23+D24+D25+D28+D29+D30+D31+D34+D35+D32+D33","v":1287195951},365306743]
["II. Lưu chuyển tiền từ hoạt động tài chính \nCash flow from financing activities","II"]
["1. Tiền thu từ phát hành Chứng chỉ quỹ  mở \nReceipts from subscriptions","31",null,{"$f":"BCKetQuaHoatDong_06028!D64","v":237517420},414006806]
["2. Tiền chi mua lại Chứng chỉ quỹ  mở \nPayments for redemptions","32",null,{"$f":"BCKetQuaHoatDong_06028!D65","v":-1849859031},-571734156]
["3. Tiền vay gốc \nPrincipal of Loans","33",null,0,0]
["4. Tiền chi trả nợ gốc vay \nPayment of Principal loans","34",null,0,0]
["5. Tiền chi trả cổ tức, tiền lãi cho nhà đầu tư\nDividend, profit distribution payment","35",null,{"$f":"BCKetQuaHoatDong_06028!D62","v":0},0]
["Lưu chuyển tiền thuần từ hoạt động tài chính (1+2+3-4+5) \nNet cash outflows from financing activities","30",null,{"$f":"+D39+D40+D41-D42+D43","v":-1612341611},-157727350]
["III. Tăng/giảm tiền thuần trong kỳ \nNet Increase/Decrease in cash and cash equivalent for the period","40",null,{"$f":"+D37+D44","v":-325145660},207579393]
["IV. Tiền và các khoản tương đương tiền đầu kỳ Cash and cash equivalents at the beginning of period","50",null,{"$f":"E51","v":3405114637},3197535244]
["Tiền gửi ngân hàng đầu kỳ: \nCash at bank of the beginning of period","51",null,{"$f":"+D48+D49","v":3405114637},3197535244]
["- Tiền gửi ngân hàng cho hoạt động của Quỹ \nCash at bank for Fund's operation","52",null,{"$f":"E53","v":3396447971},3193535244]
["- Tiền gửi cho hoạt động mua bán của nhà đầu tư \nCash at bank for Fund's subscription/redemption","53",null,{"$f":"E54","v":8666666},4000000]
["- Tiền gửi phong tỏa \nFrozen Account","54",null,0,0]
["V. Tiền và các khoản tương đương tiền cuối kỳ Cash and cash equivalents at the end of period","55",null,{"$f":"D52","v":4149857609},3405114637]
["Tiền gửi ngân hàng cuối kỳ: \nCash at bank of the end of period","56",null,{"$f":"+D53+D54+D55","v":4149857609},3405114637]
["- Tiền gửi ngân hàng cho hoạt động của Quỹ \nCash at bank for Fund's operation","57",null,{"$f":"BCTaiSan_06027!D24+BCTaiSan_06027!D25","v":4136057609},3396447971]
["- Tiền gửi cho hoạt động mua bán của nhà đầu tư \nCash at bank for Fund's subscription/redemption","58",null,{"$f":"BCTaiSan_06027!D22+BCTaiSan_06027!D23","v":13800000},8666666]
["- Tiền gửi phong tỏa \nFrozen Account","59",null,0,0]
["VI. Thay đổi Tiền và các khoản tương đương tiền trong kỳ\nChanges in cash and cash equivalents in the period","60",null,{"$f":"+D51-D46","v":744742972},207579393]
["Khác\nOther","80"]
[null,"Công ty Cổ phần Quản lý Quỹ Đầu tư Chứng khoán Bản Việt"]
[]
["Người lập",null,null,"Người duyệt"]
{"$rows_empty":7}
["Bà Nguyễn Thị Nhung","Bà Khúc Thị Kiều",null,"                 Bà Trương Thị Thanh Ngọc"]
["Kế toán Quỹ","Kế toán trưởng",null,"         Giám đốc quỹ"]

{"sheet":"BCTaiSan_06027","index":4,"n_rows":85,"n_cols":11,"rows_kept":85,"cut":false,"hidden":false,"merged":[[0,0,0,5],[1,0,1,5],[2,0,3,5],[4,0,4,5],[8,0,8,1],[8,2,8,5],[13,0,13,1],[13,2,13,5],[6,0,6,1],[6,2,6,5],[7,0,7,1],[7,2,7,5],[12,0,12,1],[12,2,12,5],[9,0,9,1],[9,2,9,5],[10,0,10,1],[10,2,10,5],[11,0,11,1],[11,2,11,5]]}
["Phụ lục XXVI. Mẫu báo cáo về hoạt động của Quỹ\nAppendix XXVI. Report on Fund's Operation",{"$nulls":6},"ok"]
["(Ban hành kèm theo Thông tư số 98/2020/TT-BTC ngày 16 tháng 11 năm 2020 của Bộ trưởng Bộ Tài Chính về hướng dẫn hoạt động và quản lý quỹ đầu tư chứng khoán\n(Issued in association with Circular 98/2020/TT-BTC dated 16 November 2020 of the Minister of Finance on guiding the operation and management of the securities investment funds"]
["BÁO CÁO HOẠT ĐỘNG ĐẦU TƯ CỦA QUỸ MỞ\n REPORT ON FUND'S INVESTMENT ACTIVITIES"]
[]
[{"$f":"BCTinhHinhTaiChinh_06105!A5","v":"Tại ngày 31 tháng 07 năm 2026/As at 31 July 2026"}]
[]
["Tên Quỹ:",null,"Quỹ Đầu Tư  Bản Việt Discovery (VCAMDF)\n"]
["Fund name: ",null,"Viet Capital Discovery Fund "]
["Tên Công ty quản lý quỹ:",null,"Công ty Cổ phần Quản lý Quỹ Đầu tư chứng khoán Bản Việt\n"]
["Fund Management Company:",null,"Viet Capital Asset Management Joint Stock Company"]
["Tên ngân hàng giám sát:",null,"Ngân hàng TMCP Đầu tư và Phát triển Việt Nam CN Nam Kỳ Khởi Nghĩa\n"]
["Supervising bank: ",null,"Bank for Investment and Development of VietNam JSC - Nam Ky Khoi Nghia Branch"]
["Ngày lập báo cáo:",null,{"$f":"BCThuNhap_06203!B13","v":"Ngày 04 tháng 08 năm 2026"}]
["Reporting Date:",null,{"$f":"BCThuNhap_06203!B14","v":"2026-08-04"}]
["A.","BÁO CÁO CHUNG VỀ HOẠT ĐỘNG ĐẦU TƯ CỦA QUỸ/GENERAL INFORMATION ON FUND'S INVESTMENT ACTIVITIES"]
["I","BÁO CÁO TÀI SẢN CỦA QUỸ / ASSET REPORT"]
["STT\nNo","Nội dung\nIndicator","Mã chỉ tiêu\nCode",{"$f":"BCTinhHinhTaiChinh_06105!D16","v":"Ngày 31 tháng 07 năm 2026\nAs at 31 July 2026"},{"$f":"BCTinhHinhTaiChinh_06105!E16","v":"Ngày 30 tháng 06 năm 2026\nAs at 30 June 2026"},"%/cùng kỳ năm trước\n%/against last year",{"$nulls":4},"Ngày 30 tháng 04 năm 2018\nAs at 30 Apr 2018"]
["I","TÀI SẢN\nASSETS","2200",{"$nulls":7},0]
["I.1","Tiền và các khoản tương đương tiền\nCash and Cash Equivalents","2201",4149857609,4475003269,0.23853731558171173,{"$nulls":4},18924296298]
[null,"Tiền\nCash ","2202",0,0,0,{"$nulls":4},0]
[null,"Tiền gửi ngân hàng\nCash at Bank","2203",4149857609,4475003269,0.23853731558171173,{"$nulls":4},10834088082]
[null,"Tiền gửi của nhà đầu tư cho hoạt động mua chứng chỉ quỹ \nCash at bank for Fund's subscription","2203.1",13800000,188400000,0.18910585817060638]
[null,"Tiền phải trả cho Nhà đầu tư về mua lại chứng chỉ quỹ\nCash at bank for Fund's redemption","2203.2",0,0,0]
[null,"Tiền gửi ngân hàng cho hoạt động của Quỹ\nCash at bank for Fund's operation","2203.3",4136057609,4286603269,0.23874553738443779]
[null,"Các khoản tương đương tiền\nCash Equivalents","2204",0,0,0,{"$nulls":4},8090208216]
["I.2","Các khoản đầu tư (kê chi tiết)\nInvestments","2205",30123605000,31920113900,1.2916787882899226,{"$nulls":4},54380270000]
[null,"Cổ phiếu niêm yết\nListed shares","2205.01",30123605000,31920113900,1.3259241734323108,{"$nulls":4},54104270000]
[null,"Cổ phiếu chưa niêm yết\nUnlisted shares","2205.02",0,0,0,{"$nulls":4},0]
[null,"Trái phiếu\nBonds","2205.03",0,0,0,{"$nulls":4},0]
[null,"Hợp đồng tiền gửi có kỳ hạn quá ba (03) tháng\nDeposit with term over three (03) months","2205.04",0,0,0,{"$nulls":4},0]
[null,"Chứng chỉ tiền gửi ghi danh\nRegistered Deposit Certificate","2205.05",0,0,0,{"$nulls":4},0]
[null,"Quyền mua chứng khoán\nInvestments - Rights","2205.06",0,0,0,{"$nulls":4},276000000]
["I.3","Cổ tức, trái tức được nhận\nDividend, Coupon Receivables","2206",77100000,0,0,{"$nulls":4},182000000]
[null,"Cổ tức được nhận\nDividend receivables\n","2206.1",77100000,0,0]
[null,"Trái tức được nhận\nCoupon Receivables\n","2206.2",0,0,0]
["I.4","Lãi được nhận\nInterest Receivables","2207",0,0,0,{"$nulls":4},31954902]
[null,"Phải thu lãi tiền gửi có kỳ hạn\nInterest receivable from term deposit","2207.1",0,0,0,{"$nulls":4},31954902]
[null,"Phải thu lãi chứng chỉ tiền gửi ghi danh\nInterest receivable from registered Deposit Certificate","2207.2",0,0,0,{"$nulls":4},0]
["I.5","Tiền bán chứng khoán chờ thu\nSecurities Trading Receivables","2208",304234973,0,1.71357028960443E-2,{"$nulls":4},838678093]
["I.6","Các khoản phải thu khác\nOther Receivables","2210",0,0,0,{"$nulls":4},0]
["I.7","Các tài sản khác\nOther Assets","2211",0,0,0,null,"checking",null,null,0]
["I.8","TỔNG TÀI SẢN\nTOTAL ASSETS","2212",34654797582,36395117169,0.59266494516735768,null,77161857907,76787550493,null,74357199293]
["II","NỢ\nLIABILITY","2213",0,0,0,null,0,0,null,0]
["II.1","Tiền phải thanh toán mua chứng khoán\nSecurities Trading Payables","2214",2691951880,0,0.98512735935495699,{"$nulls":4},830644100]
["II.2","Các khoản phải trả khác\nOther Payables","2215",213879737,241738032,0.7513452822556137,{"$nulls":4},171396702]
[null,"Phải trả cho Nhà đầu tư về mua lại Chứng chỉ quỹ\nNet Redemption Payables","2215.01",12739576,2918761,5.550965133201454,{"$nulls":4},0]
[null,"Phải trả cho Nhà đầu tư về mua Chứng chỉ quỹ\nSubscription Suspense Payable","2215.02",4700000,16400000,7.0544090056285175E-2,{"$nulls":4},0]
[null,"Thuế và các khoản phải nộp Nhà nước\nTaxes Payables","2215.03",3089276,2472728,1.6997887696312464,{"$nulls":4},0]
[null,"Phải trả phí phát hành, mua lại chứng chỉ quỹ cho Đại lý phân phối và Công ty quản lý quỹ\nSubscription and Redemption fee payable to distributors and Fund Management Company","2215.04",8683640,5787014,1.351925624193933,{"$nulls":4},250000]
[null,"Phải trả thu nhập cho nhà đầu tư\nIncome payable to investors","2215.05",0,0,0,{"$nulls":4},0]
[null,"Phải trả thù lao ban đại diện quỹ\nRemuneration Payable to Fund's Board of Representatives","2215.06",18000000,54000000,1.6666666666666665,{"$nulls":4},6000000]
[null,"Phải trả công ty quản lý quỹ\nManagement fee payable","2215.07",42966738,47973211,0.63552118113145983,{"$nulls":4},56533209]
[null,"Phải trả phí lưu ký - bảo quản tài sản\nCustodian fee payable","2215.08",15000000,15000000,0.91445426649611494,{"$nulls":4},10750000]
[null,"Phải trả phí quản trị quỹ\nFund Administration fee payable","2215.09",16500000,16500000,1,{"$nulls":4},11180000]
[null,"Phải trả phí giám sát\nSupervisory service fee payable","2215.10",5500000,5500000,1,{"$nulls":4},19565000]
[null,"Phải trả phí giao dịch chứng khoán\nCustodian service - Transaction fee Payables","2215.11",897747,0,0.14593312168692915,{"$nulls":4},13050000]
[null,"Phải trả phí dịch vụ đại lý chuyển nhượng\nTransfer Agency fee payable","2215.12",13200000,13200000,1,{"$nulls":4},11000000]
[null,"Phải trả phí phát hành thanh toán bù trừ chứng khoán\nClearing Settlement Payables","2215.13",0,0,0,{"$nulls":4},0]
[null,"Phải trả phí kiểm toán\nAudit fee payable","2215.14",69698605,59506828,1.0568226232982258,{"$nulls":4},39780822]
[null,"Phải trả phí họp đại hội\nGeneral meeting expense payable","2215.15",0,0,0,{"$nulls":4},0]
[null,"Phải trả phí báo cáo thường niên\nAnnual report expense payable","2215.16",0,0,0,{"$nulls":4},0]
[null,"Phải trả phí môi giới\nBroker fee payable","2215.17",0,0,0,{"$nulls":4},0]
[null,"Phải trả phí công tác, họp của ban đại diện\nFund's Board of Representatives travelling, meeting Payables","2215.18",0,0,0,{"$nulls":4},0]
[null,"Phải trả phí thường niên\nAnnual Fee Payables","2215.19",2904155,2479490,0.5391044253024736,{"$nulls":4},3287671]
[null,"Phải trả khác\nOther payable","2215.20",0,0,0,null,190555733,293612600,null,0]
["II.3","TỔNG NỢ\nTOTAL LIABILITIES","2216",2905831617,241738032,0.96307123224177882,null,0,0,null,1002040802]
[null,"Tài sản ròng của Quỹ ( = I.8 - II.3)\nNet Asset Value ( = I.8 - II.3)","2217",31748965965,36153379137,0.57251169206354591,null,76971302174,76493937893,null,73355158491]
[null,"Tổng số chứng chỉ quỹ đang lưu hành\nTotal Outstanding Fund Certificates","2218",3141415.54,3293435.58,0.62881259713216475,null,0,0,null,6359254.5999999996]
[null,"Giá trị tài sản ròng trên một đơn vị quỹ\nNet Asset Value per Fund Certificate","2219",10106.57,10977.4,0.91046407085832481,null,12110.62,12035.51,null,11535.18]
[{"$nulls":7},0,0]
[]
["Đại diện có thẩm quyền của Ngân hàng giám sát",null,null,"Đại diện có thẩm quyền của Công ty quản lý Quỹ"]
["Authorised Representative of Supervisory Bank",null,null,"Authorised Representative of Fund Management Company"]
{"$rows_empty":9}
["Ngân hàng TMCP Đầu tư và Phát triển Việt Nam CN Nam Kỳ Khởi Nghĩa",null,null,"Công ty CP Quản lý Quỹ Đầu tư chứng khoán Bản Việt"]
["Nguyễn Thị Minh Châu",null,null,"Ông Pham Pho Hop"]
["Phó giám đốc Chi nhánh",null,null,"Tổng Giám Đốc"]

{"sheet":"BCKetQuaHoatDong_06028","index":5,"n_rows":83,"n_cols":16,"rows_kept":83,"cut":false,"hidden":false,"merged":[[0,0,0,5],[1,0,1,5],[2,0,3,5],[4,0,4,5],[8,0,8,1],[8,2,8,5],[13,0,13,1],[13,2,13,5],[6,0,6,1],[6,2,6,5],[7,0,7,1],[7,2,7,5],[12,0,12,1],[12,2,12,5],[9,0,9,1],[9,2,9,5],[10,0,10,1],[10,2,10,5],[11,0,11,1],[11,2,11,5]]}
["Phụ lục XXVI. Mẫu báo cáo về hoạt động của Quỹ\nAppendix XXVI. Report on Fund's Operation"]
["(Ban hành kèm theo Thông tư số 98/2020/TT-BTC ngày 16 tháng 11 năm 2020 của Bộ trưởng Bộ Tài  Chính về hướng dẫn hoạt động và quản lý quỹ đầu tư chứng khoán\n(Issued in association with Circular 98/2020/TT-BTC dated 16 November 2020 of the Minister of Finance on guiding the operation and management of the securities investment funds"]
["BÁO CÁO HOẠT ĐỘNG ĐẦU TƯ CỦA QuỸ MỞ\nREPORT ON FUND'S INVESTMENT ACTIVITIES"]
[]
[{"$f":"BCThuNhap_06203!A5","v":"Tháng 07 năm 2026/ July 2026"}]
[]
["Tên Quỹ:",null,"Quỹ Đầu Tư  Bản Việt Discovery (VCAMDF)\n"]
["Fund name: ",null,"Viet Capital Discovery Fund "]
["Tên Công ty quản lý quỹ:",null,"Công ty Cổ phần Quản lý Quỹ Đầu tư chứng khoán Bản Việt\n"]
["Fund Management Company:",null,"Viet Capital Asset Management Joint Stock Company"]
["Tên ngân hàng giám sát:",null,"Ngân hàng TMCP Đầu tư và Phát triển Việt Nam Chi nhánh Nam Kỳ Khởi Nghĩa\n"]
["Supervising bank: ",null,"Bank for Investment and Development of VietNam JSC - Nam Ky Khoi Nghia Branch"]
["Ngày lập báo cáo:",null,{"$f":"BCThuNhap_06203!B13","v":"Ngày 04 tháng 08 năm 2026"}]
["Reporting Date:",null,{"$f":"BCThuNhap_06203!B14","v":"2026-08-04"}]
["A.","BÁO CÁO CHUNG VỀ HOẠT ĐỘNG ĐẦU TƯ CỦA QUỸ/GENERAL INFORMATION ON FUND'S INVESTMENT ACTIVITIES"]
["II","BÁO CÁO KẾT QUẢ HOẠT ĐỘNG / PROFIT AND LOSS REPORT"]
["STT\nNo","Chỉ tiêu\nIndicator","Mã chỉ tiêu\nCode","Tháng 07 năm 2026\nJuly 2026","Tháng 06 năm 2026\nJune 2026","Lũy kế từ đầu năm\nAccumulated from beginning of year"]
["I","Thu nhập từ hoạt động đầu tư\nIncome from Investment Activities","2220",148488206,1218588,542255432,{"$nulls":9},"2220"]
[1,"Cổ tức, trái tức được nhận\nDividend, Coupon received","2221",147900000,0,533650000,{"$nulls":9},"2221"]
[null,"Cổ tức được nhận\nDividend received","2221.1",147900000,0,533650000]
[null,"Trái tức được nhận\nCoupon received","2221.2",0,0,0]
[2,"Lãi được nhận\nIncome from Interest","2222",588206,1218588,8605432,{"$nulls":9},"2222"]
[3,"Các khoản thu nhập khác\nOther income","2223",0,0,0,{"$nulls":9},"2223"]
["II","Chi phí\nExpense","2224",156966467,144262628,1382801601,{"$nulls":9},"2224"]
[1,"Chi phí quản lý trả cho Công ty quản lý quỹ\nManagement Fee paid to Fund Management Company","2225",42966738,47973211,410267243,{"$nulls":9},"2225"]
[2,"Chi phí lưu ký, giám sát trả cho Ngân hàng Giám sát/VSD\nCustody fee, Supervising fee paid to Supervising Bank/VSD","2226",26419912,23772445,220413193,{"$nulls":9},"2226"]
[null,"Phí dịch vụ lưu ký - bảo quản tài sản\nCustodian service - Custody Fee","2226.1",15000000,15000000,105000000,{"$nulls":9},"2226.1"]
[null,"Phí dịch vụ lưu ký - giao dịch chứng khoán\nCustodian service - Transaction fee","2226.2",5580149,2764106,72829344,{"$nulls":9},"2226.2"]
[null,"Phí dịch vụ lưu ký tại VSD\nCustodian fee at VSD","2226.3",339763,508339,4083849,{"$nulls":9},"2226.3"]
[null,"Phí giám sát\nSupervisory fee","2226.4",5500000,5500000,38500000,{"$nulls":9},"2226.4"]
[3,"Chi phí dịch vụ quản trị quỹ, chi phí dịch vụ đại lý chuyển nhượng và các chi phí khác mà công ty quản lý quỹ trả cho tổ chức cung cấp dịch vụ có liên quan\nFund Administration Fee, Transfer Agency Fee, and other fee paid to relevant Fund's service providers","2227",29700000,29700000,207900000,{"$nulls":9},"2227"]
[null,"Chi phí dịch vụ quản trị Quỹ\nFund Administration Fee","2227.1",16500000,16500000,115500000,{"$nulls":9},"2227.1"]
[null,"Chi phí dịch vụ Đại lý Chuyển nhượng\nTransfer Agency Fee","2227.2",13200000,13200000,92400000,{"$nulls":9},"2227.2"]
[4,"Chi phí kiểm toán trả cho tổ chức kiểm toán\nAudit fee","2228",10191777,9863010,69698605,{"$nulls":9},"2228"]
[5,"Chi phí dịch vụ tư vấn pháp lý, dịch vụ báo giá và các dịch vụ hợp lý khác, thù lao trả cho ban đại diện quỹ\nLegal consultancy expenses, price quotation fee, other valid expenses, remuneration payable to fund representative board","2229",20000000,20000000,140000000,{"$nulls":9},"2229"]
[null,"Thù lao ban đại diện Quỹ\nRemuneration of Fund's Board of Representatives","2229.1",20000000,20000000,140000000,{"$nulls":9},"2229.1"]
[null,"Chi phí cung cấp báo giá chứng khoán \nPrice feed fee Expenses","2229.2",0,0,0,{"$nulls":9},"2229.2"]
[6,"Chi phí dự thảo, in ấn, gửi bản cáo bạch, bản cáo bạch tóm tắt, báo cáo tài chính, xác nhận giao dịch, sao kê tài khoản và các tài liệu khác cho nhà đầu tư; chi phí công bố thông tin của quỹ; chi phí tổ chức họp đại hội nhà đầu tư, ban đại diện quỹ\nFee for drafting, printing, distribution of prospectus, summarised propectus, financial statements, transaction confirmations, account statements and other documents to investors; information disclosure fee; fee for organising annual general meeting, board of representatives meeting","2230",0,0,0,{"$nulls":9},"2230"]
[null,"Chi phí họp Đại hội Quỹ\nMeeting expense","2230.1",0,0,0,{"$nulls":9},"2230.1"]
[null,"Phí báo cáo thường niên\nAnnual report expense","2230.2",0,0,0,{"$nulls":9},"2230.2"]
[null,"Chi phí họp, công tác của ban đại diện\nFund's Board of Representatives meeting, travelling expense","2230.3",0,0,0,{"$nulls":9},"2230.3"]
[null,"Chi phí công bố thông tin của Quỹ\nExpenses for information disclosure of the Fund","2230.4",0,0,0,{"$nulls":9},"2230.4"]
[7,"Chi phí liên quan đến thực hiện các giao dịch tài sản của quỹ\nExpenses related to execution of fund’s asset transactions","2231",27169875,12097496,328565905,{"$nulls":9},"2231"]
[null,"Chi phí môi giới\nBrokerage fee expense","2231.1",27169875,12097496,328565905,{"$nulls":9},"2231.1"]
[null,"Chi phí thanh toán bù trừ\nClearing settlement fee","2231.2",0,0,0,{"$nulls":9},"2231.2"]
[8,"Các loại chi phí khác\nOther expenses","2232",518165,856466,5956655,{"$nulls":9},"2232"]
[null,"Chi phí thiết lập Quỹ\nSet up Expenses","2232.1",0,0,0,{"$nulls":9},"2232.1"]
[null,"Phí niêm yết\nListing fee expenses","2232.2",0,0,0,{"$nulls":9},"2232.2"]
[null,"Phí quản lý thường niên\nAnnual fee Expenses","2232.3",424665,410966,2904155,{"$nulls":9},"2232.3"]
[null,"Phí ngân hàng\nBank charges","2232.4",93500,445500,3052500,{"$nulls":9},"2232.4"]
[null,"Phí thực hiện quyền trả cho VSD\nPayables to VSD for getting the list of investors","2232.5",0,0,0]
[null,"Chi phí khác\nOther Expenses","2232.6",0,0,0,{"$nulls":9},"2232.5"]
["III","Thu nhập ròng từ hoạt động đầu tư ( = I - II)\nNet Income from Investment Activities ( = I - II)","2233",-8478261,-143044040,-840546169,{"$nulls":9},"2233"]
["IV","Lãi (lỗ) từ hoạt động đầu tư\nGain / (Loss) from Investment Activities","2234",-2783593300,393698100,-2475945400,{"$nulls":9},"2234"]
[1,"Lãi (lỗ) thực tế phát sinh từ hoạt động đầu tư\nRealised Gain / (Loss) from disposal of investment","2235",-1240584466,-545742851,-2479853548,{"$nulls":9},"2235"]
[2,"Thay đổi về giá trị của các khoản đầu tư trong kỳ\nUnrealised Gain / (Loss) due to market price","2236",-1543008834,939440951,3908148,"checking",{"$nulls":8},"2236"]
["V","Thay đổi của giá trị tài sản ròng của Quỹ do các hoạt động đầu tư trong kỳ (III + IV)\nChange of Net Asset Value of the Fund due to investment activities during the period ( = III + IV)","2237",-2792071561,250654060,-3316491569,477364281,null,null,null,"SUB","REDEMPTION",null,null,null,"2237"]
["VI","Giá trị tài sản ròng đầu kỳ\nNet Asset Value at the beginning of period","2238",36153379137,46790274424,50378399000,0,null,null,"Tháng 1",0,0,null,null,null,"2238"]
["VII","Thay đổi giá trị tài sản ròng của Quỹ trong kỳ\nChange of Net Asset Value of the Fund during the period","2239",-4404413172,-10636895287,-18629433035,null,null,null,"Tháng 2",{"$nulls":5},"2239"]
[null,"Trong đó:\nOf which:","2240",0,0,0,null,{"$cut":{"chars":20331,"head":"                                                                                                                                                                                                                                                                                                                                                                                                                                                                                                                                                                                                                                                                                                                                                                                                                                                                                                                                                                                                                                                                                                                                                                                                                                                                                                                                                                                                                                                                                                                                                                                                                                                                                                                                                                                                                                                                                                                                                                                                                                                                                                                                                                                                                                                                                                                                                                                                                                                                                                                                                                                                                                                                                                                                                                                                                                                                                                                                                                                                                                                                                                                                                                                                                                                                                                                                                                                                                                                                                                                                                                                                                                                                                                                                                                                                                                                                                                                                                                                                                                                                                                                                                                                                                                                                "}},null,"Tháng 3",49750000,0,null,null,null,"2240"]
[1,"Thay đổi giá trị tài sản ròng của Quỹ do các hoạt động liên quan đến đầu tư của Quỹ trong kỳ\nChange of Net Asset Value due to investment related activities during the period","2241",-2792071561,250654060,-3316491569,null,null,null,"Tháng 4",0,0,null,null,null,"2239.1"]
[2,"Thay đổi giá trị tài sản ròng của Quỹ do việc phân phối thu nhập của Quỹ cho các nhà đầu tư trong kỳ\nChange of Net Asset Value due to profit distribution to investors during the period","2242",0,0,0,null,null,null,"Tháng 5",{"$nulls":5},"2239.2"]
[3,"Thay đổi giá trị tài sản ròng do phát hành thêm/mua lại chứng chỉ quỹ\nChange of Net Asset Value due to subscription/redemption during the period","2239.1",-1612341611,-10887549347,-15312941466]
[null,"Thay đổi GTTSR do phát hành thêm Chứng chỉ Quỹ\nChange of Net Asset Value due to subscription during the period","2239.11",237517420,274859487,7480348433,null,null,null,"Tháng 6",{"$nulls":5},"2239.3"]
[null,"Thay đổi GTTSR do mua lại Chứng chỉ Quỹ\nChange of Net Asset Value due to redemption during the period","2239.22",-1849859031,-11162408834,-22793289899,null,null,null,"Tháng 7",{"$nulls":5},"2239.4"]
["VIII","Giá trị tài sản ròng cuối kỳ\nNet Asset Value at the end of period","2243",31748965965,36153379137,31748965965,76971302174,76493937893,null,"Tháng 8",{"$nulls":5},"2243"]
[{"$nulls":6},0,0,null,"Tháng 9"]
[{"$nulls":9},"Tháng 10"]
["Đại diện có thẩm quyền của Ngân hàng giám sát",null,null,"Đại diện có thẩm quyền của Công ty quản lý Quỹ",null,null,0,null,null,"Tháng 11"]
["Authorised Representative of Supervisory Bank",null,null,"Authorised Representative of Fund Management Company",{"$nulls":5},"Tháng 12"]
[{"$nulls":9},"Total",49750000,0]
{"$rows_empty":9}
["NH TMCP Đầu tư và Phát triển Việt Nam CN Nam Kỳ Khởi Nghĩa",null,null,"Công ty CP Quản lý Quỹ Đầu tư chứng khoán Bản Việt"]
["Nguyễn Thị Minh Châu",null,null,"Ông Pham Pho Hop"]
["Phó giám đốc Chi nhánh",null,null,"Tổng Giám Đốc"]

{"sheet":"BCDanhMucDauTu_06029","index":6,"n_rows":76,"n_cols":11,"rows_kept":76,"cut":false,"hidden":false,"merged":[[13,0,13,1],[13,2,13,5],[6,0,6,1],[6,2,6,5],[7,0,7,1],[7,2,7,5],[12,0,12,1],[12,2,12,5],[9,0,9,1],[9,2,9,5],[10,0,10,1],[10,2,10,5],[11,0,11,1],[11,2,11,5],[0,0,0,6],[1,0,1,6],[2,0,3,6],[4,0,4,6],[8,0,8,1],[8,2,8,5]]}
["Phụ lục XXVI. Mẫu báo cáo về hoạt động của Quỹ\nAppendix XXVI. Report on Fund's Operation"]
["(Ban hành kèm theo Thông tư số 98/2020/TT-BTC ngày 16 tháng 11 năm 2020 của Bộ trưởng Bộ Tài  Chính về hướng dẫn hoạt động và quản lý quỹ đầu tư chứng khoán\n(Issued in association with Circular 98/2020/TT-BTC dated 16 November 2020 of the Minister of Finance on guiding the operation and management of the securities investment funds)"]
["BÁO CÁO HOẠT ĐỘNG ĐẦU TƯ CỦA QUỸ MỞ\n REPORT ON FUND'S INVESTMENT ACTIVITIES"]
[]
[{"$f":"BCTinhHinhTaiChinh_06105!A5","v":"Tại ngày 31 tháng 07 năm 2026/As at 31 July 2026"}]
[]
["Tên Quỹ:",null,"Quỹ Đầu Tư  Bản Việt Discovery (VCAMDF)\n"]
["Fund name: ",null,"Viet Capital Discovery Fund "]
["Tên Công ty quản lý quỹ:",null,"Công ty Cổ phần Quản lý Quỹ Đầu tư chứng khoán Bản Việt\n"]
["Fund Management Company:",null,"Viet Capital Asset Management Joint Stock Company"]
["Tên ngân hàng giám sát:",null,"Ngân hàng TMCP Đầu tư và Phát triển Việt Nam Chi nhánh Nam Kỳ Khởi Nghĩa"]
["Supervising bank: ",null,"Bank for Investment and Development of VietNam JSC - Nam Ky Khoi Nghia Branch"]
["Ngày lập báo cáo:",null,{"$f":"BCThuNhap_06203!B13","v":"Ngày 04 tháng 08 năm 2026"}]
["Reporting Date:",null,{"$f":"BCThuNhap_06203!B14","v":"2026-08-04"}]
["A.","BÁO CÁO CHUNG VỀ HOẠT ĐỘNG ĐẦU TƯ CỦA QUỸ/GENERAL INFORMATION ON FUND'S INVESTMENT ACTIVITIES"]
["III","BÁO CÁO VỀ TÌNH HÌNH DANH MỤC ĐẦU TƯ CỦA QUỸ / INVESTMENT PORTFOLIO REPORT"]
["STT/No.","Loại\nCategory","Mã chỉ tiêu\nCode","Số Lượng\nQuantity","Giá thị trường\nhoặc giá trị hợp lý tại ngày báo cáo\nMarket price","Tổng giá trị (Đồng)\nValue (VND)","Tỷ lệ % Tổng giá trị tài sản của Quỹ\n% of total asset"]
["I","CỔ PHIẾU NIÊM YẾT\nLISTED EQUITY",2246]
[1,"     ABB",2246.1,140070,17400,2437218000.0000005,7.0328444257481748E-2]
[2,"     APF",2246.1999999999998,30000,46300,1389000000,4.0081030533026647E-2]
[3,"     BID",2246.3000000000002,38000,38000,1444000000,4.1668112375587096E-2]
[4,"     BVB",2246.4,133000,12300,1635900000,4.7205585204448015E-2]
[5,"     CAP",2246.5,37000,43500,1609500000,4.6443785920019E-2]
[6,"     CTD",2246.6,21617,61000,1318637000,3.8050633447788813E-2]
[7,"     CTG",2246.6999999999998,45000,30800,1386000000,3.9994462432523352E-2]
[8,"     DDV",2246.8000000000002,62000,18100,1122200000,3.238224079493341E-2]
[9,"     GVR",2246.9,50000,27500,1375000000,3.9677046064011262E-2]
[10,"     HDB","2246.10",54000,25200,1360800000,3.9267290388295649E-2]
[11,"     IDC",2246.11,44000,32600,1434400000,4.1391094453976547E-2]
[12,"     NT2",2246.12,71500,21000,1501500000,4.3327334301900292E-2]
[13,"     PHR",2246.13,24250,56800,1377400000,3.9746300544413894E-2]
[14,"     POW",2246.14,110000,13600,1496000000,4.316862611764425E-2]
[15,"     PVS",2246.15,50000,34100,1705000000,4.9199537119373964E-2]
[16,"     SSI",2246.16,55000,23550,1295250000,3.7375777392298609E-2]
[17,"     STB",2246.17,23400,71300,1668420000,4.814398341390376E-2]
[18,"     TLG",2246.1799999999998,34800,48100,1673880000,4.830153735681976E-2]
[19,"     VCB",2246.19,25000,59300,1482500000,4.2779069665379414E-2]
[20,"     VND","2246.20",85000,16600,1411000000,4.0715863270050827E-2]
[null,"TỔNG\nTOTAL",2247,1133637,0,30123605000,0.8692477550538763]
["II","CỔ PHIẾU CHƯA NIÊM YẾT\nUNLISTED EQUITY",2248,0,0,0]
[null,"TỔNG\nTOTAL",2249,0,0,0,{"$f":"F41/$F$64","v":0}]
[null,"TỔNG CÁC LOẠI CỔ PHIẾU\nTOTAL",2250,1133637,0,30123605000,0.8692477550538763]
["III","TRÁI PHIẾU\nBONDS",2251]
[null,"TỔNG\nTOTAL",2252,0,null,0,0]
["IV","CÁC LOẠI CHỨNG KHOÁN KHÁC\nOTHER SECURITIES",2253]
["1","Quyền mua\nRights","2253.1"]
[null,"TỔNG\nTOTAL",2254,null,null,null,{"$f":"F47/$F$64","v":0}]
[null,"TỔNG CÁC LOẠI CHỨNG KHOÁN\nSECURITIES INVESTMENT TOTAL",2255,1133637,null,30123605000,0.8692477550538763]
["V","CÁC TÀI SẢN KHÁC\nOTHER ASSETS",2256,{"$nulls":5},"Tach lai CD va TD"]
[1,"Cổ tức được nhận\nDividend receivables",2256.1,0,0,77100000,2.2248001829347406E-3]
[2,"Lãi trái phiếu được nhận\nCoupon receivables",2256.1999999999998,0,0,{"$f":"BCTaiSan_06027!D35","v":0},{"$f":"F51/$F$64","v":0}]
[3,"Lãi tiền gửi được nhận\nInterest receivables from deposits",2256.3000000000002,0,0,{"$f":"BCTaiSan_06027!D37","v":0},0]
[4,"Phải thu lãi chứng chỉ tiền gửi ghi danh\nInterest receivable from registered Deposit Certificate",2256.4,0,0,{"$f":"BCTaiSan_06027!D38","v":0},0]
[5,"Tiền bán chứng khoán chờ thu\nOutstanding Settlement of sales transactions",2256.5,0,0,304234973,8.7790145730939802E-3]
[6,"Phải thu khác\nOther receivables",2256.6,0,0,{"$f":"BCTaiSan_06027!D40","v":0},0]
[7,"Tài sản khác\nOther investments",2256.6999999999998,0,0,{"$f":"BCTaiSan_06027!D41","v":0},0]
[null,"TỔNG\nTOTAL",2257,0,0,381334973,1.1003814756028719E-2]
["VI","TIỀN\nCASH",2258]
[1,"Tiền, tương đương tiền\nCash, Cash Equivalents\n",2259,0,0,4149857609,0.119748430190095]
[2,"Tiền gửi ngân hàng có kỳ hạn trên 03 tháng\nDeposits with term over three (03) months",2260,null,null,{"$f":"BCTaiSan_06027!D30","v":0},0,null,"checking"]
[3,"Chứng chỉ tiền gửi \nCertificate of deposit",2261,0,0,{"$f":"BCTaiSan_06027!D31","v":0},0,null,77161857907]
[4,"Công cụ chuyển nhượng…\nRegistered certificate of deposit",2262,0,0,0,0,null,0]
[null,"TỔNG\nTOTAL",2263,null,null,4149857609,0.119748430190095]
["VII","Tổng giá trị danh mục \nTotal value of portfolio",2264,null,null,34654797582,1,null,null,null,{"$f":"+F64-BCTaiSan_06027!D42","v":0}]
[]
[]
["Đại diện có thẩm quyền của Ngân hàng giám sát",null,null,null,"Đại diện có thẩm quyền của Công ty quản lý Quỹ"]
["Authorised Representative of Supervisory Bank",null,null,null,"Authorised Representative of Fund Management Company"]
[]
[]
[]
[]
[]
["NH TMCP Đầu tư và Phát triển Việt Nam CN Nam Kỳ Khởi Nghĩa",null,null,null,"Công ty CP Quản lý Quỹ Đầu tư chứng khoán Bản Việt"]
["Nguyễn Thị Minh Châu",null,null,null,"Ông Pham Pho Hop"]
["Phó giám đốc Chi nhánh",null,null,null,"Tổng Giám Đốc"]

{"sheet":"BCHoatDongVay_06026","index":7,"n_rows":46,"n_cols":11,"rows_kept":46,"cut":false,"hidden":false,"merged":[[0,0,0,10],[1,0,1,10],[2,0,2,10],[3,0,3,10],[7,0,7,1],[7,6,7,9],[5,0,5,1],[5,6,5,9],[6,6,6,9],[8,0,8,1],[8,6,8,9],[9,0,9,1],[10,0,10,1],[9,6,9,10],[10,6,10,10],[11,6,11,9],[12,6,12,9],[15,5,16,5],[15,6,16,6],[15,7,15,8],[15,9,15,10],[29,0,29,4],[15,0,16,0],[15,1,16,1],[15,2,16,2],[15,3,16,3],[15,4,16,4]]}
["Phụ lục XXVI. Mẫu báo cáo về hoạt động của Quỹ\nAppendix XXVI. Report on Fund's Operation"]
["(Ban hành kèm theo Thông tư số 98/2020/TT-BTC ngày 16 tháng 11 năm 2020 của Bộ trưởng Bộ Tài  Chính về hướng dẫn hoạt động và quản lý quỹ đầu tư chứng khoán\n(Issued in association with Circular 98/2020/TT-BTC dated 16 November 2020 of the Minister of Finance on guiding the operation and management of the securities investment funds)"]
["BÁO CÁO HOẠT ĐỘNG ĐẦU TƯ CỦA QUỸ MỞ\n REPORT ON FUND'S INVESTMENT ACTIVITIES"]
[{"$f":"BCThuNhap_06203!A5","v":"Tháng 07 năm 2026/ July 2026"}]
[]
["Tên Quỹ:",{"$nulls":5},"Quỹ Đầu Tư  Bản Việt Discovery (VCAMDF)\n"]
["Fund name:",{"$nulls":5},"Viet Capital Discovery Fund "]
["Tên Công ty quản lý quỹ:",{"$nulls":5},"Công ty Cổ phần Quản lý Quỹ Đầu tư chứng khoán Bản Việt"]
["Fund Management Company:",{"$nulls":5},"Viet Capital Asset Management Joint Stock Company"]
["Tên ngân hàng giám sát:",{"$nulls":5},"Ngân hàng TMCP Đầu tư và Phát triển Việt Nam Chi nhánh Nam Kỳ Khởi Nghĩa"]
["Supervising bank: ",{"$nulls":5},"Bank for Investment and Development of VietNam JSC - Nam Ky Khoi Nghia Branch"]
["Ngày lập báo cáo:",{"$nulls":5},{"$f":"BCThuNhap_06203!B13","v":"Ngày 04 tháng 08 năm 2026"}]
["Reporting Date:",{"$nulls":5},{"$f":"BCThuNhap_06203!B14","v":"2026-08-04"}]
["A.","BÁO CÁO CHUNG VỀ HOẠT ĐỘNG ĐẦU TƯ CỦA QUỸ/GENERAL INFORMATION ON FUND'S INVESTMENT ACTIVITIES"]
["IV","BÁO CÁO HOẠT ĐỘNG VAY, GIAO DỊCH MUA BÁN LẠI / REPORT ON BORROWING OPERATION, REPO/REVERSE REPO TRANSACTIONS"]
["STT\nNo.","Nội dung hoạt động (nêu chi tiết theo mục tiêu và đối tác)\nDescription","Mã chỉ tiêu\nCode","Đối tác\nCounterparty","Mục tiêu/Tài sản đảm bảo Collateral","Kỳ hạn\nTerm","Giá trị khoản vay hoặc khoản cho vay\nAmount","Thời điểm giao dịch \nAs at transaction date",null,"Thời điểm báo cáo\nAs at reporting date"]
[{"$nulls":7},"Ngày tháng năm\nDate","Tỷ lệ giá trị hợp đồng/giá trị tài sản ròng của quỹ \nBalance/NAV","Ngày tháng năm \nDate","Tỷ lệ giá trị hợp đồng/giá trị tài sản ròng của quỹ \nBalance/NAV"]
["1","Các khoản vay tiền (nêu chi tiết từng hợp đồng)\nBorrowings (detail by each contract)","2287"]
["I","Tổng giá trị các khoản vay tiền/giá trị tài sản ròng\nBorrowings/NAV","2288"]
["2","Hợp đồng Repo (nêu chi tiết từng hợp đồng)\nRepo contract (detail by each contract)","2289"]
["II","Tổng giá trị các hợp đồng Repo/giá trị tài sản ròng\nTotal value of Repo contracts/NAV","2290"]
["A","Tổng giá trị các khoản vay/giá trị tài sản ròng (=I+II)\nTotal Borrowings, Repo/NAV (=I+II)","2291"]
["3","Cho vay chứng khoán (nêu chi tiết từng hợp đồng)\nSecurities lending (detail by each contract)","2292"]
["III","Tổng giá trị các hợp đồng/giá trị tài sản ròng\nTotal contract value/NAV","2293"]
["4","Hợp đồng Reverse Repo (nêu chi tiết từng hợp đồng)\nReverse Repo contract (Detail by each contract)","2295"]
["IV","Tổng giá trị các hợp đồng/giá trị tài sản ròng\nTotal contract value/NAV","2296"]
["B","Tổng giá trị các khoản cho vay/giá trị tài sản ròng  (=III + IV)\nTotal Loans/NAV (=III + IV)","2297"]
[]
[]
["* Ghi chú: kỳ báo cáo không phát sinh "]
[]
["Đại diện có thẩm quyền của Ngân hàng giám sát",{"$nulls":7},"Đại diện có thẩm quyền của Công ty quản lý Quỹ"]
["Authorised Representative of Supervisory Bank",{"$nulls":7},"Authorised Representative of Fund Management Company"]
{"$rows_empty":10}
["Ngân hàng TMCP Đầu tư và Phát triển Việt Nam Chi nhánh Nam Kỳ Khởi Nghĩa",{"$nulls":7},"Công ty CP Quản lý Quỹ Đầu tư chứng khoán Bản Việt"]
["Nguyễn Thị Minh Châu",{"$nulls":7},"Ông Pham Pho Hop"]
["Phó giám đốc Chi nhánh",{"$nulls":7},"Tổng Giám Đốc"]

{"sheet":"Khac_06030","index":8,"n_rows":64,"n_cols":5,"rows_kept":64,"cut":false,"hidden":false,"merged":[[11,0,11,1],[11,2,11,4],[0,0,0,4],[1,0,1,4],[2,0,3,4],[4,0,4,4],[8,0,8,1],[8,2,8,4],[46,1,46,4],[6,0,6,1],[6,2,6,4],[7,0,7,1],[7,2,7,4],[12,0,12,1],[12,2,12,4],[13,0,13,1],[13,2,13,4],[26,0,28,0],[29,0,35,0],[36,0,38,0],[9,0,9,1],[9,2,9,4],[10,0,10,1],[10,2,10,4]]}
["Phụ lục XXVI. Mẫu báo cáo về hoạt động của Quỹ\nAppendix XXVI. Report on Fund's Operation"]
["(Ban hành kèm theo Thông tư số 98/2020/TT-BTC ngày 16 tháng 11 năm 2020 của Bộ trưởng Bộ Tài Chính về hướng dẫn hoạt động và quản lý quỹ đầu tư chứng khoán\n(Issued in association with Circular 98/2020/TT-BTC dated 16 November 2020 of the Minister of Finance on guiding the operation and management of the securities investment funds)"]
["BÁO CÁO HOẠT ĐỘNG ĐẦU TƯ CỦA QUỸ MỞ\n REPORT ON FUND'S INVESTMENT ACTIVITIES"]
[]
[{"$f":"BCThuNhap_06203!A5","v":"Tháng 07 năm 2026/ July 2026"}]
[]
["Tên Quỹ:",null,"Quỹ Đầu Tư  Bản Việt Discovery (VCAMDF)\n"]
["Fund name: ",null,"Viet Capital Discovery Fund "]
["Tên Công ty quản lý quỹ:",null,"Công ty Cổ phần Quản lý Quỹ Đầu tư chứng khoán Bản Việt\n"]
["Fund Management Company",null,"Viet Capital Asset Management Joint Stock Company"]
["Tên ngân hàng giám sát:",null,"Ngân hàng TMCP Đầu tư và Phát triển Việt Nam Chi nhánh Nam Kỳ Khởi Nghĩa\n"]
["Supervising bank: ",null,"Bank for Investment and Development of VietNam JSC - Nam Ky Khoi Nghia Branch"]
["Ngày lập báo cáo:",null,{"$f":"BCThuNhap_06203!B13","v":"Ngày 04 tháng 08 năm 2026"}]
["Reporting Date:",null,{"$f":"BCThuNhap_06203!B14","v":"2026-08-04"}]
["A.","BÁO CÁO CHUNG VỀ HOẠT ĐỘNG ĐẦU TƯ CỦA QUỸ/GENERAL INFORMATION ON FUND'S INVESTMENT ACTIVITIES"]
["V","MỘT SỐ CHỈ TIÊU KHÁC / OTHER INDICATORS"]
["STT/No.","Chỉ tiêu/Indicators","Mã chỉ tiêu/Code","Tháng 07 năm 2026\nJuly 2026","Tháng 06 năm 2026\nJune 2026"]
["I","CÁC CHỈ TIÊU VỀ HIỆU QUẢ HOẠT ĐỘNG\nINVESTMENT PERFORMANCE INDICATORS","2264"]
[1,"Tỷ lệ giá dịch vụ quản lý quỹ trả cho công ty quản lý quỹ/Giá trị tài sản ròng trung bình trong kỳ (%)\nManagement fee paid to the fund management company/Average NAV (%)\n","2265",1.5356291165845203E-2,1.4766881179814931E-2]
[2,"Tỷ lệ giá dịch vụ lưu ký, giám sát trả cho Ngân hàng Giám sát/Giá trị tài sản ròng trung bình trong kỳ (%)\nCustody and supervising fees paid to the Supervisory Bank/Average NAV (%)","2266",9.4424636389201268E-3,7.3175187432979122E-3]
[3,"Tỷ lệ chi phí dịch vụ quản trị quỹ, và các chi phí khác mà công ty quản lý quỹ trả cho tổ chức cung cấp dịch vụ có liên quan/Giá trị tài sản ròng của quỹ trung bình trong kỳ (%)\nFund admin fee, and other fees paid to relating services providers by the fund management company/Average NAV (%)","22661",1.0614765487331212E-2,9.1421099796822752E-3]
[4,"Chi phí kiểm toán trả cho tổ chức kiểm toán (nếu phát sinh) / Giá trị tài sản ròng trung bình trong kỳ (%)\nAudit fee expense over average NAV ratio (%)","2267",3.6425361196692268E-3,3.0359839107981842E-3]
[5,"Chi phí dịch vụ tư vấn pháp lý, dịch vụ báo giá và các dịch vụ hợp lý khác, thù lao trả cho ban đại diện quỹ / Giá trị tài sản ròng trung bình trong kỳ (%)\nLegal consultancy, OTC price quotation and other valid service fees; Board of Representatives' remuneration expense over average NAV ratio (%)","2268",7.1479902271590658E-3,6.1563030166210606E-3]
[6,"Tỷ lệ chi phí /Giá trị tài sản ròng trung bình trong kỳ (%)\n Expense/Average NAV (%)","2269",5.6099738605384294E-2,4.4406222597104091E-2]
[7,"Tốc độ vòng quay danh mục trong kỳ (%) = (Tổng giá trị  mua vào + tổng giá trị bán ra) x 100%/ (2 x Giá trị tài sản ròng trung bình trong kỳ)\nPortfolio turnover rate (%) = (Total value of purchase transactions + total value of sales transactions) x 100%/ (2 x Average NAV) (**)","2270",3.3239040192278799,1.4180559189924054]
["II","CÁC CHỈ TIÊU KHÁC\nOTHER INDICATORS","2272"]
[1,"Quy mô quỹ đầu kỳ (tính theo mệnh giá chứng chỉ quỹ)\nFund scale at the beginning of the period (based on par value of fund certificate)","2273",32934355799.999989,43115209699.999985]
[null,"Tổng giá trị chứng chỉ quỹ đang lưu hành đầu kỳ\nTotal value of outstanding Fund Certificate at the beginning of period","2274",32934355799.999989,43115209699.999985]
[null,"Tổng số lượng đơn vị quỹ đang lưu hành đầu kỳ\nTotal number of outstanding Fund Certificate at the beginning of period","2275",3293435.5799999987,4311520.9699999988]
[2,"Thay đổi quy mô quỹ trong kỳ (tính theo mệnh giá chứng chỉ quỹ)\nChange of Fund scale during the period (based on par value of fund certificate)","2276",-1520200400,-10180853900]
[null,"Thay đổi số lượng chứng chỉ quỹ trong kỳ\nChange of Number of Fund Certificates  during the period","2276.1",-152020.04,-1018085.39]
[null,"Thay đổi giá trị vốn trong kỳ (theo mệnh giá)\nChange in capital amount during the period (based on par value)","2276.2",-1520200400.0000002,-10180853900]
[null,"Số lượng đơn vị quỹ phát hành thêm trong kỳ\nNumber of Fund Certificates subscribed during the period","2277",22950.35,25204.639999999999]
[null,"Giá trị vốn huy động thêm trong kỳ (theo mệnh giá)\nNet subscription amount in period (based on par value)","2278",229503500,252046400]
[null,"Số lượng đơn vị quỹ mua lại trong kỳ\nNumber of Fund Certificates redeemed during the period","22781",-174970.39,-1043290.03]
[null,"Giá trị vốn phải thanh toán trong kỳ khi đáp ứng lệnh của nhà đầu tư (theo mệnh giá)\nNet redemption amount in period (based on par value)","22782",-1749703900.0000002,-10432900300]
[3,"Quy mô quỹ cuối kỳ (tính theo mệnh giá chứng chỉ quỹ)\nFund scale at the end of the period (based on par value of fund unit)","2279",31414155399.999985,32934355799.999989]
[null,"Tổng giá trị chứng chỉ quỹ đang lưu hành cuối kỳ\nTotal value of outstanding Fund Certificate at the end of the period","2280",31414155399.999985,32934355799.999989]
[null,"Tổng số lượng đơn vị quỹ đang lưu hành cuối kỳ\nTotal number of outstanding Fund Certificate at the end of the period","2281",3141415.5399999986,3293435.5799999987]
[4,"Tỷ lệ nắm giữ chứng chỉ quỹ của công ty quản lý quỹ và người có liên quan cuối kỳ\nFund Management Company and related parties' ownership ratio at the end of the period","2282",0.27489999999999998,0.26150000000000001]
[5,"Tỷ lệ nắm giữ chứng chỉ quỹ của 10 nhà đầu tư lớn nhất cuối kỳ\nTop 10 investors' ownership ratio at the end of the period","2283",0.71619999999999995,0.70069999999999999]
[6,"Tỷ lệ nắm giữ chứng chỉ quỹ của nhà đầu tư nước ngoài cuối kỳ\nForeign investors' ownership ratio at the end of the period","2284",2.18E-2,2.07E-2]
[7,"Giá trị tài sản ròng trên một đơn vị quỹ cuối tháng\nNet asset value per Fund Certificate at the end of period","2285",10106.57,10977.4]
[8,"Số nhà đầu tư tham gia vào quỹ, kể cả giao dịch ký danh\nNumber of investors of the Fund at the end of the period","22841",476,469]
[]
["Ghi chú/ Notes:"]
[null,"Các chỉ tiêu từ 1 đến 7 của \"Chỉ tiêu về hiệu quả hoạt động\" cột kỳ trước đã được điều chỉnh để phản ánh số liệu trên cơ sở hoạt động tròn năm bằng cách nhân các chỉ tiêu này với 12.\nAll Indicators starting from number 1 to 7 of \"Investment performance indicators\" at last period column are annualized to reflect a rate that is based on a full year operation by multiplying these indicators with 12."]
[]
["Đại diện có thẩm quyền của Ngân hàng giám sát",null,null,"Đại diện có thẩm quyền của Công ty quản lý Quỹ"]
["Authorised Representative of Supervisory Bank",null,null,"Authorised Representative of Fund Management Company"]
{"$rows_empty":11}
["Ngân hàng TMCP Đầu tư và Phát triển Việt Nam Chi nhánh Nam Kỳ Khởi Nghĩa",null,null,"Công ty CP Quản lý Quỹ Đầu tư chứng khoán Bản Việt"]
["Nguyễn Thị Minh Châu",null,null,"Ông Pham Pho Hop"]
["Phó giám đốc Chi nhánh",null,null,"Tổng Giám Đốc"]

{"sheet":"Sheet2","index":9,"n_rows":30,"n_cols":9,"rows_kept":30,"cut":false,"hidden":true,"merged":[]}
{"$rows_empty":7}
[{"$nulls":6},"2025-04-01",4867413.9699999951,45115388427]
[{"$nulls":6},"2025-04-02",4867738.3699999955,45095810141]
[{"$nulls":6},"2025-04-03",4868221.889999995,42807718470]
[{"$nulls":6},"2025-04-07",4869279.8699999955,43250819546]
[{"$nulls":6},"2025-04-08",4868827.929999995,39801397692]
[{"$nulls":6},"2025-04-09",4870688.0499999942,38779433284]
[{"$nulls":6},"2025-04-10",4870707.1599999946,41997633472]
[{"$nulls":6},"2025-04-13",4873127.1399999941,43551088872]
[{"$nulls":6},"2025-04-14",4873127.1399999941,44285081985]
[{"$nulls":6},"2025-04-15",4874332.2599999942,44197687119]
[{"$nulls":6},"2025-04-16",4874237.9999999944,43683170004]
[{"$nulls":6},"2025-04-17",4874237.9999999944,44300663726]
[{"$nulls":6},"2025-04-20",4874237.9999999944,43957842898]
[{"$nulls":6},"2025-04-21",4874348.3199999947,43494968760]
[{"$nulls":6},"2025-04-22",4874794.3399999943,43345727240]
[{"$nulls":6},"2025-04-23",4874794.3399999943,43812035184]
[{"$nulls":6},"2025-04-24",4875348.3199999947,43991704647]
[{"$nulls":6},"2025-04-27",4876561.2899999944,44208538468]
[{"$nulls":6},"2025-04-28",4876445.8999999948,44279077273]
[{"$nulls":6},"2025-04-30",4876665.1499999948,44367276252]
[{"$nulls":6},20,null,{"$f":"SUM(I8:I27)","v":868323063460}]
[{"$nulls":8},{"$f":"I28/G28","v":43416153173}]
[{"$nulls":8},43416153173]

{"sheet":"Sheet1","index":10,"n_rows":26,"n_cols":3,"rows_kept":26,"cut":false,"hidden":true,"merged":[]}
[null,"2024-09-30"]
[null,"2024-10-01",55022599948]
[null,"2024-10-02",54730298918]
[null,"2024-10-03",53959724787]
[null,"2024-10-06",53912245578]
[null,"2024-10-07",53927909827]
[null,"2024-10-08",54253833315]
[null,"2024-10-09",53481021729]
[null,"2024-10-10",53459544847]
[null,"2024-10-13",53495229983]
[null,"2024-10-14",53479736050]
[null,"2024-10-15",52934269713]
[null,"2024-10-16",52799699075]
[null,"2024-10-17",52886556350]
[null,"2024-10-20",52591227175]
[null,"2024-10-21",52025579310]
[null,"2024-10-22",51605568515]
[null,"2024-10-23",51794096933]
[null,"2024-10-24",51534606165]
[null,"2024-10-27",51461727501]
[null,"2024-10-28",51675318761]
[null,"2024-10-29",51938746264]
[null,"2024-10-30",52147633631]
[null,"2024-10-31",52018944634]
[null,null,{"$f":"SUM(C2:C24)","v":1217136119009}]
[null,null,{"$f":"C25/23","v":52918961696.04348}]

{"sheet":"THU NHAP","index":11,"n_rows":38,"n_cols":7,"rows_kept":38,"cut":false,"hidden":true,"merged":[[0,0,1,0],[0,1,1,1],[0,2,1,2],[0,3,0,4],[0,5,0,6]]}
["Chỉ tiêu","Mã số","Thuyết minh","Năm N",null,"Năm N-1"]
[null,null,null,"Kỳ này","Kỳ trước","Kỳ này","Kỳ trước"]
["I. THU NHẬP, DOANH THU HOẠT ĐỘNG ĐẦU TƯ","01"," ",{"$f":"BCThuNhap_06203!D18","v":-2635105094},{"$f":"BCThuNhap_06203!E18","v":-1933689968},{"$f":"BCThuNhap_06203!F18","v":5013356150},{"$f":"BCThuNhap_06203!G18","v":8184046575}]
["1.1. Cổ tức được chia ","02"," ",{"$f":"BCThuNhap_06203!D19","v":147900000},{"$f":"BCThuNhap_06203!E19","v":533650000},{"$f":"BCThuNhap_06203!F19","v":76000000},{"$f":"BCThuNhap_06203!G19","v":999297000}]
["1.2. Tiền lãi được nhận","03"," ",{"$f":"BCThuNhap_06203!D22","v":588206},{"$f":"BCThuNhap_06203!E22","v":8605432},{"$f":"BCThuNhap_06203!F22","v":959363},{"$f":"BCThuNhap_06203!G22","v":7236788}]
["1.3. Lãi, lỗ bán các khoản đầu tư","04"," ",{"$f":"BCThuNhap_06203!D25","v":-1240584466},{"$f":"BCThuNhap_06203!E25","v":-2479853548},{"$f":"BCThuNhap_06203!F25","v":5724714919},{"$f":"BCThuNhap_06203!G25","v":5627624793}]
["1.4. Chênh lệch tăng, giảm đánh giá lại các khoản đầu tư chưa thực hiện","05"," ",{"$f":"BCThuNhap_06203!D26","v":-1543008834},{"$f":"BCThuNhap_06203!E26","v":3908148},{"$f":"BCThuNhap_06203!F26","v":-788318132},{"$f":"BCThuNhap_06203!G26","v":1549887994}]
["1.5. Doanh thu khác","06"," ",{"$f":"BCThuNhap_06203!D27","v":0},{"$f":"BCThuNhap_06203!E27","v":0},{"$f":"BCThuNhap_06203!F27","v":0},{"$f":"BCThuNhap_06203!G27","v":0}]
["1.6. Chênh lệch lãi, lỗ tỷ giá hối đoái đã và chưa thực hiện","07"," ",{"$f":"BCThuNhap_06203!D28","v":0},{"$f":"BCThuNhap_06203!E28","v":0},{"$f":"BCThuNhap_06203!F28","v":0},{"$f":"BCThuNhap_06203!G28","v":0}]
["1.7. Doanh thu khác về đầu tư","08"," ",{"$f":"BCThuNhap_06203!D29","v":0},{"$f":"BCThuNhap_06203!E29","v":0},{"$f":"BCThuNhap_06203!F29","v":0},{"$f":"BCThuNhap_06203!G29","v":0}]
["1.8. Dự phòng nợ phải thu và dự thu khó đòi về cổ tức, tiền lãi và xử lý tổn thất nợ phải thu khó đòi về cổ tức, tiền lãi ","09"," ",{"$f":"BCThuNhap_06203!D30","v":0},{"$f":"BCThuNhap_06203!E30","v":0},{"$f":"BCThuNhap_06203!F30","v":0},{"$f":"BCThuNhap_06203!G30","v":0}]
["II. CHI PHÍ ĐẦU TƯ ","10"," ",{"$f":"BCThuNhap_06203!D31","v":27169875},{"$f":"BCThuNhap_06203!E31","v":328565905},{"$f":"BCThuNhap_06203!F31","v":89901858},{"$f":"BCThuNhap_06203!G31","v":371369081}]
["2.1. Chi phí giao dịch mua, bán các khoản đầu tư","11"," ",{"$f":"BCThuNhap_06203!D32","v":27169875},{"$f":"BCThuNhap_06203!E32","v":328565905},{"$f":"BCThuNhap_06203!F32","v":89901858},{"$f":"BCThuNhap_06203!G32","v":371369081}]
["2.2.Chi phí dự phòng nợ phải thu khó đòi và xử lý tổn thất phải thu khó đòi","12"," ",{"$f":"BCThuNhap_06203!D35","v":0},{"$f":"BCThuNhap_06203!E35","v":0},{"$f":"BCThuNhap_06203!F35","v":0},{"$f":"BCThuNhap_06203!G35","v":0}]
["2.3. Chi phí lãi vay","13"," ",{"$f":"BCThuNhap_06203!D36","v":0},{"$f":"BCThuNhap_06203!E36","v":0},{"$f":"BCThuNhap_06203!F36","v":0},{"$f":"BCThuNhap_06203!G36","v":0}]
["2.4. Chi phí dự phòng giảm giá tài sản nhận thế chấp và xử lý tổn thất các khoản đầu tư cho vay có tài sản nhận thế chấp","14"," ",{"$f":"BCThuNhap_06203!D37","v":0},{"$f":"BCThuNhap_06203!E37","v":0},{"$f":"BCThuNhap_06203!F37","v":0},{"$f":"BCThuNhap_06203!G37","v":0}]
["2.5.Chi phí đầu tư khác","15"," ",{"$f":"BCThuNhap_06203!D38","v":0},{"$f":"BCThuNhap_06203!E38","v":0},{"$f":"BCThuNhap_06203!F38","v":0},{"$f":"BCThuNhap_06203!G38","v":0}]
["III. CHI PHÍ HOẠT ĐỘNG QUỸ MỞ","20"," ",{"$f":"BCThuNhap_06203!D39","v":129796592},{"$f":"BCThuNhap_06203!E39","v":1054235696},{"$f":"BCThuNhap_06203!F39","v":166080428},{"$f":"BCThuNhap_06203!G39","v":1025747556}]
["3.1.Phí quản lý Quỹ mở ","20.1"," ",{"$f":"BCThuNhap_06203!D40","v":42966738},{"$f":"BCThuNhap_06203!E40","v":410267243},{"$f":"BCThuNhap_06203!F40","v":67608664},{"$f":"BCThuNhap_06203!G40","v":426638699}]
["3.2. Phí dịch vụ lưu ký tài sản Quỹ mở","20.2"," ",{"$f":"BCThuNhap_06203!D41","v":20919912},{"$f":"BCThuNhap_06203!E41","v":181913193},{"$f":"BCThuNhap_06203!F41","v":39414059},{"$f":"BCThuNhap_06203!G41","v":194428267}]
["3.3. Phí dịch vụ giám sát ","20.3"," ",{"$f":"BCThuNhap_06203!D45","v":5500000},{"$f":"BCThuNhap_06203!E45","v":38500000},{"$f":"BCThuNhap_06203!F45","v":5500000},{"$f":"BCThuNhap_06203!G45","v":38500000}]
["3.4. Phí dịch vụ quản trị Quỹ mở","20.4"," ",{"$f":"BCThuNhap_06203!D46","v":16500000},{"$f":"BCThuNhap_06203!E46","v":115500000},{"$f":"BCThuNhap_06203!F46","v":16500000},{"$f":"BCThuNhap_06203!G46","v":115500000}]
["3.5. Phí dịch vụ Đại lý chuyển nhượng","20.5"," ",{"$f":"BCThuNhap_06203!D47","v":13200000},{"$f":"BCThuNhap_06203!E47","v":92400000},{"$f":"BCThuNhap_06203!F47","v":13200000},{"$f":"BCThuNhap_06203!G47","v":92400000}]
["3.6. Phí dịch vụ khác của Nhà cung cấp dịch vụ cho Quỹ mở","20.6"," ",{"$f":"BCThuNhap_06203!D48","v":0},{"$f":"BCThuNhap_06203!E48","v":0},{"$f":"BCThuNhap_06203!F48","v":0},{"$f":"BCThuNhap_06203!G48","v":0}]
["3.7. Chi phí họp, Đại hội Quỹ mở","20.7"," ",{"$f":"BCThuNhap_06203!D49","v":0},{"$f":"BCThuNhap_06203!E49","v":0},{"$f":"BCThuNhap_06203!F49","v":0},{"$f":"BCThuNhap_06203!G49","v":0}]
["3.8. Chi phí kiểm toán","20.8"," ",{"$f":"BCThuNhap_06203!D50","v":10191777},{"$f":"BCThuNhap_06203!E50","v":69698605},{"$f":"BCThuNhap_06203!F50","v":10951091},{"$f":"BCThuNhap_06203!G50","v":65951091}]
["3.9. Chi phí thanh lý tài sản Quỹ mở","20.9"," ",{"$f":"BCThuNhap_06203!D51","v":0},{"$f":"BCThuNhap_06203!E51","v":0},{"$f":"BCThuNhap_06203!F51","v":0},{"$f":"BCThuNhap_06203!G51","v":0}]
["3.10. Chi phí hoạt động khác","20.10"," ",{"$f":"BCThuNhap_06203!D52","v":20518165},{"$f":"BCThuNhap_06203!E52","v":145956655},{"$f":"BCThuNhap_06203!F52","v":12906614},{"$f":"BCThuNhap_06203!G52","v":92329499}]
["IV. KẾT QUẢ HOẠT ĐỘNG ĐẦU TƯ (23=01-10-20)","23"," ",{"$f":"BCThuNhap_06203!D64","v":-2792071561},{"$f":"BCThuNhap_06203!E64","v":-3316491569},{"$f":"BCThuNhap_06203!F64","v":4757373864},{"$f":"BCThuNhap_06203!G64","v":6786929938}]
["V. KẾT QUẢ THU NHẬP VÀ CHI PHÍ KHÁC","24"," ",{"$f":"BCThuNhap_06203!D65","v":0},{"$f":"BCThuNhap_06203!E65","v":0},{"$f":"BCThuNhap_06203!F65","v":0},{"$f":"BCThuNhap_06203!G65","v":0}]
["5.1. Thu nhập khác","24.1"," ",{"$f":"BCThuNhap_06203!D66","v":0},{"$f":"BCThuNhap_06203!E66","v":0},{"$f":"BCThuNhap_06203!F66","v":0},{"$f":"BCThuNhap_06203!G66","v":0}]
["5.2. Chi phí khác","24.2"," ",{"$f":"BCThuNhap_06203!D67","v":0},{"$f":"BCThuNhap_06203!E67","v":0},{"$f":"BCThuNhap_06203!F67","v":0},{"$f":"BCThuNhap_06203!G67","v":0}]
["VI. TỔNG LỢI NHUẬN KẾ TOÁN TRƯỚC THUẾ (30=23 + 24)","30"," ",{"$f":"BCThuNhap_06203!D68","v":-2792071561},{"$f":"BCThuNhap_06203!E68","v":-3316491569},{"$f":"BCThuNhap_06203!F68","v":4757373864},{"$f":"BCThuNhap_06203!G68","v":6786929938}]
["6.1. Lợi nhuận đã thực hiện","31"," ",{"$f":"BCThuNhap_06203!D69","v":-1249062727},{"$f":"BCThuNhap_06203!E69","v":-3320399717},{"$f":"BCThuNhap_06203!F69","v":5545691996},{"$f":"BCThuNhap_06203!G69","v":5237041944}]
["6.2. Lợi nhuận chưa thực hiện","32"," ",{"$f":"BCThuNhap_06203!D70","v":-1543008834},{"$f":"BCThuNhap_06203!E70","v":3908148},{"$f":"BCThuNhap_06203!F70","v":-788318132},{"$f":"BCThuNhap_06203!G70","v":1549887994}]
["VII. CHI PHÍ THUẾ TNDN","40"," "," "," "," "," "]
["VIII. LỢI NHUẬN KẾ TOÁN SAU THUẾ TNDN (41 = 30 - 40)","41"," ",{"$f":"BCThuNhap_06203!D72","v":-2792071561},{"$f":"BCThuNhap_06203!E72","v":-3316491569},{"$f":"BCThuNhap_06203!F72","v":4757373864},{"$f":"BCThuNhap_06203!G72","v":6786929938}]
[" "," "," "," "," "," "," "]

{"sheet":"TAI CHINH","index":12,"n_rows":45,"n_cols":5,"rows_kept":45,"cut":false,"hidden":true,"merged":[]}
["Chỉ tiêu","Mã số","Thuyết minh","Năm N","Năm N-1"]
["I. TÀI SẢN","I"," "," "," "]
["1.Tiền gửi ngân hàng và tương đương tiền","110",null,{"$f":"BCTinhHinhTaiChinh_06105!D18","v":4149857609},{"$f":"BCTinhHinhTaiChinh_06105!E18","v":4475003269}]
["1.1. Tiền gửi ngân hàng cho hoạt động của Quỹ mở","111",null,{"$f":"BCTinhHinhTaiChinh_06105!D19","v":4149857609},{"$f":"BCTinhHinhTaiChinh_06105!E19","v":4475003269}]
["1.2. Tiền gửi có kỳ hạn dưới 3 tháng","112",null,{"$f":"BCTinhHinhTaiChinh_06105!D23","v":0},{"$f":"BCTinhHinhTaiChinh_06105!E23","v":0}]
["2. Các khoản đầu tư thuần","120"," ",{"$f":"BCTinhHinhTaiChinh_06105!D24","v":30123605000},{"$f":"BCTinhHinhTaiChinh_06105!E24","v":31920113900}]
["2.1. Các khoản đầu tư","121"," ",{"$f":"BCTinhHinhTaiChinh_06105!D25","v":30123605000},{"$f":"BCTinhHinhTaiChinh_06105!E25","v":31920113900}]
["2.2. Dự phòng giảm giá tài sản nhận thế chấp ","122"," ",{"$f":"BCTinhHinhTaiChinh_06105!D32","v":0},{"$f":"BCTinhHinhTaiChinh_06105!E32","v":0}]
["3. Các khoản phải thu","130"," ",{"$f":"BCTinhHinhTaiChinh_06105!D33","v":381334973},{"$f":"BCTinhHinhTaiChinh_06105!E33","v":0}]
["3.1 Phải thu về bán các khoản đầu tư","131"," ",{"$f":"BCTinhHinhTaiChinh_06105!D34","v":304234973},{"$f":"BCTinhHinhTaiChinh_06105!E34","v":0}]
["Trong đó: Phải thu khó đòi về bán các khoản đầu tư","132"," "," "," "]
["3.2. Phải thu và dự thu cổ tức, tiền lãi các khoản đầu tư","133",null,{"$f":"BCTinhHinhTaiChinh_06105!D35","v":77100000},{"$f":"BCTinhHinhTaiChinh_06105!E35","v":0}]
["3.2.1. Phải thu cổ tức, tiền lãi đến ngày nhận","134"," ",{"$f":"BCTinhHinhTaiChinh_06105!D36","v":0},{"$f":"BCTinhHinhTaiChinh_06105!E36","v":0}]
["Trong đó: Phải thu khó đòi về cổ tức, tiền lãi đến ngày nhận  nhưng chưa nhận được","135"," "," "," "]
["3.2.2 Dự thu cổ tức, tiền lãi chưa đến ngày nhận ","136"," ",{"$f":"BCTinhHinhTaiChinh_06105!D38","v":77100000},{"$f":"BCTinhHinhTaiChinh_06105!E38","v":0}]
["3.3. Các khoản phải thu khác","137"," ",{"$f":"BCTinhHinhTaiChinh_06105!D44","v":0},{"$f":"BCTinhHinhTaiChinh_06105!E44","v":0}]
["3.4. Dự phòng nợ phải thu khó đòi (*)","138"," ",{"$f":"BCTinhHinhTaiChinh_06105!D45","v":0},{"$f":"BCTinhHinhTaiChinh_06105!E45","v":0}]
["TỔNG TÀI SẢN","100"," ",{"$f":"BCTinhHinhTaiChinh_06105!D46","v":34654797582},{"$f":"BCTinhHinhTaiChinh_06105!E46","v":36395117169}]
["II. NỢ PHẢI TRẢ","II"," "," "," "]
["1. Vay ngắn hạn","311"," ",{"$f":"BCTinhHinhTaiChinh_06105!D48","v":0},{"$f":"BCTinhHinhTaiChinh_06105!E48","v":0}]
["2. Phải trả về mua các khoản đầu tư","312"," ",{"$f":"BCTinhHinhTaiChinh_06105!D49","v":2691951880},{"$f":"BCTinhHinhTaiChinh_06105!E49","v":0}]
["3. Phải trả cho các Đại lý phân phối Chứng chỉ quỹ","313"," ",{"$f":"BCTinhHinhTaiChinh_06105!D50","v":8683640},{"$f":"BCTinhHinhTaiChinh_06105!E50","v":5787014}]
["4. Thuế và các khoản phải nộp Nhà nước","314"," ",{"$f":"BCTinhHinhTaiChinh_06105!D51","v":3089276},{"$f":"BCTinhHinhTaiChinh_06105!E51","v":2472728}]
["5.Phải trả thu nhập cho Nhà đầu tư","315"," ",{"$f":"BCTinhHinhTaiChinh_06105!D52","v":0},{"$f":"BCTinhHinhTaiChinh_06105!E52","v":0}]
["6. Chi phí phải trả","316"," ",{"$f":"BCTinhHinhTaiChinh_06105!D53","v":90602760},{"$f":"BCTinhHinhTaiChinh_06105!E53","v":115986318}]
["7. Phải trả cho Nhà đầu tư về mua Chứng chỉ quỹ","317"," ",{"$f":"BCTinhHinhTaiChinh_06105!D61","v":4700000},{"$f":"BCTinhHinhTaiChinh_06105!E61","v":16400000}]
["8. Phải trả cho Nhà đầu tư về mua lại Chứng chỉ quỹ","318"," ",{"$f":"BCTinhHinhTaiChinh_06105!D62","v":12739576},{"$f":"BCTinhHinhTaiChinh_06105!E62","v":2918761}]
["9. Phải trả dịch vụ quản lý Quỹ mở","319"," ",{"$f":"BCTinhHinhTaiChinh_06105!D63","v":94064485},{"$f":"BCTinhHinhTaiChinh_06105!E63","v":98173211}]
["10. Phải trả, phải nộp khác","320"," ",{"$f":"BCTinhHinhTaiChinh_06105!D71","v":0},{"$f":"BCTinhHinhTaiChinh_06105!E71","v":0}]
["TỔNG NỢ PHẢI TRẢ","300"," ",{"$f":"BCTinhHinhTaiChinh_06105!D72","v":2905831617},{"$f":"BCTinhHinhTaiChinh_06105!E72","v":241738032}]
["III.\tGIÁ TRỊ TÀI SẢN RÒNG CÓ THỂ PHÂN PHỐI CHO NHÀ ĐẦU TƯ NẮM GIỮ CHỨNG CHỈ QUỸ MỞ (I-II)","400"," ",{"$f":"BCTinhHinhTaiChinh_06105!D73","v":31748965965},{"$f":"BCTinhHinhTaiChinh_06105!E73","v":36153379137}]
["1. Vốn góp của Nhà đầu tư","411"," ",{"$f":"BCTinhHinhTaiChinh_06105!D74","v":31414155400},{"$f":"BCTinhHinhTaiChinh_06105!E74","v":32934355800}]
["1.1 Vốn góp phát hành","412"," ",{"$f":"BCTinhHinhTaiChinh_06105!D75","v":74954746200},{"$f":"BCTinhHinhTaiChinh_06105!E75","v":74725242700}]
["1.2 Vốn góp mua lại","413"," ",{"$f":"BCTinhHinhTaiChinh_06105!D76","v":-43540590800},{"$f":"BCTinhHinhTaiChinh_06105!E76","v":-41790886900}]
["2. Thặng dư vốn góp của Nhà đầu tư","414"," ",{"$f":"BCTinhHinhTaiChinh_06105!D77","v":-1061757857},{"$f":"BCTinhHinhTaiChinh_06105!E77","v":-969616646}]
["3. Lợi nhuận chưa phân phối ","420"," ",{"$f":"BCTinhHinhTaiChinh_06105!D78","v":1396568422},{"$f":"BCTinhHinhTaiChinh_06105!E78","v":4188639983}]
["IV. GIÁ TRỊ TÀI SẢN RÒNG QUỸ MỞ TRÊN 1 ĐƠN VỊ CHỨNG CHỈ QUỸ (IV=(I-II)/III)","430"," ",{"$f":"BCTinhHinhTaiChinh_06105!D79","v":10106.57},{"$f":"BCTinhHinhTaiChinh_06105!E79","v":10977.4}]
["V. LỢI NHUẬN ĐÃ PHÂN PHỐI CHO NHÀ ĐẦU TƯ","440"," "]
["1. Lợi nhuận/Tài sản đã phân phối cho Nhà đầu tư trong năm","441"," ",{"$f":"BCTinhHinhTaiChinh_06105!D81","v":0},{"$f":"BCTinhHinhTaiChinh_06105!E81","v":0}]
["2. Lợi nhuận đã phân phối cho Nhà đầu tư lũy kế từ khi thành lập Quỹ mở đến kỳ lập báo cáo này","442"," ",{"$f":"BCTinhHinhTaiChinh_06105!D82","v":0},{"$f":"BCTinhHinhTaiChinh_06105!E82","v":0}]
["VI. CÁC CHỈ TIÊU NGOÀI BÁO CÁO TÌNH HÌNH TÀI CHÍNH","VI"," ",{"$f":"BCTinhHinhTaiChinh_06105!D83","v":0},{"$f":"BCTinhHinhTaiChinh_06105!E83","v":0}]
["1. Tài sản nhận thế chấp","001"," ",{"$f":"BCTinhHinhTaiChinh_06105!D84","v":0},{"$f":"BCTinhHinhTaiChinh_06105!E84","v":0}]
["2. Nợ khó đòi đã xử lý","002"," ",{"$f":"BCTinhHinhTaiChinh_06105!D85","v":0},{"$f":"BCTinhHinhTaiChinh_06105!E85","v":0}]
["3. Ngoại tệ các loại","003"," ",{"$f":"BCTinhHinhTaiChinh_06105!D86","v":0},{"$f":"BCTinhHinhTaiChinh_06105!E86","v":0}]
["4. Số lượng Chứng chỉ quỹ đang lưu hành","004",null,{"$f":"BCTinhHinhTaiChinh_06105!D87","v":3141415.54},{"$f":"BCTinhHinhTaiChinh_06105!E87","v":3293435.58}]

{"sheet":"LCTT","index":13,"n_rows":42,"n_cols":5,"rows_kept":42,"cut":false,"hidden":true,"merged":[]}
["Chỉ tiêu","Mã số","Thuyết minh","Năm N","Năm N-1"]
["I. Lưu chuyển tiền từ hoạt động đầu tư","I"," "," "," "]
["1. Lợi nhuận trước Thuế thu nhập doanh nghiệp","01"," ",{"$f":"BCLCGT_06262!D18","v":-2792071561},{"$f":"BCLCGT_06262!E18","v":5651876776}]
["2. Điều chỉnh cho các khoản tăng giá trị tài sản ròng từ các hoạt động đầu tư","02"," ",{"$f":"BCLCGT_06262!D19","v":1543008834},{"$f":"BCLCGT_06262!E19","v":-4929511450}]
["(- lãi) hoặc (+ lỗ) chênh lệch tỷ giá hối đoái chưa thực hiện","03"," ",{"$f":"BCLCGT_06262!D20","v":1543008834},{"$f":"BCLCGT_06262!E20","v":-4929511450}]
["(+) chi phí trích trước","04"," ",{"$f":"BCLCGT_06262!D21","v":0},{"$f":"BCLCGT_06262!E21","v":0}]
["3. Lợi nhuận từ hoạt động đầu tư trước thay đổi vốn lưu động","05"," ",{"$f":"BCLCGT_06262!D22","v":-1249062727},{"$f":"BCLCGT_06262!E22","v":722365326}]
["(-) Tăng, (+) giảm các khoản đầu tư","20"," ",{"$f":"BCLCGT_06262!D23","v":253500066},{"$f":"BCLCGT_06262!E23","v":1247325201}]
["(-) Tăng, (+) giảm phải thu bán chứng khoán đầu tư","06"," ",{"$f":"BCLCGT_06262!D24","v":-304234973},{"$f":"BCLCGT_06262!E24","v":-1036692625}]
["(-) Tăng, (+) giảm dự thu phải thu tiền lãi các khoản đầu tư","07"," ",{"$f":"BCLCGT_06262!D25","v":-77100000},{"$f":"BCLCGT_06262!E25","v":205871774}]
["(-) Tăng, (+) giảm các khoản phải thu khác","08"," ",{"$f":"BCLCGT_06262!D26","v":0},{"$f":"BCLCGT_06262!E26","v":0}]
["(+) Tăng, (-) giảm vay ngắn hạn","09"," ",{"$f":"BCLCGT_06262!D27","v":0},{"$f":"BCLCGT_06262!E27","v":0}]
["(+) Tăng, (-) giảm phải trả cho người bán","10"," ",{"$f":"BCLCGT_06262!D28","v":2691951880},{"$f":"BCLCGT_06262!E28","v":-721525667}]
["(+) Tăng, (-) giảm phải trả các Đại lý phân phối Chứng chỉ quỹ","11"," ",{"$f":"BCLCGT_06262!D29","v":2896626},{"$f":"BCLCGT_06262!E29","v":397107}]
["(+) Tăng, (-) giảm phải trả thu nhập cho Nhà đầu tư","12"," ",{"$f":"BCLCGT_06262!D30","v":0},{"$f":"BCLCGT_06262!E30","v":0}]
["(+) Tăng, (-) giảm Thuế và các khoản phải nộp Nhà nước","13"," ",{"$f":"BCLCGT_06262!D31","v":616548},{"$f":"BCLCGT_06262!E31","v":-30575}]
["(+) Tăng, (-) giảm phải trả cho Nhà đầu tư về mua Chứng chỉ quỹ","14"," ",{"$f":"BCLCGT_06262!D32","v":-11700000},{"$f":"BCLCGT_06262!E32","v":1000000}]
["(+) Tăng, (-) giảm phải trả cho Nhà đầu tư về mua lại Chứng chỉ quỹ","15"," ",{"$f":"BCLCGT_06262!D33","v":9820815},{"$f":"BCLCGT_06262!E33","v":-4010321}]
["(+) Tăng, (-) giảm phải trả, phải nộp khác","16"," ",{"$f":"BCLCGT_06262!D34","v":-25383558},{"$f":"BCLCGT_06262!E34","v":-51328764}]
["(+) Tăng, (-) giảm Phải trả dịch vụ quản lý Quỹ mở","17"," ",{"$f":"BCLCGT_06262!D35","v":-4108726},{"$f":"BCLCGT_06262!E35","v":1935287}]
["(+) Tăng, (-) giảm Thuế Thu nhập doanh nghiệp đã nộp","18"," ",{"$f":"BCLCGT_06262!D36","v":0},{"$f":"BCLCGT_06262!E36","v":0}]
["Lưu chuyển tiền thuần từ hoạt động đầu tư (1 + 2 + 3)","19"," ",{"$f":"BCLCGT_06262!D37","v":1287195951},{"$f":"BCLCGT_06262!E37","v":365306743}]
["II. Lưu chuyển tiền từ hoạt động tài chính","II"," "]
["1. Tiền thu từ phát hành Chứng chỉ quỹ  mở","31"," ",{"$f":"BCLCGT_06262!D39","v":237517420},{"$f":"BCLCGT_06262!E39","v":414006806}]
["2. Tiền chi mua lại Chứng chỉ quỹ  mở","32"," ",{"$f":"BCLCGT_06262!D40","v":-1849859031},{"$f":"BCLCGT_06262!E40","v":-571734156}]
["3. Tiền vay gốc","33"," ",{"$f":"BCLCGT_06262!D41","v":0},{"$f":"BCLCGT_06262!E41","v":0}]
["4. Tiền chi trả nợ gốc vay","34"," ",{"$f":"BCLCGT_06262!D42","v":0},{"$f":"BCLCGT_06262!E42","v":0}]
["5. Tiền chi trả cổ tức, tiền lãi cho nhà đầu tư","35"," ",{"$f":"BCLCGT_06262!D43","v":0},{"$f":"BCLCGT_06262!E43","v":0}]
["Lưu chuyển tiền thuần từ hoạt động tài chính (1-2+3-4-5)","30"," ",{"$f":"BCLCGT_06262!D44","v":-1612341611},{"$f":"BCLCGT_06262!E44","v":-157727350}]
["III. Tăng/giảm tiền thuần trong kỳ","40"," ",{"$f":"BCLCGT_06262!D45","v":-325145660},{"$f":"BCLCGT_06262!E45","v":207579393}]
["IV. Tiền và các khoản tương đương tiền đầu kỳ","50"," ",{"$f":"BCLCGT_06262!D46","v":3405114637},{"$f":"BCLCGT_06262!E46","v":3197535244}]
["Tiền gửi ngân hàng đầu kỳ:","51"," ",{"$f":"BCLCGT_06262!D47","v":3405114637},{"$f":"BCLCGT_06262!E47","v":3197535244}]
["- Tiền gửi ngân hàng cho hoạt động Quỹ mở","52"," ",{"$f":"BCLCGT_06262!D48","v":3396447971},{"$f":"BCLCGT_06262!E48","v":3193535244}]
["- Tiền gửi của Nhà đầu tư về mua Chứng chỉ quỹ ","53"," ",{"$f":"BCLCGT_06262!D49","v":8666666},{"$f":"BCLCGT_06262!E49","v":4000000}]
["- Tiền gửi phong tỏa","54"," ",{"$f":"BCLCGT_06262!D50","v":0},{"$f":"BCLCGT_06262!E50","v":0}]
["V. Tiền và các khoản tương đương tiền cuối kỳ","55"," ",{"$f":"BCLCGT_06262!D51","v":4149857609},{"$f":"BCLCGT_06262!E51","v":3405114637}]
["Tiền gửi ngân hàng cuối kỳ:","56"," ",{"$f":"BCLCGT_06262!D52","v":4149857609},{"$f":"BCLCGT_06262!E52","v":3405114637}]
["- Tiền gửi ngân hàng cho hoạt động Quỹ mở","57"," ",{"$f":"BCLCGT_06262!D53","v":4136057609},{"$f":"BCLCGT_06262!E53","v":3396447971}]
["- Tiền gửi của Nhà đầu tư về mua Chứng chỉ quỹ","58"," ",{"$f":"BCLCGT_06262!D54","v":13800000},{"$f":"BCLCGT_06262!E54","v":8666666}]
["- Tiền gửi phong tỏa","59"," ",{"$f":"BCLCGT_06262!D55","v":0},{"$f":"BCLCGT_06262!E55","v":0}]
["VI. Chênh lệch tiền và các khoản tương đương tiền trong kỳ","60"," ",{"$f":"BCLCGT_06262!D56","v":744742972},{"$f":"BCLCGT_06262!E56","v":207579393}]
["Khác","80"," "," "," "]

{"sheet":"TAI SAN","index":14,"n_rows":44,"n_cols":6,"rows_kept":44,"cut":false,"hidden":true,"merged":[]}
["STT","Nội dung","Mã chỉ tiêu"," Kỳ báo cáo "," Kỳ trước ","%/cùng kỳ năm trước"]
["I","Tài sản","2200"," "," "," "]
["I.1","Tiền và các khoản tương đương tiền","2201",{"$f":"BCTaiSan_06027!D19","v":4149857609},{"$f":"BCTaiSan_06027!E19","v":4475003269},{"$f":"BCTaiSan_06027!F19","v":0.23853731558171173}]
[" ","Tiền ","2202"," "," "," "]
["...","...","...","...","...","..."]
[" ","Tiền gửi ngân hàng","2203",{"$f":"BCTaiSan_06027!D21","v":4149857609},{"$f":"BCTaiSan_06027!E21","v":4475003269},{"$f":"BCTaiSan_06027!F21","v":0.23853731558171173}]
["...","Các khoản tương đương tiền",2204,{"$f":"BCTaiSan_06027!D25","v":0},{"$f":"BCTaiSan_06027!E25","v":0},{"$f":"BCTaiSan_06027!F25/100","v":0}]
["I.2","Các khoản đầu tư (kê chi tiết)","2205",{"$f":"BCTaiSan_06027!D26","v":30123605000},{"$f":"BCTaiSan_06027!E26","v":31920113900},{"$f":"BCTaiSan_06027!F26","v":1.2916787882899226}]
["...","...","...","...","...","..."]
[null,null,null," "," "," "]
["I.3","Thu từ cho thuê bất động sản đầu tư (áp dụng đối với các quỹ được phép đầu tư bất động sản)","2220"]
["...","...","...","...","...","..."]
["I.4","Cổ tức, trái tức được nhận","2206",{"$f":"BCTaiSan_06027!D33","v":77100000},{"$f":"BCTaiSan_06027!E33","v":0},{"$f":"BCTaiSan_06027!F33","v":0}]
["...","...","...","...","...","..."]
[]
["I.5","Lãi được nhận","2207",{"$f":"BCTaiSan_06027!D36","v":0},{"$f":"BCTaiSan_06027!E36","v":0},{"$f":"BCTaiSan_06027!F36/100","v":0}]
["...","...","...","...","...","..."]
[]
["I.6","Tiền bán bất động sản chờ thu (kê chi tiết - áp dụng đối với các quỹ được phép đầu tư bất động sản)","2221"]
["...","...","...","...","...","..."]
["I.7","Tiền bán chứng khoán chờ thu (kê chi tiết)","2208",{"$f":"BCTaiSan_06027!D39","v":304234973},{"$f":"BCTaiSan_06027!E39","v":0},{"$f":"BCTaiSan_06027!F39","v":1.71357028960443E-2}]
["...","...","...","...","...","..."]
[null,null,null," "," "," "]
["I.8","Các khoản phải thu khác","2210",{"$f":"BCTaiSan_06027!D40","v":0},{"$f":"BCTaiSan_06027!E40","v":0},{"$f":"BCTaiSan_06027!F40/100","v":0}]
["...","...","...","...","...","..."]
[]
["I.9","Các tài sản khác","2211",{"$f":"BCTaiSan_06027!D41","v":0},{"$f":"BCTaiSan_06027!E41","v":0},{"$f":"BCTaiSan_06027!F41/100","v":0}]
["...","...","...","...","...","..."]
[]
["I.10","Tổng tài sản","2212",{"$f":"BCTaiSan_06027!D42","v":34654797582},{"$f":"BCTaiSan_06027!E42","v":36395117169},{"$f":"BCTaiSan_06027!F42","v":0.59266494516735768}]
["II","Nợ","2213"," "," "," "]
["II.1","Tiền phải thanh toán mua bất động sản (kê chi tiết)","2222"]
["...","...","...","...","...","..."]
["II.2","Tiền phải thanh toán mua chứng khoán (kê chi tiết)","2214",{"$f":"BCTaiSan_06027!D44","v":2691951880},{"$f":"BCTaiSan_06027!E44","v":0},{"$f":"BCTaiSan_06027!F44","v":0.98512735935495699}]
["...","...","...","...","...","..."]
[null,null,null," "," "," "]
["II.3","Các khoản phải trả khác","2215",{"$f":"BCTaiSan_06027!D45","v":213879737},{"$f":"BCTaiSan_06027!E45","v":241738032},{"$f":"BCTaiSan_06027!F45","v":0.7513452822556137}]
["...","...","...","...","...","..."]
[]
["II.4","Tổng nợ","2216",{"$f":"BCTaiSan_06027!D66","v":2905831617},{"$f":"BCTaiSan_06027!E66","v":241738032},{"$f":"BCTaiSan_06027!F66","v":0.96307123224177882}]
[" ","Tài sản ròng của Quỹ/Công ty đầu tư (I.10-II.4)","2217",{"$f":"BCTaiSan_06027!D67","v":31748965965},{"$f":"BCTaiSan_06027!E67","v":36153379137},{"$f":"BCTaiSan_06027!F67","v":0.57251169206354591}]
[" ","Tổng số chứng chỉ quỹ đang lưu hành","2218",{"$f":"BCTaiSan_06027!D68","v":3141415.54},{"$f":"BCTaiSan_06027!E68","v":3293435.58},{"$f":"BCTaiSan_06027!F68","v":0.62881259713216475}]
[" ","Giá trị tài sản ròng trên một chứng chỉ quỹ/cổ phiếu","2219",{"$f":"BCTaiSan_06027!D69","v":10106.57},{"$f":"BCTaiSan_06027!E69","v":10977.4},{"$f":"BCTaiSan_06027!F69","v":0.91046407085832481}]
[" "," "," "," "," "," "]

{"sheet":"HOAT DONG","index":15,"n_rows":51,"n_cols":6,"rows_kept":51,"cut":false,"hidden":true,"merged":[]}
["STT","Chỉ tiêu","Mã chỉ tiêu"," Kỳ báo cáo "," Kỳ trước "," Lũy kế từ đầu năm "]
["I","Thu nhập từ hoạt động đầu tư","2220",{"$f":"BCKetQuaHoatDong_06028!D18","v":148488206},{"$f":"BCKetQuaHoatDong_06028!E18","v":1218588},{"$f":"BCKetQuaHoatDong_06028!F18","v":542255432}]
["1","Thu từ bất động sản cho thuê (áp dụng đối với các quỹ được phép đầu tư bất động sản)","2223"]
["...","...","...","...","...","..."]
["2","Cổ tức, trái tức được nhận","2221",{"$f":"BCKetQuaHoatDong_06028!D19","v":147900000},{"$f":"BCKetQuaHoatDong_06028!E19","v":0},{"$f":"BCKetQuaHoatDong_06028!F19","v":533650000}]
["...","...","...","...","...","..."]
["3"," Lãi được nhận","2222",{"$f":"BCKetQuaHoatDong_06028!D22","v":588206},{"$f":"BCKetQuaHoatDong_06028!E22","v":1218588},{"$f":"BCKetQuaHoatDong_06028!F22","v":8605432}]
["...","...","...","...","...","..."]
["4","Các khoản thu nhập khác","2223",{"$f":"BCKetQuaHoatDong_06028!D23","v":0},{"$f":"BCKetQuaHoatDong_06028!E23","v":0},{"$f":"BCKetQuaHoatDong_06028!F23","v":0}]
["...","...","...","...","...","..."]
["II","Chi phí","2224",{"$f":"BCKetQuaHoatDong_06028!D24","v":156966467},{"$f":"BCKetQuaHoatDong_06028!E24","v":144262628},{"$f":"BCKetQuaHoatDong_06028!F24","v":1382801601}]
["1","Chi phí quản lý trả cho công ty quản lý quỹ","2225",{"$f":"BCKetQuaHoatDong_06028!D25","v":42966738},{"$f":"BCKetQuaHoatDong_06028!E25","v":47973211},{"$f":"BCKetQuaHoatDong_06028!F25","v":410267243}]
["...","...","...","...","...","..."]
["2","Chi phí lưu ký, giám sát trả cho ngân hàng giám sát","2226",{"$f":"BCKetQuaHoatDong_06028!D26","v":26419912},{"$f":"BCKetQuaHoatDong_06028!E26","v":23772445},{"$f":"BCKetQuaHoatDong_06028!F26","v":220413193}]
["...","...","...","...","...","..."]
[]
["3","Chi phí quản trị quỹ và các chi phí khác mà công ty quản lý quỹ trả cho tổ chức cung cấp dịch vụ có liên quan (nếu có)","2227",{"$f":"BCKetQuaHoatDong_06028!D31","v":29700000},{"$f":"BCKetQuaHoatDong_06028!E31","v":29700000},{"$f":"BCKetQuaHoatDong_06028!F31","v":207900000}]
["...","...","...","...","...","..."]
[]
["4","Chi phí dịch vụ quản lý bất động sản (áp dụng đối với các quỹ được phép đầu tư bất động sản)","2231"]
["...","...","...","...","...","..."]
["5","Chi phí dịch vụ định giá bất động sản (áp dụng đối với các quỹ được phép đầu tư bất động sản)","2232"]
["...","...","...","...","...","..."]
["6","Chi phí kiểm toán trả cho tổ chức kiểm toán;","2228",{"$f":"BCKetQuaHoatDong_06028!D34","v":10191777},{"$f":"BCKetQuaHoatDong_06028!E34","v":9863010},{"$f":"BCKetQuaHoatDong_06028!F34","v":69698605}]
["...","...","...","...","...","..."]
["7","Chi phí dịch vụ tư vấn pháp lý, dịch vụ báo giá và các dịch vụ hợp lý khác, thù lao trả cho Ban đại diện quỹ/Hội đồng quản trị","2229",{"$f":"BCKetQuaHoatDong_06028!D35","v":20000000},{"$f":"BCKetQuaHoatDong_06028!E35","v":20000000},{"$f":"BCKetQuaHoatDong_06028!F35","v":140000000}]
["...","...","...","...","...","..."]
[]
["8","Chi phí dự thảo, in ấn, gửi Bản cáo bạch, Bản cáo bạch tóm tắt, báo cáo tài chính, xác nhận giao dịch, sao kê tài khoản và các tài liệu khác cho nhà đầu tư; chi phí công bố thông tin của quỹ; chi phí tổ chức họp Đại hội nhà đầu tư/Đại hội đồng cổ đông, Ban đại diện quỹ/Hội đồng quản trị","2230",{"$f":"BCKetQuaHoatDong_06028!D38","v":0},{"$f":"BCKetQuaHoatDong_06028!E38","v":0},{"$f":"BCKetQuaHoatDong_06028!F38","v":0}]
["...","...","...","...","...","..."]
[]
["9","Chi phí liên quan đến thực hiện các giao dịch tài sản của quỹ/công ty","2231",{"$f":"BCKetQuaHoatDong_06028!D43","v":27169875},{"$f":"BCKetQuaHoatDong_06028!E43","v":12097496},{"$f":"BCKetQuaHoatDong_06028!F43","v":328565905}]
["...","...","...","...","...","..."]
[]
["10","Các loại chi phí khác (nêu chi tiết)","2232",{"$f":"BCKetQuaHoatDong_06028!D46","v":518165},{"$f":"BCKetQuaHoatDong_06028!E46","v":856466},{"$f":"BCKetQuaHoatDong_06028!F46","v":5956655}]
["...","...","...","...","...","..."]
[]
["III","Thu nhập ròng từ hoạt động đầu tư (I-II)","2233",{"$f":"BCKetQuaHoatDong_06028!D53","v":-8478261},{"$f":"BCKetQuaHoatDong_06028!E53","v":-143044040},{"$f":"BCKetQuaHoatDong_06028!F53","v":-840546169}]
["IV","Lãi (lỗ) từ hoạt động đầu tư","2234",{"$f":"BCKetQuaHoatDong_06028!D54","v":-2783593300},{"$f":"BCKetQuaHoatDong_06028!E54","v":393698100},{"$f":"BCKetQuaHoatDong_06028!F54","v":-2475945400}]
["1","Lãi (lỗ) thực tế phát sinh từ hoạt động đầu tư hoặc chuyển nhượng bất động sản","2235",{"$f":"BCKetQuaHoatDong_06028!D55","v":-1240584466},{"$f":"BCKetQuaHoatDong_06028!E55","v":-545742851},{"$f":"BCKetQuaHoatDong_06028!F55","v":-2479853548}]
["2","Thay đổi về giá trị của các khoản đầu tư trong kỳ","2236",{"$f":"BCKetQuaHoatDong_06028!D56","v":-1543008834},{"$f":"BCKetQuaHoatDong_06028!E56","v":939440951},{"$f":"BCKetQuaHoatDong_06028!F56","v":3908148}]
["V","Thay đổi của giá trị tài sản ròng do các hoạt động đầu tư trong kỳ (III + IV)","2237",{"$f":"BCKetQuaHoatDong_06028!D57","v":-2792071561},{"$f":"BCKetQuaHoatDong_06028!E57","v":250654060},{"$f":"BCKetQuaHoatDong_06028!F57","v":-3316491569}]
["VI","Giá trị tài sản ròng đầu kỳ","2238",{"$f":"BCKetQuaHoatDong_06028!D58","v":36153379137},{"$f":"BCKetQuaHoatDong_06028!E58","v":46790274424},{"$f":"BCKetQuaHoatDong_06028!F58","v":50378399000}]
["VII","Thay đổi giá trị tài sản ròng của Quỹ/Công ty trong kỳ, trong đó:","2239",{"$f":"BCKetQuaHoatDong_06028!D59","v":-4404413172},{"$f":"BCKetQuaHoatDong_06028!E59","v":-10636895287},{"$f":"BCKetQuaHoatDong_06028!F59","v":-18629433035}]
["1","Thay đổi giá trị tài sản ròng của Quỹ/Công ty đầu tư chứng khoán do các hoạt động đầu tư trong kỳ","2239.1",{"$f":"BCKetQuaHoatDong_06028!D61","v":-2792071561},{"$f":"BCKetQuaHoatDong_06028!E61","v":250654060},{"$f":"BCKetQuaHoatDong_06028!F61","v":-3316491569}]
["2","Thay đổi giá trị tài sản ròng do việc chi trả lợi tức/cổ tức cho các nhà đầu tư/cổ đông trong kỳ","2239.2",{"$f":"BCKetQuaHoatDong_06028!D62","v":0},{"$f":"BCKetQuaHoatDong_06028!E62","v":0},{"$f":"BCKetQuaHoatDong_06028!F62","v":0}]
["3","Thay đổi giá trị tài sản ròng do phát hành thêm/mua lại chứng chỉ quỹ","2239.3",{"$f":"BCKetQuaHoatDong_06028!D63","v":-1612341611},{"$f":"BCKetQuaHoatDong_06028!E63","v":-10887549347},{"$f":"BCKetQuaHoatDong_06028!F63","v":-15312941466}]
["VIII","Giá trị tài sản ròng cuối kỳ","2243",{"$f":"BCKetQuaHoatDong_06028!D66","v":31748965965},{"$f":"BCKetQuaHoatDong_06028!E66","v":36153379137},{"$f":"BCKetQuaHoatDong_06028!F66","v":31748965965}]
["IX","Lợi nhuận bình quân năm (chỉ áp dụng đối với báo cáo năm)","2244"," "," "," "]
[" ","Tỷ suất lợi nhuận bình quân năm (chỉ áp dụng đối với báo cáo năm)","2245"," "," "," "]
[" "," "," "," "," "," "]

{"sheet":"TB 30092015","index":16,"n_rows":71,"n_cols":8,"rows_kept":71,"cut":false,"hidden":true,"merged":[]}
[]
[{"$nulls":4},"GENERAL LEDGER TRIAL BALANCE"]
[{"$nulls":4},"Fund","VCAMBF","VIET CAPITAL BALANCED FU Page :","1/2"]
["General Ledger Trail Balance To",null,null,null,"31/10/2015 00:00 Currency VND",null,"DONG Report",": SHJNA102"]
[{"$nulls":6},"03/11/2015 10:57"]
[{"$nulls":4},"Nav Type    Official",null,"Historical"]
["Account","IFRS Suff Acc",null,"Maturity","Description",null,"- - - - - - - - - - - - -  Balance  -  -  -","- - - - - - - - - -"]
[null,"Class","Ccy","Date",null,null,"Account Ccy","Fund CcyVND"]
[101100,null,"VND",null,"Investment - Equities","VND",27189959504,27189959504]
[110100,null,"VND","09/11/2015","Bank Deposits","VND",5000000000,5000000000]
[110100,null,"VND","12/11/2015","Bank Deposits","VND",7000000000,7000000000]
[110100,null,"VND","16/11/2015","Bank Deposits","VND",4000000000,4000000000]
[110100,null,"VND","30/12/2015","Bank Deposits","VND",13000000000,13000000000]
[132100,7,"VND",null,"Dividend Receivable","VND",112800000,112800000]
[132150,7,"VND",null,"Due From Broker - Equities","VND",3088160800,3088160800]
[140130,7,"VND",null,"Cash in Bank STANDARD","VND",6452337403,6452337403]
[{"$nulls":4},"CHARTERED BANK VIETNAM"]
[152190,"-","VND",null,"Int Accrual - Deposit","VND",103038889,103038889]
[161100,"-","VND",null,"Prov Unr P/L - Equities","VND",-1452309804,-1452309804]
[161120,"-","VND",null,"Prov Unr P/L - Rights","VND",349680000,349680000]
[212150,7,"VND",null,"Due to Broker - Equity","VND",-1492792250,-1492792250]
[212222,"-","VND",null,"Payable WHT Tax","VND",-6000000,-6000000]
[213103,"-","VND",null,"Exp Accrual - Admin Fee","VND",-11180000,-11180000]
[213105,"-","VND",null,"Exp Accrual - Audit Fee","VND",-91616438,-91616438]
[213107,"-","VND",null,"Exp Accrual - Custody Fee","VND",-10750000,-10750000]
[213108,"-","VND",null,"Exp Accrual - Directors Fee","VND",-5400000,-5400000]
[213110,"-","VND",null,"Exp Accrual - Fund Svces Fee","VND",-19565000,-19565000]
[213128,"-","VND",null,"Exp Accrual - Transaction Fee","VND",-9600000,-9600000]
[213129,"-","VND",null,"Exp Accrual - Transfer Agt Fee","VND",-11000000,-11000000]
[213154,"-","VND",null,"Exp Accrual - Other Expense","VND",-8328773,-8328773]
[213500,"-","VND",null,"Exp Accrual - Management","VND",-47698050,-47698050]
[{"$nulls":4},"Fee"]
[301000,"-","VND",null,"Capital - Subscription","VND",-60597958652,-60597958652]
[302000,"-","VND",null,"Capital - Redemption","VND",1056863400,1056863400]
[303102,"-","VND",null,"Unit Premium Reserve","VND",-191086976,-191086976]
[390000,"-","VND",null,"RETAIN EARNINGS","VND",567698805,567698805]
[411100,"-","VND",null,"R/L G/P - Equities","VND",-7655111543,-7655111543]
[431100,"-","VND",null,"UR/L G/P - Equities","VND",-1976378356.8599999,-1976378356.8599999]
[431120,"-","VND",null,"UR/L G/P - Rights","VND",-349680000,-349680000]
[441100,"-","VND",null,"UR/L G/FX - Equities","VND",-0.14000000000000001,-0.14000000000000001]
[451100,"-","VND",null,"Dividend Income - Equities","VND",-1971571000,-1971571000]
[452190,"-","VND",null,"Int Income - Deposit","VND",-839661113,-839661113]
[511100,"-","VND",null,"R/L L/P - Equities","VND",7377336200,7377336200]
[553002,"-","VND",null,"Other Expenses","VND",832700,832700]
[553103,"-","VND",null,"Admin Fee","VND",111800000,111800000]
[553105,"-","VND",null,"Audit Fee","VND",91616438,91616438]
[553107,"-","VND",null,"Custody Fee","VND",107500000,107500000]
[553108,"-","VND",null,"Directors Fee","VND",60000000,60000000]
[553110,"-","VND",null,"Fund Services Fee","VND",195650000,195650000]
[553122,"-","VND",null,"Safekeeping Fee","VND",4079471,4079471]
[553128,"-","VND",null,"Transaction Fee","VND",40050000,40050000]
[553129,"-","VND",null,"Transfer Agent Fee","VND",110000000,110000000]
[553130,"-","VND",null,"Brokerage Fee","VND",252289415,252289415]
[553141,"-","VND",null,"Bank Charges","VND",11797309,11797309]
[553381,"-","VND",null,"Depository Transfer Fee","VND",1519920,1519920]
[555100,"-","VND",null,"Management Fee","VND",444348929,444348929]
[555167,"-","VND",null,"Annual Fee Expense","VND",18328773,18328773]
[]
[{"$nulls":4},"GENERAL LEDGER TRIAL BALANCE"]
[{"$nulls":4},"Fund","VCAMBF   VIET CAPITAL BALANCED FU","Page :","2/2"]
["General Ledger Trail Balance To",null,null,null,"31/10/2015 00:00 Currency VND",null,"DONG Report",": SHJNA102"]
[{"$nulls":6},"03/11/2015 10:57"]
[{"$nulls":4},"Nav Type    Official",null,"Historical"]
["Account","IFRS Suff Acc",null,"Maturity","Description",null,"- - - - - - - - - - - - -  Balance  -  -  -","- - - - - - - - - -"]
[null,"Class","Ccy","Date",null,null,"Account Ccy","Fund CcyVND"]
[{"$nulls":6},"Closing Balance",0]
[{"$nulls":6},"Total Debits",76747687956]
[{"$nulls":6},"Total Credits",76747687956]
[{"$nulls":6},"Total Asset and Liabilities",63129736281]
[{"$nulls":6},"Total Capital and PL",-63129736281]
[{"$nulls":6},"Total Off Balance",0]

{"sheet":"KHAC","index":17,"n_rows":31,"n_cols":5,"rows_kept":31,"cut":false,"hidden":true,"merged":[]}
["STT","Chỉ tiêu","Mã chỉ tiêu","Kỳ báo cáo","Kỳ trước"]
["I","Các chỉ tiêu về hiệu quả hoạt động","2264"," "," "]
["1","Tỷ lệ giá dịch vụ quản lý trả cho công ty quản lý quỹ/Giá trị tài sản ròng trung bình trong kỳ (%)","2265",{"$f":"Khac_06030!D19","v":1.5356291165845203E-2},{"$f":"Khac_06030!E19","v":1.4766881179814931E-2}]
["2","Tỷ lệ giá dịch vụ lưu ký, giám sát trả cho ngân hàng giám sát/Giá trị tài sản ròng trung bình trong kỳ (%)","2266",{"$f":"Khac_06030!D20","v":9.4424636389201268E-3},{"$f":"Khac_06030!E20","v":7.3175187432979122E-3}]
["3","Tỷ tệ chi phí dịch vụ quản trị quỹ và các chi phí khác mà công ty quản lý quỹ trả cho tổ chức cung cấp dịch vụ có liên quan/Giá trị tài sản ròng trung bình trong kỳ (%) (nếu có)","22661",{"$f":"Khac_06030!D21","v":1.0614765487331212E-2},{"$f":"Khac_06030!E21","v":9.1421099796822752E-3}]
["4","Chi phí kiểm toán trả cho tổ chức kiểm toán (nếu phát sinh)/Giá trị tài sản ròng trung bình trong kỳ  (%)","2267",{"$f":"Khac_06030!D22","v":3.6425361196692268E-3},{"$f":"Khac_06030!E22","v":3.0359839107981842E-3}]
["5","Chi phí trả cho tổ chức quản lý bất động sản/ Giá trị tài sản ròng trung bình trong kỳ (%)","2286"]
["6","Chi phí trả cho doanh nghiệp thẩm định giá bất động sản/Giá trị tài sản ròng trung bình trong kỳ (%)","2287"]
["7","Chi phí dịch tư vấn pháp lý, dịch vụ báo giá và các dịch vụ hợp lý khác, thù lao trả cho Ban đại diện quỹ (Hội đồng quản trị)/Giá trị tài sản ròng trung bình trong kỳ (%)","2268",{"$f":"Khac_06030!D23","v":7.1479902271590658E-3},{"$f":"Khac_06030!E23","v":6.1563030166210606E-3}]
["8","Tỷ lệ chi phí/Giá trị tài sản ròng trung bình trong kỳ (%)","2269",{"$f":"Khac_06030!D24","v":5.6099738605384294E-2},{"$f":"Khac_06030!E24","v":4.4406222597104091E-2}]
["9","Tốc độ vòng quay danh mục trong kỳ (%)","2270",{"$f":"Khac_06030!D25","v":3.3239040192278799},{"$f":"Khac_06030!E25","v":1.4180559189924054}]
["10","Tỷ lệ thu nhập (tính cả thu nhập từ lãi, cổ tức, trái tức, chênh lệch giá)/Giá trị tài sản ròng (áp dụng đối với quỹ thành viên, quỹ đóng, công ty đầu tư chứng khoán)","2287"]
["II","Các chỉ tiêu khác ","2272"," "," "]
["1","Quy mô quỹ/công ty đầu kỳ","2273",{"$f":"Khac_06030!D27","v":32934355799.999989},{"$f":"Khac_06030!E27","v":43115209699.999985}]
[null,"Tổng giá trị chứng chỉ quỹ/cổ phiếu đang lưu hành đầu kỳ","2274",{"$f":"Khac_06030!D28","v":32934355799.999989},{"$f":"Khac_06030!E28","v":43115209699.999985}]
[null,"Tổng số lượng chứng chỉ quỹ/cổ phiếu đang lưu hành đầu kỳ","2275",{"$f":"Khac_06030!D29","v":3293435.5799999987},{"$f":"Khac_06030!E29","v":4311520.9699999988}]
["2","Thay đổi quy mô trong kỳ","2276",{"$f":"Khac_06030!D30","v":-1520200400},{"$f":"Khac_06030!E30","v":-10180853900}]
[null,"Số lượng chứng chỉ quỹ/ cổ phiếu phát hành thêm trong kỳ","2277",{"$f":"Khac_06030!D33","v":22950.35},{"$f":"Khac_06030!E33","v":25204.639999999999}]
[null,"Giá trị vốn thực huy động thêm trong kỳ","2278",{"$f":"Khac_06030!D34","v":229503500},{"$f":"Khac_06030!E34","v":252046400}]
[null,"Số lượng chứng chỉ quỹ mua lại trong kỳ","22781",{"$f":"Khac_06030!D35","v":-174970.39},{"$f":"Khac_06030!E35","v":-1043290.03}]
[null,"Giá trị vốn thực thanh toán trong kỳ","22782",{"$f":"Khac_06030!D36","v":-1749703900.0000002},{"$f":"Khac_06030!E36","v":-10432900300}]
["3","Quy mô quỹ/công ty cuối kỳ","2279",{"$f":"Khac_06030!D37","v":31414155399.999985},{"$f":"Khac_06030!E37","v":32934355799.999989}]
[null,"Tổng giá trị thị trường của quỹ/công ty đang lưu hành cuối kỳ","2280",{"$f":"Khac_06030!D38","v":31414155399.999985},{"$f":"Khac_06030!E38","v":32934355799.999989}]
[null,"Tổng số lượng chứng chỉ quỹ/cổ phiếu đang lưu hành cuối kỳ","2281",{"$f":"Khac_06030!D39","v":3141415.5399999986},{"$f":"Khac_06030!E39","v":3293435.5799999987}]
["4","Tỷ lệ nắm giữ chứng chỉ quỹ/cổ phiếu của công ty quản lý quỹ và người có liên quan cuối kỳ","2282",{"$f":"Khac_06030!D40","v":0.27489999999999998},{"$f":"Khac_06030!E40","v":0.26150000000000001}]
["5","Tỷ lệ nắm giữ chứng chỉ quỹ/cổ phiếu của 10 nhà đầu tư/cổ đông lớn nhất cuối kỳ","2283",{"$f":"Khac_06030!D41","v":0.71619999999999995},{"$f":"Khac_06030!E41","v":0.70069999999999999}]
["6","Tỷ lệ nắm giữ chứng chỉ quỹ/cổ phiếu của nhà đầu tư/cổ đông nước ngoài cuối kỳ","2284",{"$f":"Khac_06030!D42","v":2.18E-2},{"$f":"Khac_06030!E42","v":2.07E-2}]
["7","Số nhà đầu tư tham gia vào quỹ, kể cả giao dịch ký danh (áp dụng đối với quỹ mở)","22841",{"$f":"Khac_06030!D44","v":476},{"$f":"Khac_06030!E44","v":469}]
["8","Giá trị tài sản ròng trên một chứng chỉ quỹ/cổ phiếu cuối kỳ","2285",{"$f":"Khac_06030!D43","v":10106.57},{"$f":"Khac_06030!E43","v":10977.4}]
["9","Giá trị thị trường trên một chứng chỉ quỹ/cổ phiếu cuối kỳ (áp dụng đối với quỹ niêm yết)","2288"]
["","","","",""]