Workbook
Name DKCO: #REF!
Name DKNO: #REF!
Name Donvi: #REF!
Name LM: #REF!
Name LN: #REF!
Name Taikhoan: #REF!
Name Taikhoan: #REF!
Name TaxTV: 10%
Name TaxXL: 5%
Name TK_BS: #REF!
Name TK_PL: #REF!
Name TK_TB: #REF!
Name TKBS: #REF!
Name Ý_kiến: #REF!
Name YKien: #REF!
Name ZYX: #REF!
Name ZZZ: #REF!

Sheet Tong quat
A1: Kỳ báo cáo: | C1: Tại ngày 30 tháng 09 năm 2026/As at 30 September 2026
C2: Từ ngày 01 tháng 07 năm 2026 tới ngày 30 tháng 09 năm 2026 / From 01 July 2026 to 30 September 2026
A4: Thông tin chung:
C5: Tên Quỹ: | D5: Quỹ Đầu tư cân bằng Bản Việt
C6: Fund name: | D6: Viet Capital Balanced Fund (VCAMBF)
C7: Tên Công ty quản lý quỹ: | D7: Công ty Cổ phần Quản lý Quỹ Đầu tư chứng khoán Bản Việt
C8: Fund Management Company: | D8: Viet Capital Asset Management Joint Stock Company
C9: Tên ngân hàng giám sát: | D9: Ngân hàng TMCP Đầu tư và Phát triển Việt Nam CN Nam Kỳ Khởi Nghĩa
C10: Supervising bank: | D10: Bank for Investment and Development of VietNam JSC - Nam Ky Khoi Nghia Branch
C11: Ngày lập báo cáo: | D11: Ngày 12 tháng 10 năm 2026
C12: Reporting Date: | D12: 46307
A14: Người ký báo cáo:
C16: Đại diện có thẩm quyền của Ngân hàng giám sát | F16: Đại diện có thẩm quyền của Công ty quản lý Quỹ
C17: Authorised Representative of Supervisory Bank | F17: Authorised Representative of Fund Management Company
C19: NH TMCP ĐT & PT Việt Nam CN Nam Kỳ Khởi Nghĩa | F19: Công ty CP Quản lý Quỹ Đầu tư chứng khoán Bản Việt
C20: Nguyễn Thị Minh Châu | F20: Trương Thị Thanh Ngọc
C21: Phó giám đốc Chi nhánh | F21: Giám đốc quỹ
B34: STT | C34: Nội dung | E34: Tên sheet
B35: A | C35: BÁO CÁO CHUNG VỀ HOẠT ĐỘNG ĐẦU TƯ CỦA QUỸ
B36: 1 | C36: Báo cáo thu nhập | E36: BCThuNhap_06203
B37: 2 | C37: Báo cáo tình hình tài chính | E37: BCTinhHinhTaiChinh_06105
B38: 3 | C38: Báo cáo lưu chuyển tiền tệ | E38: BCLCGT_06262
B39: 4 | C39: Báo cáo tài sản | E39: BCTaiSan_06027
B40: 5 | C40: Báo cáo Kết quả hoạt động | E40: BCKetQuaHoatDong_06028
B41: 6 | C41: Báo cáo Danh mục đầu tư | E41: BCDanhmucdautu_06029
B42: 7 | C42: Giá trị tài sản ròng | E42: GiaTriTaiSanRong_06129
B43: 8 | C43: Báo cáo hoạt động vay | E43: Bchoatdongvay_06026
B44: 9 | C44: Báo cáo chỉ tiêu khác | E44: Khac_06030
B45: 10 | C45: Thống kê phí giao dịch
B46: B | C46: BÁO CÁO TÌNH HÌNH TỰ DOANH ĐẦU TƯ GIÁN TIẾP RA NƯỚC NGOÀI CỦA QUỸ | E46: Không có
B49: Thống kê các Thuyết minh BCTC
D51: Có trình bày Y/N/O | E51: Nguyên nhân không trình bày
B52: 1/ | C52: Tiền gửi Ngân hàng | D52: Y
B53: 2/ | C53: Các khoản đầu tư | D53: Y
B54: 3/ | C54: Các khoản dự phòng | D54: O | E54: Chỉ có VF1 trình bày, các Quỹ khác không có khoản mục này không phải trình bày
B55: 4/ | C55: Vay ngắn hạn | D55: N | E55: Không có số dư không trình bày
B56: 5/ | C56: Phải trả mua các khoản đầu tư | D56: N | E56: Không có số dư không trình bày
B57: 6/ | C57: Phải trả các Đại lý phân phối, Công ty Quản lý quỹ về phí phát hành và mua lại Chứng chỉ quỹ | D57: N | E57: Trên báo cáo chính đã chi tiết theo từng khoản mục
B58: 7/ | C58: Thuế và các khoản phải nộp Nhà nước | D58: N | E58: Không bắt buộc, Quỹ chỉ có khoản mục thuế từ hoạt động mua bán CCQ và Thù lao BDD
B59: 8/ | C59: Phải trả thu nhập cho Nhà đầu tư | D59: N | E59: Quỹ nào có chia cổ tức mới trình bày
...

Sheet BCThuNhap_06203
A1: Mẫu số B01g - QM. Báo cáo thu nhập Template B01g - QM. Statement of Comprehensive Income
A2: (Ban hành kèm theo Thông tư 198/2012/TT-BTC ngày 15 tháng 11 năm 2012 về chế độ kế toán áp dụng đối với quỹ mở) (Issued in association with Circular 198/2012/TT-BTC dated 15 Nov 2012 on the Accounting Policies for Open-Ended Fund)
A3: BÁO CÁO THU NHẬP STATEMENT OF COMPREHENSIVE INCOME
A5: Quý III năm 2026 / Quarter III 2026
A7: Tên Quỹ: | B7: Quỹ Đầu tư cân bằng Bản Việt
A8: Fund name: | B8: Viet Capital Balanced Fund (VCAMBF)
A9: Tên Công ty quản lý quỹ: | B9: Công ty Cổ phần Quản lý Quỹ Đầu tư chứng khoán Bản Việt
A10: Fund Management Company: | B10: Viet Capital Asset Management Joint Stock Company
A11: Tên ngân hàng giám sát: | B11: Ngân hàng TMCP Đầu tư và Phát triển Việt Nam Chi nhánh Nam Kỳ Khởi Nghĩa
A12: Supervising bank: | B12: Bank for Investment and Development of VietNam JSC - Nam Ky Khoi Nghia Branch
A13: Ngày lập báo cáo: | B13: Ngày 12 tháng 10 năm 2026
A14: Reporting Date: | B14: 46307
A16: Chỉ tiêu Indicator | B16: Mã số Code | C16: Thuyết minh Note | D16: Năm 2026 Year 2026 | F16: Năm 2025 Year 2025
D17: Quý III năm 2026 Quarter III 2026 | E17: Số lũy kế Year-to-date | F17: Quý III năm 2025 Quarter III 2025 | G17: Số lũy kế Year-to-date
A18: I. THU NHẬP, DOANH THU HOẠT ĐỘNG ĐẦU TƯ Investment income | B18: 01 | D18: -1979389438 | E18: -1558110361 | F18: 17531698825 | G18: 23150838059
A19: 1.1. Cổ tức, trái tức được chia Dividend, bond interest received | B19: 02 | D19: 1151316000 | E19: 2155774000 | F19: 489617300 | G19: 1178560300
A20: Cổ tức được nhận Dividend received | B20: 02.1 | D20: 1151316000 | E20: 2155774000 | F20: 489617300 | G20: 1178560300
A21: Trái tức được nhận Coupon received | B21: 02.2 | D21: 0 | E21: 0 | F21: 0 | G21: 0
A22: 1.2. Tiền lãi được nhận Interest income | B22: 03 | D22: 963656262 | E22: 2477313839 | F22: 419020725 | G22: 1151031159
A23: Tiền lãi tiền gửi được nhận Bank Deposit Interest received | B23: 03.1 | D23: 963656262 | E23: 2477313839 | F23: 419020725 | G23: 1151031159
A24: Lãi chứng chỉ tiền gửi Interest income from Certificate of Deposit | B24: 03.2 | D24: 0 | E24: 0 | F24: 0 | G24: 0
A25: 1.3. Lãi (lỗ) bán các khoản đầu tư Realized gain (losses) from disposal investments | B25: 04 | D25: -451004629 | E25: 3346964037 | F25: 6528016513 | G25: 14132069264
A26: 1.4. Chênh lệch tăng, giảm đánh giá lại các khoản đầu tư chưa thực hiện Unrealized gain (losses) from investment revaluation | B26: 05 | D26: -3643357071 | E26: -9538162237 | F26: 10095044287 | G26: 6689177336
A27: 1.5. Doanh thu khác Other income | B27: 06 | D27: 0 | E27: 0 | F27: 0 | G27: 0
A28: 1.6. Chênh lệch lãi, lỗ tỷ giá hối đoái đã và chưa thực hiện Realized and unrealized gain (losses) from foreign exchange | B28: 07 | D28: 0 | E28: 0 | F28: 0 | G28: 0
A29: 1.7. Doanh thu khác về đầu tư Other investment income | B29: 08 | D29: 0 | E29: 0 | F29: 0 | G29: 0
... A32: 2.1. Chi phí giao dịch mua, bán các khoản đầu tư Expense for purchasing and selling investments | B32: 11 | D32: 141983727 | E32: 684113931 | F32: 183089026 | G32: 437240953
A33: Phí môi giới Brokerage fee | B33: 11.1 | D33: 141983727 | E33: 684113931 | F33: 183089026 | G33: 437240953
A34: Chi phí thanh toán bù trừ Clearing settlement fee | B34: 11.2 | D34: 0 | E34: 0 | F34: 0 | G34: 0
A35: 2.2. Chi phí dự phòng nợ phải thu khó đòi và xử lý tổn thất phải thu khó đòi Provision expense | B35: 12 | D35: 0 | E35: 0 | F35: 0 | G35: 0
A36: 2.3. Chi phí lãi vay Borrowing interest expense | B36: 13 | D36: 0 | E36: 0 | F36: 0 | G36: 0
A37: 2.4. Chi phí dự phòng giảm giá tài sản nhận thế chấp và xử lý tổn thất các khoản đầu tư cho vay có tài sản nhận thế chấp Impairment expense for devaluation of assets received as pledge | B37: 14 | D37: 0 | E37: 0 | F37: 0 | G37: 0
A38: 2.5. Chi phí đầu tư khác Other investments expense | B38: 15 | D38: 0 | E38: 0 | F38: 0 | G38: 0
A39: III. CHI PHÍ HOẠT ĐỘNG CỦA QUỸ OPERATING EXPENSE | B39: 20 | D39: 748813079 | E39: 2304662678 | F39: 693587949 | G39: 1909311042
A40: 3.1. Phí quản lý Quỹ mở Management fee | B40: 20.1 | D40: 471201191 | E40: 1420949957 | F40: 432730834 | G40: 1151257154
A41: 3.2. Phí dịch vụ lưu ký tài sản Quỹ mở Custodian fee | B41: 20.2 | D41: 91990530 | E41: 327898045 | F41: 103375017 | G41: 281558077
A42: Phí dịch vụ lưu ký - bảo quản tài sản Custodian service - Custody Fee | B42: 20.2.1 | D42: 60000000 | E42: 180000000 | F42: 61870967 | G42: 181870967
A43: Phí dịch vụ lưu ký - giao dịch chứng khoán Custodian service - Transaction fee | B43: 20.2.2 | D43: 28796746 | E43: 139022806 | F43: 39376649 | G43: 93414203
A44: Phí dịch vụ lưu ký - phí VSD Custodian service - VSD fee | B44: 20.2.3 | D44: 3193784 | E44: 8875239 | F44: 2127401 | G44: 6272907
A45: 3.3. Phí dịch vụ giám sát Supervising fee | B45: 20.3 | D45: 16500000 | E45: 49500000 | F45: 16500000 | G45: 49500000
...

Sheet BCTinhHinhTaiChinh_06105
A1: Mẫu số B02g - QM. Báo cáo tình hình tài chính Template B02g - QM. Statement of Financial Position
A2: (Ban hành kèm theo Thông tư 198/2012/TT-BTC ngày 15 tháng 11 năm 2012 về chế độ kế toán áp dụng đối với quỹ mở) (Issued in association with Circular 198/2012/TT-BTC dated 15 Nov 2012 on the Accounting Policies for Open-Ended Fund)
A3: BÁO CÁO TÌNH HÌNH TÀI CHÍNH STATEMENT OF FINANCIAL POSITION
A5: =+'Tong quat'!C1 -> Tại ngày 30 tháng 09 năm 2026/As at 30 September 2026
A7: Tên Quỹ: | B7: Quỹ Đầu tư cân bằng Bản Việt
A8: Fund name: | B8: Viet Capital Balanced Fund (VCAMBF)
A9: Tên Công ty quản lý quỹ: | B9: Công ty Cổ phần Quản lý Quỹ Đầu tư chứng khoán Bản Việt
A10: Fund Management Company: | B10: Viet Capital Asset Management Joint Stock Company
A11: Tên ngân hàng giám sát: | B11: Ngân hàng TMCP Đầu tư và Phát triển Việt Nam Chi nhánh Nam Kỳ Khởi Nghĩa
A12: Supervising bank: | B12: Bank for Investment and Development of VietNam JSC - Nam Ky Khoi Nghia Branch
A13: Ngày lập báo cáo: | B13: =BCThuNhap_06203!B13 -> Ngày 12 tháng 10 năm 2026
A14: Reporting Date: | B14: =BCThuNhap_06203!B14 -> 46307
A16: Chỉ tiêu Indicator | B16: Mã số Code | C16: Thuyết minh Note | D16: Ngày 30 tháng 09 năm 2026 As at 30 September 2026 | E16: Ngày 30 tháng 06 năm 2026 As at 30 June 2026 | I16: Ngày 28 tháng 02 năm 2019 As at 28 February 2019
A17: I. TÀI SẢN ASSETS
A18: 1.Tiền gửi ngân hàng và tương đương tiền Cash at bank and cash equivalent | B18: 110 | D18: 12057506543 | E18: 9446760417 | I18: 29799258648 | J18: 729768413
A19: 1.1. Tiền gửi ngân hàng cho hoạt động của Quỹ mở Cash at bank for Fund's operation | B19: 111 | D19: 7057506543 | E19: 2446760417 | I19: 9361428215 | J19: 611101479
A20: Tiền gửi của nhà đầu tư cho hoạt động mua chứng chỉ quỹ Cash at bank for Fund's subscription | B20: 111.1 | D20: 77751418 | E20: 18800000
A21: Tiền phải trả cho Nhà đầu tư về mua lại chứng chỉ quỹ Cash at bank for Fund's redemption | B21: 111.2 | D21: 0 | E21: 0
A22: Tiền gửi ngân hàng cho hoạt động của Quỹ Cash at bank for Fund's operation | B22: 111.3 | D22: 6979755125 | E22: 2427960417
A23: 1.2. Tiền gửi có kỳ hạn dưới 3 tháng Term deposit less than 3 months | B23: 112 | D23: 5000000000 | E23: 7000000000 | I23: 20437830433 | J23: 118666934
A24: 2. Các khoản đầu tư thuần Investment | B24: 120 | D24: 142417827499 | E24: 151132867826 | I24: 46113652000 | J24: -267466000
A25: 2.1. Các khoản đầu tư Investments | B25: 121 | D25: 142417827499 | E25: 151132867826 | I25: 46113652000 | J25: -267466000
A26: Cổ phiếu niêm yết Listed shares | B26: 121.1 | D26: 100882179000 | E26: 105443263100 | I26: 43113652000 | J26: -267466000
A27: Cổ phiếu chưa niêm yết Unlisted shares | B27: 121.2 | D27: 0 | E27: 3000000000 | I27: 0
A28: Trái phiếu Bonds | B28: 121.3 | D28: 0 | E28: 0 | I28: 0 | J28: 0
A29: Hợp đồng tiền gửi có kỳ hạn trên ba (03) tháng Deposit with term over three (03) months | B29: 121.4 | D29: 41535648499 | E29: 42689604726 | I29: 3000000000 | J29: 0
A30: Chứng chỉ tiền gửi ghi danh Registered Deposit Certificate | B30: 121.5 | D30: 0 | E30: 0 | I30: 0 | J30: 0
A31: Quyền mua chứng khoán Investments - Rights | B31: 121.6 | D31: 0 | E31: 0 | I31: 0 | J31: 0
A32: 2.2. Dự phòng giảm giá tài sản nhận thế chấp Impairment of devaluation of assets as pledge | B32: 122 | D32: 0 | E32: 0 | I32: 0 | J32: 0
A33: 3. Các khoản phải thu Receivables | B33: 130 | D33: 3748179119 | E33: 647222670 | I33: 473787186 | J33: -61449754
A34: 3.1 Phải thu về bán các khoản đầu tư Receivables from investments sold but not yet settled | B34: 131 | D34: 2631771411 | E34: 0 | I34: 285571000 | J34: -58238511
A35: 3.2. Phải thu và dự thu cổ tức, tiền lãi các khoản đầu tư Dividend and interest receivables | B35: 133 | D35: 1116407708 | E35: 647222670 | I35: 188216186 | J35: -3211243
A36: Phải thu cổ tức, tiền lãi đến ngày nhận Dividend and interest receivables | B36: 134 | D36: 0 | E36: 0 | I36: 0 | J36: 0
A37: Trong đó: Phải thu khó đòi về cổ tức, tiền lãi đến ngày nhận nhưng chưa nhận được In which: Overdue receivables from dividend, interest income | B37: 135 | D37: 0 | E37: 0 | J37: 0
A38: Dự thu cổ tức, tiền lãi chưa đến ngày nhận Accrual dividend, interest income | B38: 136 | D38: 1116407708 | E38: 647222670 | I38: 188216186 | J38: -3211243
A39: Phải thu cổ tức Dividend receivable | B39: 136.1 | D39: 131500000 | E39: 92875000 | I39: 0 | J39: 0
A40: Phải thu lãi tiền gửi có kỳ hạn Interest receivable from term deposit | B40: 136.2 | D40: 984907708 | E40: 554347670 | I40: 188216186 | J40: -3211243
A41: Phải thu lãi chứng chỉ tiền gửi ghi danh Interest receivable from registered Deposit Certificate | B41: 136.3 | D41: 0 | E41: 0 | I41: 0 | J41: 0
A42: Phải thu trái tức Coupond receivable | B42: 136.4 | D42: 0 | E42: 0 | I42: 0 | J42: 0
A43: Phải thu lãi hợp đồng mua lại đảo ngược Interest receivable from reverse repo contract | B43: 136.5 | D43: 0 | E43: 0 | I43: 0 | J43: 0
...

Sheet BCLCGT_06262
A1: Mẫu số B05g - QM. Báo cáo lưu chuyển tiền tệ Template B05g - QM. Cash flow statement
A2: (Ban hành kèm theo Thông tư 198/2012/TT-BTC ngày 15 tháng 11 năm 2012 về chế độ kế toán áp dụng đối với quỹ mở) (Issued in association with Circular 198/2012/TT-BTC dated 15 Nov 2012 on the Accounting Policies for Open-Ended Fund)
A3: BÁO CÁO LƯU CHUYỂN TIỀN TỆ CASH FLOW (INDIRECT)
A5: =BCThuNhap_06203!A5 -> Quý III năm 2026 / Quarter III 2026
A7: Tên Quỹ: | B7: Quỹ Đầu tư cân bằng Bản Việt
A8: Fund name: | B8: Viet Capital Balanced Fund (VCAMBF)
A9: Tên ngân hàng giám sát: | B9: NH TMCP ĐT và PT Việt Nam CN Nam Kỳ Khởi Nghĩa
A10: Supervising bank: | B10: Bank for Investment and Development of VietNam JSC - Nam Ky Khoi Nghia Branch
A11: Tên Công ty quản lý quỹ: | B11: Công ty Cổ phần Quản lý Quỹ Đầu tư chứng khoán Bản Việt
A12: Fund Management Company: | B12: Viet Capital Asset Management Joint Stock Company
A13: Ngày lập báo cáo: | B13: =BCThuNhap_06203!B13 -> Ngày 12 tháng 10 năm 2026
A14: Reporting Date: | B14: =BCThuNhap_06203!B14 -> 46307
A16: Chỉ tiêu Indicator | B16: Mã số Code | C16: Thuyết minh Note | D16: =+BCThuNhap_06203!D17 -> Quý III năm 2026 Quarter III 2026 | E16: Quý II năm 2026 Quarter II 2026
A17: I. Lưu chuyển tiền từ hoạt động đầu tư Cash flow from investing activities | B17: I
A18: 1. Lợi nhuận trước Thuế thu nhập doanh nghiệp Profit before income tax | B18: 01 | D18: =BCThuNhap_06203!D72 -> -2870186244 | E18: 1930685646
A19: 2. Điều chỉnh cho các khoản tăng giá trị tài sản ròng từ các hoạt động đầu tư Adjustment for NAV increase from investing activities | B19: 02 | D19: =D20+D21 -> 3619863929 | E19: -341617397
A20: (- lãi) hoặc (+ lỗ) chênh lệch tỷ giá hối đoái/ đánh giá lại các khoản đầu tư chưa thực hiện Unreliased Gain or (Loss) from FX valuation/Investment revaluation | B20: 03 | D20: =+IF(BCThuNhap_06203!D70>0,-BCThuNhap_06203!D70,-BCThuNhap_06203!D70) -> 3643357071 | E20: -332081789
A21: (+) chi phí trích trước Increase of Accrued Expenses | B21: 04 | D21: =+BCTinhHinhTaiChinh_06105!D53-BCTinhHinhTaiChinh_06105!E53 -> -23493142 | E21: -9535608
A22: 3. Lợi nhuận từ hoạt động đầu tư trước thay đổi vốn lưu động Profit from investing activities before changes in working capital | B22: 05 | D22: =+D18+D19 -> 749677685 | E22: 1589068249
A23: (-) Tăng (+) giảm đầu tư (Increase), Decrease Investments | B23: 20 | D23: =+IF((BCTaiSan_06027!D26-BCTaiSan_06027!E26+BCLCGT_06262!D20)>0,-(BCTaiSan_06027!D26-BCTaiSan_06027!E26+BCLCGT_06262!D20),-(BCTaiSan_06027!D26-BCTaiSan_06027!E26+BCLCGT_06262!D20)) -> 5071683256 | E23: -21248772812
A24: (-) Tăng, (+) giảm phải thu bán chứng khoán đầu tư (Increase), Decrease in Receivables from investments sold but not yet settled | B24: 06 | D24: =+IF((BCTaiSan_06027!D39-BCTaiSan_06027!E39)>0,-(BCTaiSan_06027!D39-BCTaiSan_06027!E39),-(BCTaiSan_06027!D39-BCTaiSan_06027!E39)) -> -2631771411 | E24: 3622737730
A25: (-) Tăng, (+) giảm dự thu phải thu tiền lãi các khoản đầu tư (Increase), Decrease in Dividend and interest receivables | B25: 07 | D25: =-(BCTaiSan_06027!D33+BCTaiSan_06027!D36-BCTaiSan_06027!E33-BCTaiSan_06027!E36) -> -469185038 | E25: -87349794
A26: (-) Tăng, (+) giảm các khoản phải thu khác (Increase), Decrease in other receivables | B26: 08 | D26: 0 | E26: 0
A27: (+) Tăng, (-) giảm vay ngắn hạn Increase, (Decrease) in Short term Loans | B27: 09 | D27: 0 | E27: 0
A28: (+) Tăng, (-) giảm phải trả cho người bán (Decrease), Increase in payables for securities purchased but not yet settled | B28: 10 | D28: =+BCTaiSan_06027!D44-BCTaiSan_06027!E44 -> 1099486762 | E28: -1985078158
A29: (+) Tăng, (-) giảm phải trả các Đại lý phân phối Chứng chỉ quỹ, Công ty Quản lý Quỹ (Decrease)/increase in subscription and redemption fee payable to distributors and Fund Management Company | B29: 11 | D29: =+BCTaiSan_06027!D49-BCTaiSan_06027!E49 -> 13260847 | E29: -15089778
A30: (+) Tăng, (-) giảm phải trả thu nhập cho Nhà đầu tư Increase, (Decrease) profit distribution payables | B30: 12 | D30: =+BCTaiSan_06027!D50-BCTaiSan_06027!E50 -> 0 | E30: 0
A31: (+) Tăng, (-) giảm Thuế và các khoản phải nộp Nhà nước Increase, (Decrease) Tax payables and obligations to the State Budget | B31: 13 | D31: =+BCTaiSan_06027!D48-BCTaiSan_06027!E48 -> 1737081 | E31: 918970
A32: (+) Tăng, (-) giảm phải trả cho Nhà đầu tư về mua Chứng chỉ quỹ Increase, (Decrease) Subscription Suspense Payable | B32: 14 | D32: =+BCTaiSan_06027!D47-BCTaiSan_06027!E47 -> -6050000 | E32: -13200000
A33: (+) Tăng, (-) giảm phải trả cho Nhà đầu tư về mua lại Chứng chỉ quỹ Increase, (Decrease) Redemption payable | B33: 15 | D33: =+BCTaiSan_06027!D46-BCTaiSan_06027!E46 -> 0 | E33: -16575636
A34: (+) Tăng, (-) giảm phải trả, phải nộp khác Increase, (Decrease) Other payables | B34: 16 | D34: 0 | E34: 0
A35: (+) Tăng, (-) giảm Phải trả dịch vụ quản lý Quỹ mở Increase, (Decrease) Fund management related service expense payable | B35: 17 | D35: =+BCTinhHinhTaiChinh_06105!D63-BCTinhHinhTaiChinh_06105!E63 -> -842638 | E35: -5963669
A36: (+) Tăng, (-) giảm Thuế Thu nhập doanh nghiệp đã nộp Increase, (Decrease) Income Tax Payment | B36: 18 | D36: 0 | E36: 0
A37: Lưu chuyển tiền thuần từ hoạt động đầu tư (1+2+3) Net Cash flow from Investing activities | B37: 19 | D37: =+D22+D23+D24+D25+D28+D29+D30+D31+D34+D35+D32+D33 -> 3827996544 | E37: -18159304898
A38: II. Lưu chuyển tiền từ hoạt động tài chính Cash flow from financing activities | B38: II
A39: 1. Tiền thu từ phát hành Chứng chỉ quỹ mở Receipts from subscriptions | B39: 31 | D39: =BCKetQuaHoatDong_06028!D64 -> 2741349566 | E39: 2300582526
A40: 2. Tiền chi mua lại Chứng chỉ quỹ mở Payments for redemptions | B40: 32 | D40: =BCKetQuaHoatDong_06028!D65 -> -3958599984 | E40: -2098073545
A41: 3. Tiền vay gốc Principal of Loans | B41: 33 | D41: 0 | E41: 0
A42: 4. Tiền chi trả nợ gốc vay Payment of Principal loans | B42: 34 | D42: 0 | E42: 0
A43: 5. Tiền chi trả cổ tức, tiền lãi cho nhà đầu tư Dividend, profit distribution payment | B43: 35 | D43: =BCKetQuaHoatDong_06028!D62 -> 0 | E43: 0
...

Sheet BCTaiSan_06027
A1: Phụ lục XXVI. Mẫu báo cáo về hoạt động của Quỹ Appendix XXVI. Report on Fund's Operation | H1: ok
A2: (Ban hành kèm theo Thông tư số 98/2020/TT-BTC ngày 16 tháng 11 năm 2020 của Bộ trưởng Bộ Tài Chính về hướng dẫn hoạt động và quản lý quỹ đầu tư chứng khoán (Issued in association with Circular 98/2020/TT-BTC dated 16 November 2020 of the Minister of Finance on guiding the operation and management of the securities investment funds
A3: BÁO CÁO HOẠT ĐỘNG ĐẦU TƯ CỦA QUỸ MỞ REPORT ON FUND'S INVESTMENT ACTIVITIES
A5: =BCTinhHinhTaiChinh_06105!A5 -> Tại ngày 30 tháng 09 năm 2026/As at 30 September 2026
A7: Tên Quỹ: | C7: Quỹ Đầu tư cân bằng Bản Việt
A8: Fund name: | C8: Viet Capital Balanced Fund (VCAMBF)
A9: Tên Công ty quản lý quỹ: | C9: Công ty Cổ phần Quản lý Quỹ Đầu tư chứng khoán Bản Việt
A10: Fund Management Company: | C10: Viet Capital Asset Management Joint Stock Company
A11: Tên ngân hàng giám sát: | C11: Ngân hàng TMCP Đầu tư và Phát triển Việt Nam CN Nam Kỳ Khởi Nghĩa
A12: Supervising bank: | C12: Bank for Investment and Development of VietNam JSC - Nam Ky Khoi Nghia Branch
A13: Ngày lập báo cáo: | C13: =BCThuNhap_06203!B13 -> Ngày 12 tháng 10 năm 2026
A14: Reporting Date: | C14: =BCThuNhap_06203!B14 -> 46307
A15: A. | B15: BÁO CÁO CHUNG VỀ HOẠT ĐỘNG ĐẦU TƯ CỦA QUỸ/GENERAL INFORMATION ON FUND'S INVESTMENT ACTIVITIES
A16: I | B16: BÁO CÁO TÀI SẢN CỦA QUỸ / ASSET REPORT
A17: STT No | B17: Nội dung Indicator | C17: Mã chỉ tiêu Code | D17: =+BCTinhHinhTaiChinh_06105!D16 -> Ngày 30 tháng 09 năm 2026 As at 30 September 2026 | E17: =BCTinhHinhTaiChinh_06105!E16 -> Ngày 30 tháng 06 năm 2026 As at 30 June 2026 | F17: %/cùng kỳ năm trước %/against last year | K17: Ngày 30 tháng 04 năm 2018 As at 30 Apr 2018
A18: I | B18: TÀI SẢN ASSETS | C18: 2200 | K18: 0
A19: I.1 | B19: Tiền và các khoản tương đương tiền Cash and Cash Equivalents | C19: 2201 | D19: 12057506543 | E19: 9446760417 | F19: 85.585805 | K19: 18924296298
B20: Tiền Cash | C20: 2202 | D20: 0 | E20: 0 | F20: 0 | K20: 0
B21: Tiền gửi ngân hàng Cash at Bank | C21: 2203 | D21: 7057506543 | E21: 2446760417 | F21: 177.42022 | K21: 10834088082
B22: Tiền gửi của nhà đầu tư cho hoạt động mua chứng chỉ quỹ Cash at bank for Fund's subscription | C22: 2203.1 | D22: 77751418 | E22: 18800000 | F22: 62.161351
B23: Tiền phải trả cho Nhà đầu tư về mua lại chứng chỉ quỹ Cash at bank for Fund's redemption | C23: 2203.2 | D23: 0 | E23: 0 | F23: 0
B24: Tiền gửi ngân hàng cho hoạt động của Quỹ Cash at bank for Fund's operation | C24: 2203.3 | D24: 6979755125 | E24: 2427960417 | F24: 181.1621
B25: Các khoản tương đương tiền Cash Equivalents | C25: 2204 | D25: 5000000000 | E25: 7000000000 | F25: 49.454221 | K25: 8090208216
A26: I.2 | B26: Các khoản đầu tư (kê chi tiết) Investments | C26: 2205 | D26: 142417827499 | E26: 151132867826 | F26: 105.67694 | K26: 54380270000
B27: Cổ phiếu niêm yết Listed shares | C27: 2205.01 | D27: 100882179000 | E27: 105443263100 | F27: 94.553929 | K27: 54104270000
B28: Cổ phiếu chưa niêm yết Unlisted shares | C28: 2205.02 | D28: 0 | E28: 3000000000 | F28: 0 | K28: 0
B29: Trái phiếu Bonds | C29: 2205.03 | D29: 0 | E29: 0 | F29: 0 | K29: 0
B30: Hợp đồng tiền gửi có kỳ hạn quá ba (03) tháng Deposit with term over three (03) months | C30: 2205.04 | D30: 41535648499 | E30: 42689604726 | F30: 148.82833 | K30: 0
B31: Chứng chỉ tiền gửi ghi danh Registered Deposit Certificate | C31: 2205.05 | D31: 0 | E31: 0 | F31: 0 | K31: 0
B32: Quyền mua chứng khoán Investments - Rights | C32: 2205.06 | D32: 0 | E32: 0 | F32: 0 | K32: 276000000
A33: I.3 | B33: Cổ tức, trái tức được nhận Dividend, Coupon Receivables | C33: 2206 | D33: 131500000 | E33: 92875000 | F33: 64.146341 | K33: 182000000
B34: Cổ tức được nhận Dividend receivables | C34: 2206.1 | D34: 131500000 | E34: 92875000 | F34: 64.146341
B35: Trái tức được nhận Coupon Receivables | C35: 2206.2 | D35: 0 | E35: 0 | F35: 0
A36: I.4 | B36: Lãi được nhận Interest Receivables | C36: 2207 | D36: 984907708 | E36: 554347670 | F36: 397.39109 | K36: 31954902
B37: Phải thu lãi tiền gửi có kỳ hạn Interest receivable from term deposit | C37: 2207.1 | D37: 984907708 | E37: 554347670 | F37: 397.39109 | K37: 31954902
B38: Phải thu lãi chứng chỉ tiền gửi ghi danh Interest receivable from registered Deposit Certificate | C38: 2207.2 | D38: 0 | E38: 0 | F38: 0 | K38: 0
A39: I.5 | B39: Tiền bán chứng khoán chờ thu Securities Trading Receivables | C39: 2208 | D39: 2631771411 | E39: 0 | F39: 105.37968 | K39: 838678093
A40: I.6 | B40: Các khoản phải thu khác Other Receivables | C40: 2210 | D40: 0 | E40: 0 | F40: 0 | K40: 0
A41: I.7 | B41: Các tài sản khác Other Assets | C41: 2211 | D41: 0 | E41: 0 | F41: 0 | H41: checking | K41: 0
A42: I.8 | B42: TỔNG TÀI SẢN TOTAL ASSETS | C42: 2212 | D42: 158223513161 | E42: 161226850913 | F42: 104.22769 | H42: 77161857907 | I42: 76787550493 | K42: 74357199293
...

Sheet BCKetQuaHoatDong_06028
A1: Phụ lục XXVI. Mẫu báo cáo về hoạt động của Quỹ Appendix XXVI. Report on Fund's Operation
A2: (Ban hành kèm theo Thông tư số 98/2020/TT-BTC ngày 16 tháng 11 năm 2020 của Bộ trưởng Bộ Tài Chính về hướng dẫn hoạt động và quản lý quỹ đầu tư chứng khoán (Issued in association with Circular 98/2020/TT-BTC dated 16 November 2020 of the Minister of Finance on guiding the operation and management of the securities investment funds
A3: BÁO CÁO HOẠT ĐỘNG ĐẦU TƯ CỦA QuỸ MỞ REPORT ON FUND'S INVESTMENT ACTIVITIES
A5: =BCThuNhap_06203!A5 -> Quý III năm 2026 / Quarter III 2026
A7: Tên Quỹ: | C7: Quỹ Đầu tư cân bằng Bản Việt
A8: Fund name: | C8: Viet Capital Balanced Fund (VCAMBF)
A9: Tên Công ty quản lý quỹ: | C9: Công ty Cổ phần Quản lý Quỹ Đầu tư chứng khoán Bản Việt
A10: Fund Management Company: | C10: Viet Capital Asset Management Joint Stock Company
A11: Tên ngân hàng giám sát: | C11: Ngân hàng TMCP Đầu tư và Phát triển Việt Nam Chi nhánh Nam Kỳ Khởi Nghĩa
A12: Supervising bank: | C12: Bank for Investment and Development of VietNam JSC - Nam Ky Khoi Nghia Branch
A13: Ngày lập báo cáo: | C13: =BCThuNhap_06203!B13 -> Ngày 12 tháng 10 năm 2026
A14: Reporting Date: | C14: =BCThuNhap_06203!B14 -> 46307
A15: A. | B15: BÁO CÁO CHUNG VỀ HOẠT ĐỘNG ĐẦU TƯ CỦA QUỸ/GENERAL INFORMATION ON FUND'S INVESTMENT ACTIVITIES
A16: II | B16: BÁO CÁO KẾT QUẢ HOẠT ĐỘNG / PROFIT AND LOSS REPORT
A17: STT No | B17: Chỉ tiêu Indicator | C17: Mã chỉ tiêu Code | D17: Quý III năm 2026 Quarter III 2026 | E17: Quý II năm 2026 Quarter II 2026 | F17: Lũy kế từ đầu năm Accumulated from beginning of year
A18: I | B18: Thu nhập từ hoạt động đầu tư Income from Investment Activities | C18: 2220 | D18: 2114972262 | E18: 1702282264 | F18: 4633087839 | P18: 2220
A19: 1 | B19: Cổ tức, trái tức được nhận Dividend, Coupon received | C19: 2221 | D19: 1151316000 | E19: 846458000 | F19: 2155774000 | P19: 2221
B20: Cổ tức được nhận Dividend received | C20: 2221.1 | D20: 1151316000 | E20: 846458000 | F20: 2155774000
B21: Trái tức được nhận Coupon received | C21: 2221.2 | D21: 0 | E21: 0 | F21: 0
A22: 2 | B22: Lãi được nhận Income from Interest | C22: 2222 | D22: 963656262 | E22: 855824264 | F22: 2477313839 | P22: 2222
A23: 3 | B23: Các khoản thu nhập khác Other income | C23: 2223 | D23: 0 | E23: 0 | F23: 0 | P23: 2223
A24: II | B24: Chi phí Expense | C24: 2224 | D24: 890796806 | E24: 995704818 | F24: 2988776609 | P24: 2224
A25: 1 | B25: Chi phí quản lý trả cho Công ty quản lý quỹ Management Fee paid to Fund Management Company | C25: 2225 | D25: 471201191 | E25: 475919367 | F25: 1420949957 | P25: 2225
A26: 2 | B26: Chi phí lưu ký, giám sát trả cho Ngân hàng Giám sát/VSD Custody fee, Supervising fee paid to Supervising Bank/VSD | C26: 2226 | D26: 108490530 | E26: 121414807 | F26: 377398045 | P26: 2226
B27: Phí dịch vụ lưu ký - bảo quản tài sản Custodian service - Custody Fee | C27: 2226.1 | D27: 60000000 | E27: 60000000 | F27: 180000000 | P27: 2226.1
B28: Phí dịch vụ lưu ký - giao dịch chứng khoán Custodian service - Transaction fee | C28: 2226.2 | D28: 28796746 | E28: 41713961 | F28: 139022806 | P28: 2226.2
B29: Phí dịch vụ lưu ký tại VSD Custodian fee at VSD | C29: 2226.3 | D29: 3193784 | E29: 3200846 | F29: 8875239 | P29: 2226.3
B30: Phí giám sát Supervisory fee | C30: 2226.4 | D30: 16500000 | E30: 16500000 | F30: 49500000 | P30: 2226.4
A31: 3 | B31: Chi phí dịch vụ quản trị quỹ, chi phí dịch vụ đại lý chuyển nhượng và các chi phí khác mà công ty quản lý quỹ trả cho tổ chức cung cấp dịch vụ có liên quan Fund Administration Fee, Transfer Agency Fee, and other fee paid to relevant Fund's service providers | C31: 2227 | D31: 89100000 | E31: 89100000 | F31: 267300000 | P31: 2227
B32: Chi phí dịch vụ quản trị Quỹ Fund Administration Fee | C32: 2227.1 | D32: 49500000 | E32: 49500000 | F32: 148500000 | P32: 2227.1
B33: Chi phí dịch vụ Đại lý Chuyển nhượng Transfer Agency Fee | C33: 2227.2 | D33: 39600000 | E33: 39600000 | F33: 118800000 | P33: 2227.2
A34: 4 | B34: Chi phí kiểm toán trả cho tổ chức kiểm toán Audit fee | C34: 2228 | D34: 30246564 | E34: 29917797 | F34: 89753392 | P34: 2228
A35: 5 | B35: Chi phí dịch vụ tư vấn pháp lý, dịch vụ báo giá và các dịch vụ hợp lý khác, thù lao trả cho ban đại diện quỹ Legal consultancy expenses, price quotation fee, other valid expenses, remuneration payable to fund representative board | C35: 2229 | D35: 45000000 | E35: 72000000 | F35: 135000000 | P35: 2229
B36: Thù lao ban đại diện Quỹ Remuneration of Fund's Board of Representatives | C36: 2229.1 | D36: 45000000 | E36: 72000000 | F36: 135000000 | P36: 2229.1
B37: Chi phí cung cấp báo giá chứng khoán Price feed fee Expenses | C37: 2229.2 | D37: 0 | E37: 0 | F37: 0 | P37: 2229.2
A38: 6 | B38: Chi phí dự thảo, in ấn, gửi bản cáo bạch, bản cáo bạch tóm tắt, báo cáo tài chính, xác nhận giao dịch, sao kê tài khoản và các tài liệu khác cho nhà đầu tư; chi phí công bố thông tin của quỹ; chi phí tổ chức họp đại hội nhà đầu tư, ban đại diện quỹ Fee for drafting, printing, distribution of prospectus, summarised propectus, financial statements, transaction confirmations, account statements and other documents to investors; information disclosure fee; fee for organising annual general meeting, board of representatives meeting | C38: 2230 | D38: 0 | E38: 0 | F38: 0 | P38: 2230
B39: Chi phí họp Đại hội Quỹ Meeting expense | C39: 2230.1 | D39: 0 | E39: 0 | F39: 0 | P39: 2230.1
B40: Phí báo cáo thường niên Annual report expense | C40: 2230.2 | D40: 0 | E40: 0 | F40: 0 | P40: 2230.2
B41: Chi phí họp, công tác của ban đại diện Fund's Board of Representatives meeting, travelling expense | C41: 2230.3 | D41: 0 | E41: 0 | F41: 0 | P41: 2230.3
B42: Chi phí công bố thông tin của Quỹ Expenses for information disclosure of the Fund | C42: 2230.4 | D42: 0 | E42: 0 | F42: 0 | P42: 2230.4
...

Sheet BCDanhMucDauTu_06029
A1: Phụ lục XXVI. Mẫu báo cáo về hoạt động của Quỹ Appendix XXVI. Report on Fund's Operation
A2: (Ban hành kèm theo Thông tư số 98/2020/TT-BTC ngày 16 tháng 11 năm 2020 của Bộ trưởng Bộ Tài Chính về hướng dẫn hoạt động và quản lý quỹ đầu tư chứng khoán (Issued in association with Circular 98/2020/TT-BTC dated 16 November 2020 of the Minister of Finance on guiding the operation and management of the securities investment funds)
A3: BÁO CÁO HOẠT ĐỘNG ĐẦU TƯ CỦA QUỸ MỞ REPORT ON FUND'S INVESTMENT ACTIVITIES
A5: =BCTinhHinhTaiChinh_06105!A5 -> Tại ngày 30 tháng 09 năm 2026/As at 30 September 2026
A7: Tên Quỹ: | C7: Quỹ Đầu tư cân bằng Bản Việt
A8: Fund name: | C8: Viet Capital Balanced Fund (VCAMBF)
A9: Tên Công ty quản lý quỹ: | C9: Công ty Cổ phần Quản lý Quỹ Đầu tư chứng khoán Bản Việt
A10: Fund Management Company: | C10: Viet Capital Asset Management Joint Stock Company
A11: Tên ngân hàng giám sát: | C11: Ngân hàng TMCP Đầu tư và Phát triển Việt Nam Chi nhánh Nam Kỳ Khởi Nghĩa
A12: Supervising bank: | C12: Bank for Investment and Development of VietNam JSC - Nam Ky Khoi Nghia Branch
A13: Ngày lập báo cáo: | C13: =BCThuNhap_06203!B13 -> Ngày 12 tháng 10 năm 2026
A14: Reporting Date: | C14: =BCThuNhap_06203!B14 -> 46307
A15: A. | B15: BÁO CÁO CHUNG VỀ HOẠT ĐỘNG ĐẦU TƯ CỦA QUỸ/GENERAL INFORMATION ON FUND'S INVESTMENT ACTIVITIES
A16: III | B16: BÁO CÁO VỀ TÌNH HÌNH DANH MỤC ĐẦU TƯ CỦA QUỸ / INVESTMENT PORTFOLIO REPORT
A17: STT/No. | B17: Loại Category | C17: Mã chỉ tiêu Code | D17: Số Lượng Quantity | E17: Giá thị trường hoặc giá trị hợp lý tại ngày báo cáo Market price | F17: Tổng giá trị (Đồng) Value (VND) | G17: Tỷ lệ % Tổng giá trị tài sản của Quỹ % of total asset
A18: I | B18: CỔ PHIẾU NIÊM YẾT LISTED EQUITY | C18: 2246
A19: 1 | B19: ABB | C19: 2246.1 | D19: 259750 | E19: 18100 | F19: =+D19*E19 -> 4701475000 | G19: =+F19/$F$79 -> 0.029714136
A20: 2 | B20: ACB | C20: 2246.2 | D20: 298500 | E20: 21100 | F20: =+D20*E20 -> 6298350000 | G20: =+F20/$F$79 -> 0.039806663
A21: 3 | B21: BSR | C21: 2246.3 | D21: 120000 | E21: 31400 | F21: =+D21*E21 -> 3768000000 | G21: =+F21/$F$79 -> 0.023814412
A22: 4 | B22: BVH | C22: 2246.4 | D22: 55000 | E22: 74500 | F22: =+D22*E22 -> 4097500000 | G22: =+F22/$F$79 -> 0.025896909
A23: 5 | B23: BWE | C23: 2246.5 | D23: 40000 | E23: 40800 | F23: =+D23*E23 -> 1632000000 | G23: =+F23/$F$79 -> 0.010314523
A24: 6 | B24: DCM | C24: 2246.6 | D24: 70000 | E24: 33500 | F24: =+D24*E24 -> 2345000000 | G24: =+F24/$F$79 -> 0.014820806
A25: 7 | B25: DHC | C25: 2246.7 | D25: 80000 | E25: 39650 | F25: =+D25*E25 -> 3172000000 | G25: =+F25/$F$79 -> 0.020047589
A26: 8 | B26: DPR | C26: 2246.8 | D26: 50000 | E26: 38600 | F26: =+D26*E26 -> 1930000000 | G26: =+F26/$F$79 -> 0.012197934
A27: 9 | B27: FOX | C27: 2246.9 | D27: 30000 | E27: 60000 | F27: =+D27*E27 -> 1800000000 | G27: =+F27/$F$79 -> 0.011376312
A28: 10 | B28: FPT | C28: 2246.10 | D28: 38591 | E28: 63000 | F28: =+D28*E28 -> 2431233000 | G28: =+F28/$F$79 -> 0.015365814
A29: 11 | B29: GAS | C29: 2246.11 | D29: 25000 | E29: 82000 | F29: =+D29*E29 -> 2050000000 | G29: =+F29/$F$79 -> 0.012956355
A30: 12 | B30: HAH | C30: 2246.12 | D30: 40000 | E30: 52200 | F30: =+D30*E30 -> 2088000000 | G30: =+F30/$F$79 -> 0.013196522
... A53: 35 | B53: VPL | C53: 2246.35 | D53: 30000 | E53: 79200 | F53: =+D53*E53 -> 2376000000 | G53: =+F53/$F$79 -> 0.015016731
B54: TỔNG TOTAL | C54: 2247 | D54: =SUM(D19:D53) -> 3320756 | F54: =SUM(F19:F53) -> 100882179000 | G54: =+F54/$F$79 -> 0.63759284
A55: II | B55: CỔ PHIẾU CHƯA NIÊM YẾT UNLISTED EQUITY | C55: 2248 | G55: =+F55/$F$79 -> 0
B56: TỔNG TOTAL | C56: 2249
B57: TỔNG CÁC LOẠI CỔ PHIẾU TOTAL | C57: 2250 | D57: =+D54+D56 -> 3320756 | E57: 0 | F57: =+F54+F56 -> 100882179000 | G57: =+F57/$F$79 -> 0.63759284
A58: III | B58: TRÁI PHIẾU BONDS | C58: 2251 | G58: =+F58/$F$79 -> 0
B59: TỔNG TOTAL | C59: 2252 | D59: 0 | F59: 0 | G59: =+F59/$F$79 -> 0
A60: IV | B60: CÁC LOẠI CHỨNG KHOÁN KHÁC OTHER SECURITIES | C60: 2253 | G60: =+F60/$F$79 -> 0
A61: 1 | B61: Quyền mua Rights | C61: 2253.1 | F61: =+BCTinhHinhTaiChinh_06105!D31 -> 0 | G61: =+F61/$F$79 -> 0
B62: TỔNG TOTAL | C62: 2254 | D62: =+D61 -> 0 | F62: =+F61 -> 0 | G62: =+F62/$F$79 -> 0
B63: TỔNG CÁC LOẠI CHỨNG KHOÁN SECURITIES INVESTMENT TOTAL | C63: 2255 | D63: =+D57+D59+D62 -> 3320756 | E63: 0 | F63: =+F57+F59+F62 -> 100882179000 | G63: =+F63/$F$79 -> 0.63759284
A64: V | B64: CÁC TÀI SẢN KHÁC OTHER ASSETS | C64: 2256 | G64: =+F64/$F$79 -> 0
...

Sheet BCHoatDongVay_06026
A1: Phụ lục XXVI. Mẫu báo cáo về hoạt động của Quỹ Appendix XXVI. Report on Fund's Operation
A2: (Ban hành kèm theo Thông tư số 98/2020/TT-BTC ngày 16 tháng 11 năm 2020 của Bộ trưởng Bộ Tài Chính về hướng dẫn hoạt động và quản lý quỹ đầu tư chứng khoán (Issued in association with Circular 98/2020/TT-BTC dated 16 November 2020 of the Minister of Finance on guiding the operation and management of the securities investment funds)
A3: BÁO CÁO HOẠT ĐỘNG ĐẦU TƯ CỦA QUỸ MỞ REPORT ON FUND'S INVESTMENT ACTIVITIES
A4: =BCThuNhap_06203!A5 -> Quý III năm 2026 / Quarter III 2026
A6: Tên Quỹ: | G6: Quỹ Đầu tư cân bằng Bản Việt
A7: Fund name: | G7: Viet Capital Balanced Fund (VCAMBF)
A8: Tên Công ty quản lý quỹ: | G8: Công ty Cổ phần Quản lý Quỹ Đầu tư chứng khoán Bản Việt
A9: Fund Management Company: | G9: Viet Capital Asset Management Joint Stock Company
A10: Tên ngân hàng giám sát: | G10: Ngân hàng TMCP Đầu tư và Phát triển Việt Nam Chi nhánh Nam Kỳ Khởi Nghĩa
A11: Supervising bank: | G11: Bank for Investment and Development of VietNam JSC - Nam Ky Khoi Nghia Branch
A12: Ngày lập báo cáo: | G12: =BCThuNhap_06203!B13 -> Ngày 12 tháng 10 năm 2026
A13: Reporting Date: | G13: =BCThuNhap_06203!B14 -> 46307
A14: A. | B14: BÁO CÁO CHUNG VỀ HOẠT ĐỘNG ĐẦU TƯ CỦA QUỸ/GENERAL INFORMATION ON FUND'S INVESTMENT ACTIVITIES
A15: IV | B15: BÁO CÁO HOẠT ĐỘNG VAY, GIAO DỊCH MUA BÁN LẠI / REPORT ON BORROWING OPERATION, REPO/REVERSE REPO TRANSACTIONS
A16: STT No. | B16: Nội dung hoạt động (nêu chi tiết theo mục tiêu và đối tác) Description | C16: Mã chỉ tiêu Code | D16: Đối tác Counterparty | E16: Mục tiêu/Tài sản đảm bảo Collateral | F16: Kỳ hạn Term | G16: Giá trị khoản vay hoặc khoản cho vay Amount | H16: Thời điểm giao dịch As at transaction date | J16: Thời điểm báo cáo As at reporting date
H17: Ngày tháng năm Date | I17: Tỷ lệ giá trị hợp đồng/giá trị tài sản ròng của quỹ Balance/NAV | J17: Ngày tháng năm Date | K17: Tỷ lệ giá trị hợp đồng/giá trị tài sản ròng của quỹ Balance/NAV
A18: 1 | B18: Các khoản vay tiền (nêu chi tiết từng hợp đồng) Borrowings (detail by each contract) | C18: 2287
A19: I | B19: Tổng giá trị các khoản vay tiền/giá trị tài sản ròng Borrowings/NAV | C19: 2288
A20: 2 | B20: Hợp đồng Repo (nêu chi tiết từng hợp đồng) Repo contract (detail by each contract) | C20: 2289
A21: II | B21: Tổng giá trị các hợp đồng Repo/giá trị tài sản ròng Total value of Repo contracts/NAV | C21: 2290
A22: A | B22: Tổng giá trị các khoản vay/giá trị tài sản ròng (=I+II) Total Borrowings, Repo/NAV (=I+II) | C22: 2291
A23: 3 | B23: Cho vay chứng khoán (nêu chi tiết từng hợp đồng) Securities lending (detail by each contract) | C23: 2292
A24: III | B24: Tổng giá trị các hợp đồng/giá trị tài sản ròng Total contract value/NAV | C24: 2293
A25: 4 | B25: Hợp đồng Reverse Repo (nêu chi tiết từng hợp đồng) Reverse Repo contract (Detail by each contract) | C25: 2295
A26: IV | B26: Tổng giá trị các hợp đồng/giá trị tài sản ròng Total contract value/NAV | C26: 2296
A27: B | B27: Tổng giá trị các khoản cho vay/giá trị tài sản ròng (=III + IV) Total Loans/NAV (=III + IV) | C27: 2297
A30: * Ghi chú: kỳ báo cáo không phát sinh
A32: Đại diện có thẩm quyền của Ngân hàng giám sát | I32: Đại diện có thẩm quyền của Công ty quản lý Quỹ
A33: Authorised Representative of Supervisory Bank | I33: Authorised Representative of Fund Management Company
A44: Ngân hàng TMCP Đầu tư và Phát triển Việt Nam Chi nhánh Nam Kỳ Khởi Nghĩa | I44: Công ty CP Quản lý Quỹ Đầu tư chứng khoán Bản Việt
A45: Nguyễn Thị Minh Châu | I45: Trương Thị Thanh Ngọc
A46: Phó giám đốc chi nhánh | I46: Giám đốc quỹ

Sheet Khac_06030
A1: Phụ lục XXVI. Mẫu báo cáo về hoạt động của Quỹ Appendix XXVI. Report on Fund's Operation
A2: (Ban hành kèm theo Thông tư số 98/2020/TT-BTC ngày 16 tháng 11 năm 2020 của Bộ trưởng Bộ Tài Chính về hướng dẫn hoạt động và quản lý quỹ đầu tư chứng khoán (Issued in association with Circular 98/2020/TT-BTC dated 16 November 2020 of the Minister of Finance on guiding the operation and management of the securities investment funds)
A3: BÁO CÁO HOẠT ĐỘNG ĐẦU TƯ CỦA QUỸ MỞ REPORT ON FUND'S INVESTMENT ACTIVITIES
A5: =BCThuNhap_06203!A5 -> Quý III năm 2026 / Quarter III 2026
A7: Tên Quỹ: | C7: Quỹ Đầu tư cân bằng Bản Việt
A8: Fund name: | C8: Viet Capital Balanced Fund (VCAMBF)
A9: Tên Công ty quản lý quỹ: | C9: Công ty Cổ phần Quản lý Quỹ Đầu tư chứng khoán Bản Việt
A10: Fund Management Company | C10: Viet Capital Asset Management Joint Stock Company
A11: Tên ngân hàng giám sát: | C11: Ngân hàng TMCP Đầu tư và Phát triển Việt Nam Chi nhánh Nam Kỳ Khởi Nghĩa
A12: Supervising bank: | C12: Bank for Investment and Development of VietNam JSC - Nam Ky Khoi Nghia Branch
A13: Ngày lập báo cáo: | C13: =BCThuNhap_06203!B13 -> Ngày 12 tháng 10 năm 2026
A14: Reporting Date: | C14: =BCThuNhap_06203!B14 -> 46307
A15: A. | B15: BÁO CÁO CHUNG VỀ HOẠT ĐỘNG ĐẦU TƯ CỦA QUỸ/GENERAL INFORMATION ON FUND'S INVESTMENT ACTIVITIES
A16: V | B16: MỘT SỐ CHỈ TIÊU KHÁC / OTHER INDICATORS
A17: STT/No. | B17: Chỉ tiêu/Indicators | C17: Mã chỉ tiêu/Code | D17: =BCKetQuaHoatDong_06028!D17 -> Quý III năm 2026 Quarter III 2026 | E17: Quý II năm 2026 Quarter II 2026
A18: I | B18: CÁC CHỈ TIÊU VỀ HIỆU QUẢ HOẠT ĐỘNG INVESTMENT PERFORMANCE INDICATORS | C18: 2264
A19: 1 | B19: Tỷ lệ giá dịch vụ quản lý quỹ trả cho công ty quản lý quỹ/Giá trị tài sản ròng trung bình trong kỳ (%) Management fee paid to the fund management company/Average NAV (%) | C19: 2265 | D19: 0.012110261 | E19: 0.011964188
A20: 2 | B20: Tỷ lệ giá dịch vụ lưu ký, giám sát trả cho Ngân hàng Giám sát/Giá trị tài sản ròng trung bình trong kỳ (%) Custody and supervising fees paid to the Supervisory Bank/Average NAV (%) | C20: 2266 | D20: 0.0027882966 | E20: 0.00305226
A21: 3 | B21: Tỷ lệ chi phí dịch vụ quản trị quỹ, và các chi phí khác mà công ty quản lý quỹ trả cho tổ chức cung cấp dịch vụ có liên quan/Giá trị tài sản ròng của quỹ trung bình trong kỳ (%) Fund admin fee, and other fees paid to relating services providers by the fund management company/Average NAV (%) | C21: 22661 | D21: 0.0022899439 | E21: 0.0022398945
A22: 4 | B22: Chi phí kiểm toán trả cho tổ chức kiểm toán (nếu phát sinh) / Giá trị tài sản ròng trung bình trong kỳ (%) Audit fee expense over average NAV ratio (%) | C22: 2267 | D22: 0.00077736177 | E22: 0.00075210674
A23: 5 | B23: Chi phí dịch vụ tư vấn pháp lý, dịch vụ báo giá và các dịch vụ hợp lý khác, thù lao trả cho ban đại diện quỹ / Giá trị tài sản ròng trung bình trong kỳ (%) Legal consultancy, OTC price quotation and other valid service fees; Board of Representatives' remuneration expense over average NAV ratio (%) | C23: 2268 | D23: 0.0011565373 | E23: 0.0018100158
A24: 6 | B24: Tỷ lệ chi phí /Giá trị tài sản ròng trung bình trong kỳ (%) Expense/Average NAV (%) | C24: 2269 | D24: 0.022894217 | E24: 0.025031131
A25: 7 | B25: Tốc độ vòng quay danh mục trong kỳ (%) = (Tổng giá trị mua vào + tổng giá trị bán ra) x 100%/ (2 x Giá trị tài sản ròng trung bình trong kỳ) Portfolio turnover rate (%) = (Total value of purchase transactions + total value of sales transactions) x 100%/ (2 x Average NAV) (**) | C25: 2270 | D25: 1.2227699 | E25: 1.7442331
A26: II | B26: CÁC CHỈ TIÊU KHÁC OTHER INDICATORS | C26: 2272
A27: 1 | B27: Quy mô quỹ đầu kỳ (tính theo mệnh giá chứng chỉ quỹ) Fund scale at the beginning of the period (based on par value of fund certificate) | C27: 2273 | D27: 73584666152 | E27: 73478524152
B28: Tổng giá trị chứng chỉ quỹ đang lưu hành đầu kỳ Total value of outstanding Fund Certificate at the beginning of period | C28: 2274 | D28: 73584666152 | E28: 73478524152
B29: Tổng số lượng đơn vị quỹ đang lưu hành đầu kỳ Total number of outstanding Fund Certificate at the beginning of period | C29: 2275 | D29: 7358466.6 | E29: 7347852.4
A30: 2 | B30: Thay đổi quy mô quỹ trong kỳ (tính theo mệnh giá chứng chỉ quỹ) Change of Fund scale during the period (based on par value of fund certificate) | C30: 2276 | D30: -5.724849e+08 | E30: 1.06142e+08
B31: Thay đổi số lượng chứng chỉ quỹ trong kỳ Change of Number of Fund Certificates during the period | C31: 2276.1 | D31: -57248.49 | E31: 10614.2
B32: Thay đổi giá trị vốn trong kỳ (theo mệnh giá) Change in capital amount during the period (based on par value) | C32: 2276.2 | D32: -5.724849e+08 | E32: 1.06142e+08
B33: Số lượng đơn vị quỹ phát hành thêm trong kỳ Number of Fund Certificates subscribed during the period | C33: 2277 | D33: 131173.28 | E33: 107031.24
B34: Giá trị vốn huy động thêm trong kỳ (theo mệnh giá) Net subscription amount in period (based on par value) | C34: 2278 | D34: 1311732800 | E34: 1070312400
B35: Số lượng đơn vị quỹ mua lại trong kỳ Number of Fund Certificates redeemed during the period | C35: 22781 | D35: -188421.77 | E35: -96417.04
B36: Giá trị vốn phải thanh toán trong kỳ khi đáp ứng lệnh của nhà đầu tư (theo mệnh giá) Net redemption amount in period (based on par value) | C36: 22782 | D36: -1.8842177e+09 | E36: -9.641704e+08
A37: 3 | B37: Quy mô quỹ cuối kỳ (tính theo mệnh giá chứng chỉ quỹ) Fund scale at the end of the period (based on par value of fund unit) | C37: 2279 | D37: 73012181252 | E37: 73584666152 | F37: =+D37-BCTinhHinhTaiChinh_06105!D74 -> 0
B38: Tổng giá trị chứng chỉ quỹ đang lưu hành cuối kỳ Total value of outstanding Fund Certificate at the end of the period | C38: 2280 | D38: 73012181252 | E38: 73584666152
B39: Tổng số lượng đơn vị quỹ đang lưu hành cuối kỳ Total number of outstanding Fund Certificate at the end of the period | C39: 2281 | D39: 7301218.1 | E39: 7358466.6 | F39: =+D39-BCTinhHinhTaiChinh_06105!D87 -> 0
A40: 4 | B40: Tỷ lệ nắm giữ chứng chỉ quỹ của công ty quản lý quỹ và người có liên quan cuối kỳ Fund Management Company and related parties' ownership ratio at the end of the period | C40: 2282 | D40: 0.7443 | E40: 0.73929824
A41: 5 | B41: Tỷ lệ nắm giữ chứng chỉ quỹ của 10 nhà đầu tư lớn nhất cuối kỳ Top 10 investors' ownership ratio at the end of the period | C41: 2283 | D41: 0.8618 | E41: 0.8597
A42: 6 | B42: Tỷ lệ nắm giữ chứng chỉ quỹ của nhà đầu tư nước ngoài cuối kỳ Foreign investors' ownership ratio at the end of the period | C42: 2284 | D42: 0.0073250503 | E42: 0.0094
...

Sheet Sheet1
B1: 155555708609 | E1: 123973113747
B2: 155552986029 | E2: 124046945711
B3: 155085383693 | E3: 122539846376
B4: 156124882926 | E4: 121675988948
B5: 157910120071 | E5: 121836245728
B6: 157582455940 | E6: 121886933925
B7: 158064562745 | E7: 121728465863
B8: 160299582548 | E8: 120679092542
B9: 160915755347 | E9: 121158920738
B10: 162087038274 | E10: 120597260851
B11: 162151199766 | E11: 120965371791
B12: 163148105783 | E12: 121252043652
... B62: 157050164095 | E62: 120169595857
B63: =SUM(B1:B62)/62 -> 1.6021171e+11 | E63: =SUM(E1:E62)/62 -> 1.2242239e+11

Sheet THU NHAP
A1: Chỉ tiêu | B1: Mã số | C1: Thuyết minh | D1: Năm N | F1: Năm N-1
D2: Kỳ này | E2: Kỳ trước | F2: Kỳ này | G2: Kỳ trước
A3: I. THU NHẬP, DOANH THU HOẠT ĐỘNG ĐẦU TƯ | B3: 01 | D3: =BCThuNhap_06203!D18 -> -1979389438 | E3: =BCThuNhap_06203!E18 -> -1558110361 | F3: =BCThuNhap_06203!F18 -> 17531698825 | G3: =BCThuNhap_06203!G18 -> 23150838059
A4: 1.1. Cổ tức được chia | B4: 02 | D4: =BCThuNhap_06203!D19 -> 1151316000 | E4: =BCThuNhap_06203!E19 -> 2155774000 | F4: =BCThuNhap_06203!F19 -> 489617300 | G4: =BCThuNhap_06203!G19 -> 1178560300
A5: 1.2. Tiền lãi được nhận | B5: 03 | D5: =BCThuNhap_06203!D22 -> 963656262 | E5: =BCThuNhap_06203!E22 -> 2477313839 | F5: =BCThuNhap_06203!F22 -> 419020725 | G5: =BCThuNhap_06203!G22 -> 1151031159
A6: 1.3. Lãi, lỗ bán các khoản đầu tư | B6: 04 | D6: =BCThuNhap_06203!D25 -> -451004629 | E6: =BCThuNhap_06203!E25 -> 3346964037 | F6: =BCThuNhap_06203!F25 -> 6528016513 | G6: =BCThuNhap_06203!G25 -> 14132069264
A7: 1.4. Chênh lệch tăng, giảm đánh giá lại các khoản đầu tư chưa thực hiện | B7: 05 | D7: =BCThuNhap_06203!D26 -> -3643357071 | E7: =BCThuNhap_06203!E26 -> -9538162237 | F7: =BCThuNhap_06203!F26 -> 10095044287 | G7: =BCThuNhap_06203!G26 -> 6689177336
A8: 1.5. Doanh thu khác | B8: 06 | D8: =BCThuNhap_06203!D27 -> 0 | E8: =BCThuNhap_06203!E27 -> 0 | F8: =BCThuNhap_06203!F27 -> 0 | G8: =BCThuNhap_06203!G27 -> 0
A9: 1.6. Chênh lệch lãi, lỗ tỷ giá hối đoái đã và chưa thực hiện | B9: 07 | D9: =BCThuNhap_06203!D28 -> 0 | E9: =BCThuNhap_06203!E28 -> 0 | F9: =BCThuNhap_06203!F28 -> 0 | G9: =BCThuNhap_06203!G28 -> 0
A10: 1.7. Doanh thu khác về đầu tư | B10: 08 | D10: =BCThuNhap_06203!D29 -> 0 | E10: =BCThuNhap_06203!E29 -> 0 | F10: =BCThuNhap_06203!F29 -> 0 | G10: =BCThuNhap_06203!G29 -> 0
A11: 1.8. Dự phòng nợ phải thu và dự thu khó đòi về cổ tức, tiền lãi và xử lý tổn thất nợ phải thu khó đòi về cổ tức, tiền lãi | B11: 09 | D11: =BCThuNhap_06203!D30 -> 0 | E11: =BCThuNhap_06203!E30 -> 0 | F11: =BCThuNhap_06203!F30 -> 0 | G11: =BCThuNhap_06203!G30 -> 0
A12: II. CHI PHÍ ĐẦU TƯ | B12: 10 | D12: =BCThuNhap_06203!D31 -> 141983727 | E12: =BCThuNhap_06203!E31 -> 684113931 | F12: =BCThuNhap_06203!F31 -> 183089026 | G12: =BCThuNhap_06203!G31 -> 437240953
A13: 2.1. Chi phí giao dịch mua, bán các khoản đầu tư | B13: 11 | D13: =BCThuNhap_06203!D32 -> 141983727 | E13: =BCThuNhap_06203!E32 -> 684113931 | F13: =BCThuNhap_06203!F32 -> 183089026 | G13: =BCThuNhap_06203!G32 -> 437240953
A14: 2.2.Chi phí dự phòng nợ phải thu khó đòi và xử lý tổn thất phải thu khó đòi | B14: 12 | D14: =BCThuNhap_06203!D35 -> 0 | E14: =BCThuNhap_06203!E35 -> 0 | F14: =BCThuNhap_06203!F35 -> 0 | G14: =BCThuNhap_06203!G35 -> 0
A15: 2.3. Chi phí lãi vay | B15: 13 | D15: =BCThuNhap_06203!D36 -> 0 | E15: =BCThuNhap_06203!E36 -> 0 | F15: =BCThuNhap_06203!F36 -> 0 | G15: =BCThuNhap_06203!G36 -> 0
A16: 2.4. Chi phí dự phòng giảm giá tài sản nhận thế chấp và xử lý tổn thất các khoản đầu tư cho vay có tài sản nhận thế chấp | B16: 14 | D16: =BCThuNhap_06203!D37 -> 0 | E16: =BCThuNhap_06203!E37 -> 0 | F16: =BCThuNhap_06203!F37 -> 0 | G16: =BCThuNhap_06203!G37 -> 0
A17: 2.5.Chi phí đầu tư khác | B17: 15 | D17: =BCThuNhap_06203!D38 -> 0 | E17: =BCThuNhap_06203!E38 -> 0 | F17: =BCThuNhap_06203!F38 -> 0 | G17: =BCThuNhap_06203!G38 -> 0
A18: III. CHI PHÍ HOẠT ĐỘNG QUỸ MỞ | B18: 20 | D18: =BCThuNhap_06203!D39 -> 748813079 | E18: =BCThuNhap_06203!E39 -> 2304662678 | F18: =BCThuNhap_06203!F39 -> 693587949 | G18: =BCThuNhap_06203!G39 -> 1909311042
A19: 3.1.Phí quản lý Quỹ mở | B19: 20.1 | D19: =BCThuNhap_06203!D40 -> 471201191 | E19: =BCThuNhap_06203!E40 -> 1420949957 | F19: =BCThuNhap_06203!F40 -> 432730834 | G19: =BCThuNhap_06203!G40 -> 1151257154
A20: 3.2. Phí dịch vụ lưu ký tài sản Quỹ mở | B20: 20.2 | D20: =BCThuNhap_06203!D41 -> 91990530 | E20: =BCThuNhap_06203!E41 -> 327898045 | F20: =BCThuNhap_06203!F41 -> 103375017 | G20: =BCThuNhap_06203!G41 -> 281558077
A21: 3.3. Phí dịch vụ giám sát | B21: 20.3 | D21: =BCThuNhap_06203!D45 -> 16500000 | E21: =BCThuNhap_06203!E45 -> 49500000 | F21: =BCThuNhap_06203!F45 -> 16500000 | G21: =BCThuNhap_06203!G45 -> 49500000
A22: 3.4. Phí dịch vụ quản trị Quỹ mở | B22: 20.4 | D22: =BCThuNhap_06203!D46 -> 49500000 | E22: =BCThuNhap_06203!E46 -> 148500000 | F22: =BCThuNhap_06203!F46 -> 49500000 | G22: =BCThuNhap_06203!G46 -> 148500000
A23: 3.5. Phí dịch vụ Đại lý chuyển nhượng | B23: 20.5 | D23: =BCThuNhap_06203!D47 -> 39600000 | E23: =BCThuNhap_06203!E47 -> 118800000 | F23: =BCThuNhap_06203!F47 -> 39600000 | G23: =BCThuNhap_06203!G47 -> 118800000
A24: 3.6. Phí dịch vụ khác của Nhà cung cấp dịch vụ cho Quỹ mở | B24: 20.6 | D24: =BCThuNhap_06203!D48 -> 0 | E24: =BCThuNhap_06203!E48 -> 0 | F24: =BCThuNhap_06203!F48 -> 0 | G24: =BCThuNhap_06203!G48 -> 0
A25: 3.7. Chi phí họp, Đại hội Quỹ mở | B25: 20.7 | D25: =BCThuNhap_06203!D49 -> 0 | E25: =BCThuNhap_06203!E49 -> 0 | F25: =BCThuNhap_06203!F49 -> 0 | G25: =BCThuNhap_06203!G49 -> 0
A26: 3.8. Chi phí kiểm toán | B26: 20.8 | D26: =BCThuNhap_06203!D50 -> 30246564 | E26: =BCThuNhap_06203!E50 -> 89753392 | F26: =BCThuNhap_06203!F50 -> 30246564 | G26: =BCThuNhap_06203!G50 -> 89753392
A27: 3.9. Chi phí thanh lý tài sản Quỹ mở | B27: 20.9 | D27: =BCThuNhap_06203!D51 -> 0 | E27: =BCThuNhap_06203!E51 -> 0 | F27: =BCThuNhap_06203!F51 -> 0 | G27: =BCThuNhap_06203!G51 -> 0
A28: 3.10. Chi phí hoạt động khác | B28: 20.10 | D28: =BCThuNhap_06203!D52 -> 49774794 | E28: =BCThuNhap_06203!E52 -> 149261284 | F28: =BCThuNhap_06203!F52 -> 21635534 | G28: =BCThuNhap_06203!G52 -> 69942419
A29: IV. KẾT QUẢ HOẠT ĐỘNG ĐẦU TƯ (23=01-10-20) | B29: 23 | D29: =BCThuNhap_06203!D64 -> -2870186244 | E29: =BCThuNhap_06203!E64 -> -4546886970 | F29: =BCThuNhap_06203!F64 -> 16655021850 | G29: =BCThuNhap_06203!G64 -> 20804286064
A30: V. KẾT QUẢ THU NHẬP VÀ CHI PHÍ KHÁC | B30: 24 | D30: =BCThuNhap_06203!D65 -> 0 | E30: =BCThuNhap_06203!E65 -> 0 | F30: =BCThuNhap_06203!F65 -> 0 | G30: =BCThuNhap_06203!G65 -> 0
A31: 5.1. Thu nhập khác | B31: 24.1 | D31: =BCThuNhap_06203!D66 -> 0 | E31: =BCThuNhap_06203!E66 -> 0 | F31: =BCThuNhap_06203!F66 -> 0 | G31: =BCThuNhap_06203!G66 -> 0
A32: 5.2. Chi phí khác | B32: 24.2 | D32: =BCThuNhap_06203!D67 -> 0 | E32: =BCThuNhap_06203!E67 -> 0 | F32: =BCThuNhap_06203!F67 -> 0 | G32: =BCThuNhap_06203!G67 -> 0
A33: VI. TỔNG LỢI NHUẬN KẾ TOÁN TRƯỚC THUẾ (30=23 + 24) | B33: 30 | D33: =BCThuNhap_06203!D68 -> -2870186244 | E33: =BCThuNhap_06203!E68 -> -4546886970 | F33: =BCThuNhap_06203!F68 -> 16655021850 | G33: =BCThuNhap_06203!G68 -> 20804286064
A34: 6.1. Lợi nhuận đã thực hiện | B34: 31 | D34: =BCThuNhap_06203!D69 -> 773170827 | E34: =BCThuNhap_06203!E69 -> 4991275267 | F34: =BCThuNhap_06203!F69 -> 6559977563 | G34: =BCThuNhap_06203!G69 -> 14115108728
A35: 6.2. Lợi nhuận chưa thực hiện | B35: 32 | D35: =BCThuNhap_06203!D70 -> -3643357071 | E35: =BCThuNhap_06203!E70 -> -9538162237 | F35: =BCThuNhap_06203!F70 -> 10095044287 | G35: =BCThuNhap_06203!G70 -> 6689177336
A36: VII. CHI PHÍ THUẾ TNDN | B36: 40
A37: VIII. LỢI NHUẬN KẾ TOÁN SAU THUẾ TNDN (41 = 30 - 40) | B37: 41 | D37: =BCThuNhap_06203!D72 -> -2870186244 | E37: =BCThuNhap_06203!E72 -> -4546886970 | F37: =BCThuNhap_06203!F72 -> 16655021850 | G37: =BCThuNhap_06203!G72 -> 20804286064

Sheet TAI CHINH
A1: Chỉ tiêu | B1: Mã số | C1: Thuyết minh | D1: Năm N | E1: Năm N-1
A2: I. TÀI SẢN | B2: I
A3: 1.Tiền gửi ngân hàng và tương đương tiền | B3: 110 | D3: =BCTinhHinhTaiChinh_06105!D18 -> 12057506543 | E3: =BCTinhHinhTaiChinh_06105!E18 -> 9446760417
A4: 1.1. Tiền gửi ngân hàng cho hoạt động của Quỹ mở | B4: 111 | D4: =BCTinhHinhTaiChinh_06105!D19 -> 7057506543 | E4: =BCTinhHinhTaiChinh_06105!E19 -> 2446760417
A5: 1.2. Tiền gửi có kỳ hạn dưới 3 tháng | B5: 112 | D5: =BCTinhHinhTaiChinh_06105!D23 -> 5000000000 | E5: =BCTinhHinhTaiChinh_06105!E23 -> 7000000000
A6: 2. Các khoản đầu tư thuần | B6: 120 | D6: =BCTinhHinhTaiChinh_06105!D24 -> 142417827499 | E6: =BCTinhHinhTaiChinh_06105!E24 -> 151132867826
A7: 2.1. Các khoản đầu tư | B7: 121 | D7: =BCTinhHinhTaiChinh_06105!D25 -> 142417827499 | E7: =BCTinhHinhTaiChinh_06105!E25 -> 151132867826
A8: 2.2. Dự phòng giảm giá tài sản nhận thế chấp | B8: 122 | D8: =BCTinhHinhTaiChinh_06105!D32 -> 0 | E8: =BCTinhHinhTaiChinh_06105!E32 -> 0
A9: 3. Các khoản phải thu | B9: 130 | D9: =BCTinhHinhTaiChinh_06105!D33 -> 3748179119 | E9: =BCTinhHinhTaiChinh_06105!E33 -> 647222670
A10: 3.1 Phải thu về bán các khoản đầu tư | B10: 131 | D10: =BCTinhHinhTaiChinh_06105!D34 -> 2631771411 | E10: =BCTinhHinhTaiChinh_06105!E34 -> 0
A11: Trong đó: Phải thu khó đòi về bán các khoản đầu tư | B11: 132
A12: 3.2. Phải thu và dự thu cổ tức, tiền lãi các khoản đầu tư | B12: 133 | D12: =BCTinhHinhTaiChinh_06105!D35 -> 1116407708 | E12: =BCTinhHinhTaiChinh_06105!E35 -> 647222670
A13: 3.2.1. Phải thu cổ tức, tiền lãi đến ngày nhận | B13: 134 | D13: =BCTinhHinhTaiChinh_06105!D36 -> 0 | E13: =BCTinhHinhTaiChinh_06105!E36 -> 0
A14: Trong đó: Phải thu khó đòi về cổ tức, tiền lãi đến ngày nhận nhưng chưa nhận được | B14: 135
A15: 3.2.2 Dự thu cổ tức, tiền lãi chưa đến ngày nhận | B15: 136 | D15: =BCTinhHinhTaiChinh_06105!D38 -> 1116407708 | E15: =BCTinhHinhTaiChinh_06105!E38 -> 647222670
A16: 3.3. Các khoản phải thu khác | B16: 137 | D16: =BCTinhHinhTaiChinh_06105!D44 -> 0 | E16: =BCTinhHinhTaiChinh_06105!E44 -> 0
A17: 3.4. Dự phòng nợ phải thu khó đòi (*) | B17: 138 | D17: =BCTinhHinhTaiChinh_06105!D45 -> 0 | E17: =BCTinhHinhTaiChinh_06105!E45 -> 0
A18: TỔNG TÀI SẢN | B18: 100 | D18: =BCTinhHinhTaiChinh_06105!D46 -> 158223513161 | E18: =BCTinhHinhTaiChinh_06105!E46 -> 161226850913
A19: II. NỢ PHẢI TRẢ | B19: II
A20: 1. Vay ngắn hạn | B20: 311 | D20: =BCTinhHinhTaiChinh_06105!D48 -> 0 | E20: =BCTinhHinhTaiChinh_06105!E48 -> 0
A21: 2. Phải trả về mua các khoản đầu tư | B21: 312 | D21: =BCTinhHinhTaiChinh_06105!D49 -> 2804820932 | E21: =BCTinhHinhTaiChinh_06105!E49 -> 1705334170
A22: 3. Phải trả cho các Đại lý phân phối Chứng chỉ quỹ | B22: 313 | D22: =BCTinhHinhTaiChinh_06105!D50 -> 17923891 | E22: =BCTinhHinhTaiChinh_06105!E50 -> 4663044
A23: 4. Thuế và các khoản phải nộp Nhà nước | B23: 314 | D23: =BCTinhHinhTaiChinh_06105!D51 -> 3603507 | E23: =BCTinhHinhTaiChinh_06105!E51 -> 1866426
A24: 5.Phải trả thu nhập cho Nhà đầu tư | B24: 315 | D24: =BCTinhHinhTaiChinh_06105!D52 -> 407334 | E24: =BCTinhHinhTaiChinh_06105!E52 -> 407334
A25: 6. Chi phí phải trả | B25: 316 | D25: =BCTinhHinhTaiChinh_06105!D53 -> 78993176 | E25: =BCTinhHinhTaiChinh_06105!E53 -> 102486318
A26: 7. Phải trả cho Nhà đầu tư về mua Chứng chỉ quỹ | B26: 317 | D26: =BCTinhHinhTaiChinh_06105!D61 -> 10750000 | E26: =BCTinhHinhTaiChinh_06105!E61 -> 16800000
A27: 8. Phải trả cho Nhà đầu tư về mua lại Chứng chỉ quỹ | B27: 318 | D27: =BCTinhHinhTaiChinh_06105!D62 -> 11296 | E27: =BCTinhHinhTaiChinh_06105!E62 -> 11296
A28: 9. Phải trả dịch vụ quản lý Quỹ mở | B28: 319 | D28: =BCTinhHinhTaiChinh_06105!D63 -> 211080965 | E28: =BCTinhHinhTaiChinh_06105!E63 -> 211923603
A29: 10. Phải trả, phải nộp khác | B29: 320 | D29: =BCTinhHinhTaiChinh_06105!D71 -> 0 | E29: =BCTinhHinhTaiChinh_06105!E71 -> 0
A30: TỔNG NỢ PHẢI TRẢ | B30: 300 | D30: =BCTinhHinhTaiChinh_06105!D72 -> 3127591101 | E30: =BCTinhHinhTaiChinh_06105!E72 -> 2043492191
A31: III. GIÁ TRỊ TÀI SẢN RÒNG CÓ THỂ PHÂN PHỐI CHO NHÀ ĐẦU TƯ NẮM GIỮ CHỨNG CHỈ QUỸ MỞ (I-II) | B31: 400 | D31: =BCTinhHinhTaiChinh_06105!D73 -> 155095922060 | E31: =BCTinhHinhTaiChinh_06105!E73 -> 159183358722
A32: 1. Vốn góp của Nhà đầu tư | B32: 411 | D32: =BCTinhHinhTaiChinh_06105!D74 -> 73012181252 | E32: =BCTinhHinhTaiChinh_06105!E74 -> 73584666152
A33: 1.1 Vốn góp phát hành | B33: 412 | D33: =BCTinhHinhTaiChinh_06105!D75 -> 158232561152 | E33: =BCTinhHinhTaiChinh_06105!E75 -> 156920828352
A34: 1.2 Vốn góp mua lại | B34: 413 | D34: =BCTinhHinhTaiChinh_06105!D76 -> -85220379900 | E34: =BCTinhHinhTaiChinh_06105!E76 -> -83336162200
A35: 2. Thặng dư vốn góp của Nhà đầu tư | B35: 414 | D35: =BCTinhHinhTaiChinh_06105!D77 -> 14159334054 | E35: =BCTinhHinhTaiChinh_06105!E77 -> 14804099572
A36: 3. Lợi nhuận chưa phân phối | B36: 420 | D36: =BCTinhHinhTaiChinh_06105!D78 -> 67924406754 | E36: =BCTinhHinhTaiChinh_06105!E78 -> 70794592998
A37: IV. GIÁ TRỊ TÀI SẢN RÒNG QUỸ MỞ TRÊN 1 ĐƠN VỊ CHỨNG CHỈ QUỸ (IV=(I-II)/III) | B37: 430 | D37: =BCTinhHinhTaiChinh_06105!D79 -> 21242.47 | E37: =BCTinhHinhTaiChinh_06105!E79 -> 21632.68
A38: V. LỢI NHUẬN ĐÃ PHÂN PHỐI CHO NHÀ ĐẦU TƯ | B38: 440
A39: 1. Lợi nhuận/Tài sản đã phân phối cho Nhà đầu tư trong năm | B39: 441 | D39: =BCTinhHinhTaiChinh_06105!D81 -> 0 | E39: =BCTinhHinhTaiChinh_06105!E81 -> 0
A40: 2. Lợi nhuận đã phân phối cho Nhà đầu tư lũy kế từ khi thành lập Quỹ mở đến kỳ lập báo cáo này | B40: 442 | D40: =BCTinhHinhTaiChinh_06105!D82 -> 21452073549 | E40: =BCTinhHinhTaiChinh_06105!E82 -> 21452073549
...

Sheet LCTT
A1: Chỉ tiêu | B1: Mã số | C1: Thuyết minh | D1: Năm N | E1: Năm N-1
A2: I. Lưu chuyển tiền từ hoạt động đầu tư | B2: I
A3: 1. Lợi nhuận trước Thuế thu nhập doanh nghiệp | B3: 01 | D3: =BCLCGT_06262!D18 -> -2870186244 | E3: =BCLCGT_06262!E18 -> 1930685646
A4: 2. Điều chỉnh cho các khoản tăng giá trị tài sản ròng từ các hoạt động đầu tư | B4: 02 | D4: =BCLCGT_06262!D19 -> 3619863929 | E4: =BCLCGT_06262!E19 -> -341617397
A5: (- lãi) hoặc (+ lỗ) chênh lệch tỷ giá hối đoái chưa thực hiện | B5: 03 | D5: =BCLCGT_06262!D20 -> 3643357071 | E5: =BCLCGT_06262!E20 -> -332081789
A6: (+) chi phí trích trước | B6: 04 | D6: =BCLCGT_06262!D21 -> -23493142 | E6: =BCLCGT_06262!E21 -> -9535608
A7: 3. Lợi nhuận từ hoạt động đầu tư trước thay đổi vốn lưu động | B7: 05 | D7: =BCLCGT_06262!D22 -> 749677685 | E7: =BCLCGT_06262!E22 -> 1589068249
A8: (-) Tăng, (+) giảm các khoản đầu tư | B8: 20 | D8: =BCLCGT_06262!D23 -> 5071683256 | E8: =BCLCGT_06262!E23 -> -21248772812
A9: (-) Tăng, (+) giảm phải thu bán chứng khoán đầu tư | B9: 06 | D9: =BCLCGT_06262!D24 -> -2631771411 | E9: =BCLCGT_06262!E24 -> 3622737730
A10: (-) Tăng, (+) giảm dự thu phải thu tiền lãi các khoản đầu tư | B10: 07 | D10: =BCLCGT_06262!D25 -> -469185038 | E10: =BCLCGT_06262!E25 -> -87349794
A11: (-) Tăng, (+) giảm các khoản phải thu khác | B11: 08 | D11: =BCLCGT_06262!D26 -> 0 | E11: =BCLCGT_06262!E26 -> 0
A12: (+) Tăng, (-) giảm vay ngắn hạn | B12: 09 | D12: =BCLCGT_06262!D27 -> 0 | E12: =BCLCGT_06262!E27 -> 0
A13: (+) Tăng, (-) giảm phải trả cho người bán | B13: 10 | D13: =BCLCGT_06262!D28 -> 1099486762 | E13: =BCLCGT_06262!E28 -> -1985078158
A14: (+) Tăng, (-) giảm phải trả các Đại lý phân phối Chứng chỉ quỹ | B14: 11 | D14: =BCLCGT_06262!D29 -> 13260847 | E14: =BCLCGT_06262!E29 -> -15089778
... A22: Lưu chuyển tiền thuần từ hoạt động đầu tư (1 + 2 + 3) | B22: 19 | D22: =BCLCGT_06262!D37 -> 3827996544 | E22: =BCLCGT_06262!E37 -> -18159304898
